BEGIN:VCALENDAR
VERSION:2.0
PRODID:-//Anci FVG - ECPv6.15.12.2//NONSGML v1.0//EN
CALSCALE:GREGORIAN
METHOD:PUBLISH
X-ORIGINAL-URL:https://anci.fvg.it
X-WR-CALDESC:Eventi per Anci FVG
REFRESH-INTERVAL;VALUE=DURATION:PT1H
X-Robots-Tag:noindex
X-PUBLISHED-TTL:PT1H
BEGIN:VTIMEZONE
TZID:Europe/Rome
BEGIN:DAYLIGHT
TZOFFSETFROM:+0100
TZOFFSETTO:+0200
TZNAME:CEST
DTSTART:20220327T010000
END:DAYLIGHT
BEGIN:STANDARD
TZOFFSETFROM:+0200
TZOFFSETTO:+0100
TZNAME:CET
DTSTART:20221030T010000
END:STANDARD
BEGIN:DAYLIGHT
TZOFFSETFROM:+0100
TZOFFSETTO:+0200
TZNAME:CEST
DTSTART:20230326T010000
END:DAYLIGHT
BEGIN:STANDARD
TZOFFSETFROM:+0200
TZOFFSETTO:+0100
TZNAME:CET
DTSTART:20231029T010000
END:STANDARD
BEGIN:DAYLIGHT
TZOFFSETFROM:+0100
TZOFFSETTO:+0200
TZNAME:CEST
DTSTART:20240331T010000
END:DAYLIGHT
BEGIN:STANDARD
TZOFFSETFROM:+0200
TZOFFSETTO:+0100
TZNAME:CET
DTSTART:20241027T010000
END:STANDARD
BEGIN:DAYLIGHT
TZOFFSETFROM:+0100
TZOFFSETTO:+0200
TZNAME:CEST
DTSTART:20250330T010000
END:DAYLIGHT
BEGIN:STANDARD
TZOFFSETFROM:+0200
TZOFFSETTO:+0100
TZNAME:CET
DTSTART:20251026T010000
END:STANDARD
END:VTIMEZONE
BEGIN:VEVENT
DTSTART;TZID=Europe/Rome:20231031T180000
DTEND;TZID=Europe/Rome:20240522T190000
DTSTAMP:20260424T122917
CREATED:20231018T081238Z
LAST-MODIFIED:20240328T102514Z
UID:44587-1698775200-1716404400@anci.fvg.it
SUMMARY:Scuola di Politica ed Etica sociale
DESCRIPTION:   1 aprile 2026  Dalle ore 10:00 alle ore 12:00  Sede Sport e Salute a Pordenone\, Viale della Libertà 75  Momento di confronto\, per le Amministrazioni comunali\, utile a fornire nuove informazioni concrete sui finanziamenti per l’impiantistica sportiva\, le opportunità per l’efficientamento energetico e tutti gli strumenti a disposizione del sistema sport🔖  INVITO – Insieme per il Territorio – PORDENONE   La partecipazione è libera previa iscrizione inquadrando il QR code  
URL:https://anci.fvg.it/evento/scuola-di-politica-ed-etica-sociale/
LOCATION:Polo universitario Palazzo Garzolini-Di Toppo-Wasserman\, Via Gemona 92\, Udine\, Italy
CATEGORIES:Altri organizzatori: eventi esterni di interesse degli Enti locali
ATTACH;FMTTYPE=image/png:https://anci.fvg.it/wp-content/uploads/2023/10/Cattura.png
END:VEVENT
BEGIN:VEVENT
DTSTART;TZID=Europe/Rome:20240312T143000
DTEND;TZID=Europe/Rome:20240312T160000
DTSTAMP:20260424T122918
CREATED:20240228T090938Z
LAST-MODIFIED:20260316T140726Z
UID:46541-1710253800-1710259200@anci.fvg.it
SUMMARY:CER: dalle ipotesi alla realtà
DESCRIPTION:   1 aprile 2026  Dalle ore 10:00 alle ore 12:00  Sede Sport e Salute a Pordenone\, Viale della Libertà 75  Momento di confronto\, per le Amministrazioni comunali\, utile a fornire nuove informazioni concrete sui finanziamenti per l’impiantistica sportiva\, le opportunità per l’efficientamento energetico e tutti gli strumenti a disposizione del sistema sport🔖  INVITO – Insieme per il Territorio – PORDENONE   La partecipazione è libera previa iscrizione inquadrando il QR code  
URL:https://anci.fvg.it/evento/cer-dalle-ipotesi-alla-realta/
LOCATION:Centro cultura Zanussi\, Via Concordia 7\, Pordenone
CATEGORIES:Altri organizzatori: eventi esterni di interesse degli Enti locali
ATTACH;FMTTYPE=image/jpeg:https://anci.fvg.it/wp-content/uploads/2024/02/cer.jpg
END:VEVENT
BEGIN:VEVENT
DTSTART;TZID=Europe/Rome:20240313T100000
DTEND;TZID=Europe/Rome:20240313T113000
DTSTAMP:20260424T122918
CREATED:20240228T091057Z
LAST-MODIFIED:20260316T140805Z
UID:46545-1710324000-1710329400@anci.fvg.it
SUMMARY:CER: dalle ipotesi alla realtà
DESCRIPTION:   1 aprile 2026  Dalle ore 10:00 alle ore 12:00  Sede Sport e Salute a Pordenone\, Viale della Libertà 75  Momento di confronto\, per le Amministrazioni comunali\, utile a fornire nuove informazioni concrete sui finanziamenti per l’impiantistica sportiva\, le opportunità per l’efficientamento energetico e tutti gli strumenti a disposizione del sistema sport🔖  INVITO – Insieme per il Territorio – PORDENONE   La partecipazione è libera previa iscrizione inquadrando il QR code  
URL:https://anci.fvg.it/evento/cer-dalle-ipotesi-alla-realta-go/
LOCATION:Sala incontri Parrocchia San Rocco\, Via Veniero 1\, Gorizia
CATEGORIES:Altri organizzatori: eventi esterni di interesse degli Enti locali
ATTACH;FMTTYPE=image/jpeg:https://anci.fvg.it/wp-content/uploads/2024/02/cer.jpg
END:VEVENT
BEGIN:VEVENT
DTSTART;TZID=Europe/Rome:20240313T150000
DTEND;TZID=Europe/Rome:20240313T163000
DTSTAMP:20260424T122918
CREATED:20240228T091346Z
LAST-MODIFIED:20260316T140840Z
UID:46549-1710342000-1710347400@anci.fvg.it
SUMMARY:CER: dalle ipotesi alla realtà
DESCRIPTION:   1 aprile 2026  Dalle ore 10:00 alle ore 12:00  Sede Sport e Salute a Pordenone\, Viale della Libertà 75  Momento di confronto\, per le Amministrazioni comunali\, utile a fornire nuove informazioni concrete sui finanziamenti per l’impiantistica sportiva\, le opportunità per l’efficientamento energetico e tutti gli strumenti a disposizione del sistema sport🔖  INVITO – Insieme per il Territorio – PORDENONE   La partecipazione è libera previa iscrizione inquadrando il QR code  
URL:https://anci.fvg.it/evento/cer-dalle-ipotesi-alla-realta-ug/
LOCATION:Casa dell’Immacolata\, Via Chisimaio 40\, Udine
CATEGORIES:Altri organizzatori: eventi esterni di interesse degli Enti locali
ATTACH;FMTTYPE=image/jpeg:https://anci.fvg.it/wp-content/uploads/2024/02/cer.jpg
END:VEVENT
BEGIN:VEVENT
DTSTART;TZID=Europe/Rome:20240314T103000
DTEND;TZID=Europe/Rome:20240314T120000
DTSTAMP:20260424T122918
CREATED:20240228T091500Z
LAST-MODIFIED:20260316T140923Z
UID:46552-1710412200-1710417600@anci.fvg.it
SUMMARY:CER: dalle ipotesi alla realtà
DESCRIPTION:   1 aprile 2026  Dalle ore 10:00 alle ore 12:00  Sede Sport e Salute a Pordenone\, Viale della Libertà 75  Momento di confronto\, per le Amministrazioni comunali\, utile a fornire nuove informazioni concrete sui finanziamenti per l’impiantistica sportiva\, le opportunità per l’efficientamento energetico e tutti gli strumenti a disposizione del sistema sport🔖  INVITO – Insieme per il Territorio – PORDENONE   La partecipazione è libera previa iscrizione inquadrando il QR code  
URL:https://anci.fvg.it/evento/cer-dalle-ipotesi-alla-realta-ts/
LOCATION:Museo Sartorio\, Largo Papa Giovanni XXIII 1\, Trieste
CATEGORIES:Altri organizzatori: eventi esterni di interesse degli Enti locali
ATTACH;FMTTYPE=image/jpeg:https://anci.fvg.it/wp-content/uploads/2024/02/cer.jpg
END:VEVENT
BEGIN:VEVENT
DTSTART;TZID=Europe/Rome:20240326T153000
DTEND;TZID=Europe/Rome:20240326T180000
DTSTAMP:20260424T122918
CREATED:20240318T111150Z
LAST-MODIFIED:20240319T073534Z
UID:46880-1711467000-1711476000@anci.fvg.it
SUMMARY:La burocrazia difensiva nella PA: la paura della firma
DESCRIPTION:   1 aprile 2026  Dalle ore 10:00 alle ore 12:00  Sede Sport e Salute a Pordenone\, Viale della Libertà 75  Momento di confronto\, per le Amministrazioni comunali\, utile a fornire nuove informazioni concrete sui finanziamenti per l’impiantistica sportiva\, le opportunità per l’efficientamento energetico e tutti gli strumenti a disposizione del sistema sport🔖  INVITO – Insieme per il Territorio – PORDENONE   La partecipazione è libera previa iscrizione inquadrando il QR code  
URL:https://anci.fvg.it/evento/la-burocrazia-difensiva-nella-pa-la-paura-della-firma/
LOCATION:Università degli Studi di Udine
CATEGORIES:Altri organizzatori: eventi esterni di interesse degli Enti locali
ATTACH;FMTTYPE=image/jpeg:https://anci.fvg.it/wp-content/uploads/2024/03/26-marzo-2024-scaled.jpg
END:VEVENT
END:VCALENDAR