BEGIN:VCALENDAR
VERSION:2.0
PRODID:-//Anci FVG - ECPv6.15.12.2//NONSGML v1.0//EN
CALSCALE:GREGORIAN
METHOD:PUBLISH
X-WR-CALNAME:Anci FVG
X-ORIGINAL-URL:https://anci.fvg.it
X-WR-CALDESC:Eventi per Anci FVG
REFRESH-INTERVAL;VALUE=DURATION:PT1H
X-Robots-Tag:noindex
X-PUBLISHED-TTL:PT1H
BEGIN:VTIMEZONE
TZID:Europe/Rome
BEGIN:DAYLIGHT
TZOFFSETFROM:+0100
TZOFFSETTO:+0200
TZNAME:CEST
DTSTART:20220327T010000
END:DAYLIGHT
BEGIN:STANDARD
TZOFFSETFROM:+0200
TZOFFSETTO:+0100
TZNAME:CET
DTSTART:20221030T010000
END:STANDARD
BEGIN:DAYLIGHT
TZOFFSETFROM:+0100
TZOFFSETTO:+0200
TZNAME:CEST
DTSTART:20230326T010000
END:DAYLIGHT
BEGIN:STANDARD
TZOFFSETFROM:+0200
TZOFFSETTO:+0100
TZNAME:CET
DTSTART:20231029T010000
END:STANDARD
BEGIN:DAYLIGHT
TZOFFSETFROM:+0100
TZOFFSETTO:+0200
TZNAME:CEST
DTSTART:20240331T010000
END:DAYLIGHT
BEGIN:STANDARD
TZOFFSETFROM:+0200
TZOFFSETTO:+0100
TZNAME:CET
DTSTART:20241027T010000
END:STANDARD
BEGIN:DAYLIGHT
TZOFFSETFROM:+0100
TZOFFSETTO:+0200
TZNAME:CEST
DTSTART:20250330T010000
END:DAYLIGHT
BEGIN:STANDARD
TZOFFSETFROM:+0200
TZOFFSETTO:+0100
TZNAME:CET
DTSTART:20251026T010000
END:STANDARD
END:VTIMEZONE
BEGIN:VEVENT
DTSTART;TZID=Europe/Rome:20231031T180000
DTEND;TZID=Europe/Rome:20240522T190000
DTSTAMP:20260422T191948
CREATED:20231018T081238Z
LAST-MODIFIED:20240328T102514Z
UID:44587-1698775200-1716404400@anci.fvg.it
SUMMARY:Scuola di Politica ed Etica sociale
DESCRIPTION:   1 aprile 2026  Dalle ore 10:00 alle ore 12:00  Sede Sport e Salute a Pordenone\, Viale della Libertà 75  Momento di confronto\, per le Amministrazioni comunali\, utile a fornire nuove informazioni concrete sui finanziamenti per l’impiantistica sportiva\, le opportunità per l’efficientamento energetico e tutti gli strumenti a disposizione del sistema sport🔖  INVITO – Insieme per il Territorio – PORDENONE   La partecipazione è libera previa iscrizione inquadrando il QR code  
URL:https://anci.fvg.it/evento/scuola-di-politica-ed-etica-sociale/
LOCATION:Polo universitario Palazzo Garzolini-Di Toppo-Wasserman\, Via Gemona 92\, Udine\, Italy
CATEGORIES:Altri organizzatori: eventi esterni di interesse degli Enti locali
ATTACH;FMTTYPE=image/png:https://anci.fvg.it/wp-content/uploads/2023/10/Cattura.png
END:VEVENT
BEGIN:VEVENT
DTSTART;TZID=Europe/Rome:20240405T143000
DTEND;TZID=Europe/Rome:20240405T180000
DTSTAMP:20260422T191949
CREATED:20240328T095636Z
LAST-MODIFIED:20240328T100641Z
UID:47040-1712327400-1712340000@anci.fvg.it
SUMMARY:Alberi monumentali FVG: norme tecniche e nuovo regolamento per la concessione di contributi
DESCRIPTION:   1 aprile 2026  Dalle ore 10:00 alle ore 12:00  Sede Sport e Salute a Pordenone\, Viale della Libertà 75  Momento di confronto\, per le Amministrazioni comunali\, utile a fornire nuove informazioni concrete sui finanziamenti per l’impiantistica sportiva\, le opportunità per l’efficientamento energetico e tutti gli strumenti a disposizione del sistema sport🔖  INVITO – Insieme per il Territorio – PORDENONE   La partecipazione è libera previa iscrizione inquadrando il QR code  
URL:https://anci.fvg.it/evento/alberi-monumentali-fvg-norme-tecniche-e-nuovo-regolamento-per-la-concessione-di-contributi/
LOCATION:Sala convegni Villa Manin\, Stradone Manin 10\, Passariano di Codroipo\, Italia
CATEGORIES:Altri organizzatori: eventi esterni di interesse degli Enti locali
ATTACH;FMTTYPE=image/png:https://anci.fvg.it/wp-content/uploads/2024/03/alberi.png
END:VEVENT
BEGIN:VEVENT
DTSTART;TZID=Europe/Rome:20240410T143000
DTEND;TZID=Europe/Rome:20240410T183000
DTSTAMP:20260422T191949
CREATED:20240402T055940Z
LAST-MODIFIED:20260316T141119Z
UID:47099-1712759400-1712773800@anci.fvg.it
SUMMARY:La medicina di genere come determinante di salute: equita’ ed appropriatezza delle cure in Friuli Venezia Giulia
DESCRIPTION:   1 aprile 2026  Dalle ore 10:00 alle ore 12:00  Sede Sport e Salute a Pordenone\, Viale della Libertà 75  Momento di confronto\, per le Amministrazioni comunali\, utile a fornire nuove informazioni concrete sui finanziamenti per l’impiantistica sportiva\, le opportunità per l’efficientamento energetico e tutti gli strumenti a disposizione del sistema sport🔖  INVITO – Insieme per il Territorio – PORDENONE   La partecipazione è libera previa iscrizione inquadrando il QR code  
URL:https://anci.fvg.it/evento/la-medicina-di-genere-come-determinante-di-salute-equita-ed-appropriatezza-delle-cure-in-friuli-venezia-giulia/
LOCATION:Ex Convento San Francesco\, Piazza della Motta 2\, Pordenone
CATEGORIES:Altri organizzatori: eventi esterni di interesse degli Enti locali,Seminari tematici e visite studio
ATTACH;FMTTYPE=image/jpeg:https://anci.fvg.it/wp-content/uploads/2024/04/Locandina-A3-LA-MEDICINA-DI-GENERE-.jpg
END:VEVENT
BEGIN:VEVENT
DTSTART;TZID=Europe/Rome:20240415T090000
DTEND;TZID=Europe/Rome:20240415T130000
DTSTAMP:20260422T191949
CREATED:20240409T074415Z
LAST-MODIFIED:20240409T074757Z
UID:47164-1713171600-1713186000@anci.fvg.it
SUMMARY:3° Convegno regionale sulla sanita' digitale - Il fascicolo sanitario elettronico 2.0
DESCRIPTION:   1 aprile 2026  Dalle ore 10:00 alle ore 12:00  Sede Sport e Salute a Pordenone\, Viale della Libertà 75  Momento di confronto\, per le Amministrazioni comunali\, utile a fornire nuove informazioni concrete sui finanziamenti per l’impiantistica sportiva\, le opportunità per l’efficientamento energetico e tutti gli strumenti a disposizione del sistema sport🔖  INVITO – Insieme per il Territorio – PORDENONE   La partecipazione è libera previa iscrizione inquadrando il QR code  
URL:https://anci.fvg.it/evento/3-convegno-regionale-sulla-sanita-digitale-il-fascicolo-sanitario-elettronico-2-0/
LOCATION:Auditorium Antonio Comelli\, Via Cecilia Gradenigo Sabbadini\, 31\, Udine\, Italy
CATEGORIES:Altri organizzatori: eventi esterni di interesse degli Enti locali,Seminari tematici e visite studio
ATTACH;FMTTYPE=image/png:https://anci.fvg.it/wp-content/uploads/2024/04/ea1d09a9-caec-4a8c-a13c-430941777c29.png
END:VEVENT
END:VCALENDAR