BEGIN:VCALENDAR
VERSION:2.0
PRODID:-//Anci FVG - ECPv6.15.12.2//NONSGML v1.0//EN
CALSCALE:GREGORIAN
METHOD:PUBLISH
X-ORIGINAL-URL:https://anci.fvg.it
X-WR-CALDESC:Eventi per Anci FVG
REFRESH-INTERVAL;VALUE=DURATION:PT1H
X-Robots-Tag:noindex
X-PUBLISHED-TTL:PT1H
BEGIN:VTIMEZONE
TZID:Europe/Rome
BEGIN:DAYLIGHT
TZOFFSETFROM:+0100
TZOFFSETTO:+0200
TZNAME:CEST
DTSTART:20230326T010000
END:DAYLIGHT
BEGIN:STANDARD
TZOFFSETFROM:+0200
TZOFFSETTO:+0100
TZNAME:CET
DTSTART:20231029T010000
END:STANDARD
BEGIN:DAYLIGHT
TZOFFSETFROM:+0100
TZOFFSETTO:+0200
TZNAME:CEST
DTSTART:20240331T010000
END:DAYLIGHT
BEGIN:STANDARD
TZOFFSETFROM:+0200
TZOFFSETTO:+0100
TZNAME:CET
DTSTART:20241027T010000
END:STANDARD
BEGIN:DAYLIGHT
TZOFFSETFROM:+0100
TZOFFSETTO:+0200
TZNAME:CEST
DTSTART:20250330T010000
END:DAYLIGHT
BEGIN:STANDARD
TZOFFSETFROM:+0200
TZOFFSETTO:+0100
TZNAME:CET
DTSTART:20251026T010000
END:STANDARD
END:VTIMEZONE
BEGIN:VEVENT
DTSTART;TZID=Europe/Rome:20241204T150000
DTEND;TZID=Europe/Rome:20241204T170000
DTSTAMP:20260422T042111
CREATED:20241126T081148Z
LAST-MODIFIED:20241126T081747Z
UID:51583-1733324400-1733331600@anci.fvg.it
SUMMARY:Verifica e manutenzione delle infrastrutture stradali e autostradali
DESCRIPTION:   1 aprile 2026  Dalle ore 10:00 alle ore 12:00  Sede Sport e Salute a Pordenone\, Viale della Libertà 75  Momento di confronto\, per le Amministrazioni comunali\, utile a fornire nuove informazioni concrete sui finanziamenti per l’impiantistica sportiva\, le opportunità per l’efficientamento energetico e tutti gli strumenti a disposizione del sistema sport🔖  INVITO – Insieme per il Territorio – PORDENONE   La partecipazione è libera previa iscrizione inquadrando il QR code  
URL:https://anci.fvg.it/evento/verifica-e-manutenzione-delle-infrastrutture-stradali-e-autostradali/
LOCATION:Sala Refettorio – Camera dei Deputati\, Palazzo San Macuto\, Via del Seminario\, 76\, Roma\, Italy
CATEGORIES:Altri organizzatori: eventi esterni di interesse degli Enti locali,Eventi nazionali
ATTACH;FMTTYPE=image/jpeg:https://anci.fvg.it/wp-content/uploads/2024/11/autostrade-e1732608602356.jpg
END:VEVENT
BEGIN:VEVENT
DTSTART;TZID=Europe/Rome:20241210T113000
DTEND;TZID=Europe/Rome:20241210T130000
DTSTAMP:20260422T042111
CREATED:20241209T145832Z
LAST-MODIFIED:20241209T145833Z
UID:52242-1733830200-1733835600@anci.fvg.it
SUMMARY:Titolarità Effettive e PNRR
DESCRIPTION:   1 aprile 2026  Dalle ore 10:00 alle ore 12:00  Sede Sport e Salute a Pordenone\, Viale della Libertà 75  Momento di confronto\, per le Amministrazioni comunali\, utile a fornire nuove informazioni concrete sui finanziamenti per l’impiantistica sportiva\, le opportunità per l’efficientamento energetico e tutti gli strumenti a disposizione del sistema sport🔖  INVITO – Insieme per il Territorio – PORDENONE   La partecipazione è libera previa iscrizione inquadrando il QR code  
URL:https://anci.fvg.it/evento/titolarita-effettive-e-pnrr/
LOCATION:online
CATEGORIES:Altri organizzatori: eventi esterni di interesse degli Enti locali,Eventi nazionali,Webinar
ATTACH;FMTTYPE=image/png:https://anci.fvg.it/wp-content/uploads/2024/12/Logo_SCUOLA_IFEL_web.png
END:VEVENT
BEGIN:VEVENT
DTSTART;TZID=Europe/Rome:20241217T143000
DTEND;TZID=Europe/Rome:20241217T173000
DTSTAMP:20260422T042111
CREATED:20241217T074232Z
LAST-MODIFIED:20241217T074233Z
UID:52343-1734445800-1734456600@anci.fvg.it
SUMMARY:Giornata della trasparenza IFEL 2024
DESCRIPTION:   1 aprile 2026  Dalle ore 10:00 alle ore 12:00  Sede Sport e Salute a Pordenone\, Viale della Libertà 75  Momento di confronto\, per le Amministrazioni comunali\, utile a fornire nuove informazioni concrete sui finanziamenti per l’impiantistica sportiva\, le opportunità per l’efficientamento energetico e tutti gli strumenti a disposizione del sistema sport🔖  INVITO – Insieme per il Territorio – PORDENONE   La partecipazione è libera previa iscrizione inquadrando il QR code  
URL:https://anci.fvg.it/evento/giornata-della-trasparenza-ifel-2024/
LOCATION:ANCI\, Via dei Prefetti 46\, Roma\, Italia
CATEGORIES:Altri organizzatori: eventi esterni di interesse degli Enti locali,Eventi nazionali,Webinar
ATTACH;FMTTYPE=image/jpeg:https://anci.fvg.it/wp-content/uploads/2024/12/ifel.jpg
END:VEVENT
END:VCALENDAR