BEGIN:VCALENDAR
VERSION:2.0
PRODID:-//Anci FVG - ECPv6.15.12.2//NONSGML v1.0//EN
CALSCALE:GREGORIAN
METHOD:PUBLISH
X-ORIGINAL-URL:https://anci.fvg.it
X-WR-CALDESC:Eventi per Anci FVG
REFRESH-INTERVAL;VALUE=DURATION:PT1H
X-Robots-Tag:noindex
X-PUBLISHED-TTL:PT1H
BEGIN:VTIMEZONE
TZID:Europe/Rome
BEGIN:DAYLIGHT
TZOFFSETFROM:+0100
TZOFFSETTO:+0200
TZNAME:CEST
DTSTART:20240331T010000
END:DAYLIGHT
BEGIN:STANDARD
TZOFFSETFROM:+0200
TZOFFSETTO:+0100
TZNAME:CET
DTSTART:20241027T010000
END:STANDARD
BEGIN:DAYLIGHT
TZOFFSETFROM:+0100
TZOFFSETTO:+0200
TZNAME:CEST
DTSTART:20250330T010000
END:DAYLIGHT
BEGIN:STANDARD
TZOFFSETFROM:+0200
TZOFFSETTO:+0100
TZNAME:CET
DTSTART:20251026T010000
END:STANDARD
BEGIN:DAYLIGHT
TZOFFSETFROM:+0100
TZOFFSETTO:+0200
TZNAME:CEST
DTSTART:20260329T010000
END:DAYLIGHT
BEGIN:STANDARD
TZOFFSETFROM:+0200
TZOFFSETTO:+0100
TZNAME:CET
DTSTART:20261025T010000
END:STANDARD
END:VTIMEZONE
BEGIN:VEVENT
DTSTART;TZID=Europe/Rome:20250508T150000
DTEND;TZID=Europe/Rome:20250508T180000
DTSTAMP:20260421T213755
CREATED:20250428T123115Z
LAST-MODIFIED:20250506T064521Z
UID:55418-1746716400-1746727200@anci.fvg.it
SUMMARY:Strumenti e sedi di raccordo nella governance multilivello
DESCRIPTION:   1 aprile 2026  Dalle ore 10:00 alle ore 12:00  Sede Sport e Salute a Pordenone\, Viale della Libertà 75  Momento di confronto\, per le Amministrazioni comunali\, utile a fornire nuove informazioni concrete sui finanziamenti per l’impiantistica sportiva\, le opportunità per l’efficientamento energetico e tutti gli strumenti a disposizione del sistema sport🔖  INVITO – Insieme per il Territorio – PORDENONE   La partecipazione è libera previa iscrizione inquadrando il QR code  
URL:https://anci.fvg.it/evento/strumenti-e-sedi-di-raccordo-nella-governance-multilivello/
LOCATION:CISM\, Piazza Garibaldi 18\, Udine
CATEGORIES:Altri organizzatori: eventi esterni di interesse degli Enti locali
ATTACH;FMTTYPE=image/png:https://anci.fvg.it/wp-content/uploads/2025/04/ceridap.png
END:VEVENT
BEGIN:VEVENT
DTSTART;TZID=Europe/Rome:20250509T084500
DTEND;TZID=Europe/Rome:20250509T130000
DTSTAMP:20260421T213756
CREATED:20250506T064539Z
LAST-MODIFIED:20250506T064908Z
UID:55490-1746780300-1746795600@anci.fvg.it
SUMMARY:Strumenti e sedi di raccordo nella governance multilivello
DESCRIPTION:   1 aprile 2026  Dalle ore 10:00 alle ore 12:00  Sede Sport e Salute a Pordenone\, Viale della Libertà 75  Momento di confronto\, per le Amministrazioni comunali\, utile a fornire nuove informazioni concrete sui finanziamenti per l’impiantistica sportiva\, le opportunità per l’efficientamento energetico e tutti gli strumenti a disposizione del sistema sport🔖  INVITO – Insieme per il Territorio – PORDENONE   La partecipazione è libera previa iscrizione inquadrando il QR code  
URL:https://anci.fvg.it/evento/strumenti-e-sedi-di-raccordo-nella-governance-multilivello-9/
LOCATION:CISM\, Piazza Garibaldi 18\, Udine
CATEGORIES:Altri organizzatori: eventi esterni di interesse degli Enti locali
ATTACH;FMTTYPE=image/png:https://anci.fvg.it/wp-content/uploads/2025/04/ceridap.png
END:VEVENT
BEGIN:VEVENT
DTSTART;TZID=Europe/Rome:20250513T143000
DTEND;TZID=Europe/Rome:20250513T173000
DTSTAMP:20260421T213756
CREATED:20250429T093446Z
LAST-MODIFIED:20250506T080451Z
UID:55445-1747146600-1747157400@anci.fvg.it
SUMMARY:Il partenariato pubblico privato nella contrattualistica energetica degli Enti locali
DESCRIPTION:   1 aprile 2026  Dalle ore 10:00 alle ore 12:00  Sede Sport e Salute a Pordenone\, Viale della Libertà 75  Momento di confronto\, per le Amministrazioni comunali\, utile a fornire nuove informazioni concrete sui finanziamenti per l’impiantistica sportiva\, le opportunità per l’efficientamento energetico e tutti gli strumenti a disposizione del sistema sport🔖  INVITO – Insieme per il Territorio – PORDENONE   La partecipazione è libera previa iscrizione inquadrando il QR code  
URL:https://anci.fvg.it/evento/il-partenariato-pubblico-privato-nella-contrattualistica-energetica-degli-enti-locali/
LOCATION:Teatro Gustavo Modena\, Via Dante 18\, Palmanova
CATEGORIES:Altri organizzatori: eventi esterni di interesse degli Enti locali
ATTACH;FMTTYPE=image/jpeg:https://anci.fvg.it/wp-content/uploads/2025/04/ape.jpg
END:VEVENT
BEGIN:VEVENT
DTSTART;TZID=Europe/Rome:20250521T103000
DTEND;TZID=Europe/Rome:20250521T130000
DTSTAMP:20260421T213756
CREATED:20250512T071304Z
LAST-MODIFIED:20250512T071936Z
UID:55647-1747823400-1747832400@anci.fvg.it
SUMMARY:IA in campo: L’evoluzione della PA
DESCRIPTION:   1 aprile 2026  Dalle ore 10:00 alle ore 12:00  Sede Sport e Salute a Pordenone\, Viale della Libertà 75  Momento di confronto\, per le Amministrazioni comunali\, utile a fornire nuove informazioni concrete sui finanziamenti per l’impiantistica sportiva\, le opportunità per l’efficientamento energetico e tutti gli strumenti a disposizione del sistema sport🔖  INVITO – Insieme per il Territorio – PORDENONE   La partecipazione è libera previa iscrizione inquadrando il QR code  
URL:https://anci.fvg.it/evento/ia-in-campo-levoluzione-della-pa/
LOCATION:Centro Congressi Udine Fiere\, Via della Vecchia Filatura 10/1\, Udine
CATEGORIES:Altri organizzatori: eventi esterni di interesse degli Enti locali
ATTACH;FMTTYPE=image/jpeg:https://anci.fvg.it/wp-content/uploads/2025/05/21.jpg
END:VEVENT
BEGIN:VEVENT
DTSTART;TZID=Europe/Rome:20250522T100000
DTEND;TZID=Europe/Rome:20250522T130000
DTSTAMP:20260421T213756
CREATED:20250512T072015Z
LAST-MODIFIED:20250512T072401Z
UID:55652-1747908000-1747918800@anci.fvg.it
SUMMARY:IA in campo: il futuro della comunicazione
DESCRIPTION:   1 aprile 2026  Dalle ore 10:00 alle ore 12:00  Sede Sport e Salute a Pordenone\, Viale della Libertà 75  Momento di confronto\, per le Amministrazioni comunali\, utile a fornire nuove informazioni concrete sui finanziamenti per l’impiantistica sportiva\, le opportunità per l’efficientamento energetico e tutti gli strumenti a disposizione del sistema sport🔖  INVITO – Insieme per il Territorio – PORDENONE   La partecipazione è libera previa iscrizione inquadrando il QR code  
URL:https://anci.fvg.it/evento/ia-in-campo-levoluzione-della-pa-copy/
LOCATION:Centro Congressi Udine Fiere\, Via della Vecchia Filatura 10/1\, Udine
CATEGORIES:Altri organizzatori: eventi esterni di interesse degli Enti locali
ATTACH;FMTTYPE=image/jpeg:https://anci.fvg.it/wp-content/uploads/2025/05/22.jpg
END:VEVENT
BEGIN:VEVENT
DTSTART;TZID=Europe/Rome:20250524T100000
DTEND;TZID=Europe/Rome:20250524T123000
DTSTAMP:20260421T213756
CREATED:20250520T101342Z
LAST-MODIFIED:20250520T102513Z
UID:55758-1748080800-1748089800@anci.fvg.it
SUMMARY:Un protagonista al servizio della mobilità regionale tra pubblico e privato: Silvano Barbiero
DESCRIPTION:   1 aprile 2026  Dalle ore 10:00 alle ore 12:00  Sede Sport e Salute a Pordenone\, Viale della Libertà 75  Momento di confronto\, per le Amministrazioni comunali\, utile a fornire nuove informazioni concrete sui finanziamenti per l’impiantistica sportiva\, le opportunità per l’efficientamento energetico e tutti gli strumenti a disposizione del sistema sport🔖  INVITO – Insieme per il Territorio – PORDENONE   La partecipazione è libera previa iscrizione inquadrando il QR code  
URL:https://anci.fvg.it/evento/dirigenti-fuori-dal-comune-seconda-edizione-copy/
LOCATION:Confindustria Udine\, Largo Carlo Melzi\, Udine
CATEGORIES:Altri organizzatori: eventi esterni di interesse degli Enti locali
ATTACH;FMTTYPE=image/jpeg:https://anci.fvg.it/wp-content/uploads/2025/05/Image.jpeg
END:VEVENT
BEGIN:VEVENT
DTSTART;TZID=Europe/Rome:20250526T090000
DTEND;TZID=Europe/Rome:20250526T130000
DTSTAMP:20260421T213756
CREATED:20250509T093614Z
LAST-MODIFIED:20250515T060223Z
UID:55639-1748250000-1748264400@anci.fvg.it
SUMMARY:Alta formazione sulle politiche UE: “Costruire il futuro” tra formazione\, lavoro e coesione sociale
DESCRIPTION:   1 aprile 2026  Dalle ore 10:00 alle ore 12:00  Sede Sport e Salute a Pordenone\, Viale della Libertà 75  Momento di confronto\, per le Amministrazioni comunali\, utile a fornire nuove informazioni concrete sui finanziamenti per l’impiantistica sportiva\, le opportunità per l’efficientamento energetico e tutti gli strumenti a disposizione del sistema sport🔖  INVITO – Insieme per il Territorio – PORDENONE   La partecipazione è libera previa iscrizione inquadrando il QR code  
URL:https://anci.fvg.it/evento/alta-formazione-sulle-politiche-ue-costruire-il-futuro-tra-formazione-lavoro-e-coesione-sociale/
LOCATION:Urban Center\, Corso Cavour 2\, Trieste\, Italy
CATEGORIES:Altri organizzatori: eventi esterni di interesse degli Enti locali,Appuntamenti ANCI FVG
ATTACH;FMTTYPE=image/jpeg:https://anci.fvg.it/wp-content/uploads/2025/04/20250416_085721.jpg
END:VEVENT
END:VCALENDAR