BEGIN:VCALENDAR
VERSION:2.0
PRODID:-//Anci FVG - ECPv6.15.12.2//NONSGML v1.0//EN
CALSCALE:GREGORIAN
METHOD:PUBLISH
X-WR-CALNAME:Anci FVG
X-ORIGINAL-URL:https://anci.fvg.it
X-WR-CALDESC:Eventi per Anci FVG
REFRESH-INTERVAL;VALUE=DURATION:PT1H
X-Robots-Tag:noindex
X-PUBLISHED-TTL:PT1H
BEGIN:VTIMEZONE
TZID:Europe/Rome
BEGIN:DAYLIGHT
TZOFFSETFROM:+0100
TZOFFSETTO:+0200
TZNAME:CEST
DTSTART:20240331T010000
END:DAYLIGHT
BEGIN:STANDARD
TZOFFSETFROM:+0200
TZOFFSETTO:+0100
TZNAME:CET
DTSTART:20241027T010000
END:STANDARD
BEGIN:DAYLIGHT
TZOFFSETFROM:+0100
TZOFFSETTO:+0200
TZNAME:CEST
DTSTART:20250330T010000
END:DAYLIGHT
BEGIN:STANDARD
TZOFFSETFROM:+0200
TZOFFSETTO:+0100
TZNAME:CET
DTSTART:20251026T010000
END:STANDARD
BEGIN:DAYLIGHT
TZOFFSETFROM:+0100
TZOFFSETTO:+0200
TZNAME:CEST
DTSTART:20260329T010000
END:DAYLIGHT
BEGIN:STANDARD
TZOFFSETFROM:+0200
TZOFFSETTO:+0100
TZNAME:CET
DTSTART:20261025T010000
END:STANDARD
END:VTIMEZONE
BEGIN:VEVENT
DTSTART;TZID=Europe/Rome:20250611T100000
DTEND;TZID=Europe/Rome:20250611T120000
DTSTAMP:20260421T182455
CREATED:20250519T110438Z
LAST-MODIFIED:20260316T141648Z
UID:55750-1749636000-1749643200@anci.fvg.it
SUMMARY:Il biologico nella scuola: un percorso di educazione\, sostenibilità e salute
DESCRIPTION:   1 aprile 2026  Dalle ore 10:00 alle ore 12:00  Sede Sport e Salute a Pordenone\, Viale della Libertà 75  Momento di confronto\, per le Amministrazioni comunali\, utile a fornire nuove informazioni concrete sui finanziamenti per l’impiantistica sportiva\, le opportunità per l’efficientamento energetico e tutti gli strumenti a disposizione del sistema sport🔖  INVITO – Insieme per il Territorio – PORDENONE   La partecipazione è libera previa iscrizione inquadrando il QR code  
URL:https://anci.fvg.it/evento/il-biologico-nella-scuola-un-percorso-di-educazione-sostenibilita-e-salute/
LOCATION:Cinemazero\, Via Maestri del Lavoro 3\, Pordenone
CATEGORIES:Altri organizzatori: eventi esterni di interesse degli Enti locali
ATTACH;FMTTYPE=image/png:https://anci.fvg.it/wp-content/uploads/2025/05/ESECUTIVO-social-incontri-scuole-01-scaled.png
END:VEVENT
BEGIN:VEVENT
DTSTART;TZID=Europe/Rome:20250612T090000
DTEND;TZID=Europe/Rome:20250612T173000
DTSTAMP:20260421T182456
CREATED:20250604T075200Z
LAST-MODIFIED:20260316T141727Z
UID:56010-1749718800-1749749400@anci.fvg.it
SUMMARY:TESTO UNICO FONTI RINNOVABILI: facciamo il punto
DESCRIPTION:   1 aprile 2026  Dalle ore 10:00 alle ore 12:00  Sede Sport e Salute a Pordenone\, Viale della Libertà 75  Momento di confronto\, per le Amministrazioni comunali\, utile a fornire nuove informazioni concrete sui finanziamenti per l’impiantistica sportiva\, le opportunità per l’efficientamento energetico e tutti gli strumenti a disposizione del sistema sport🔖  INVITO – Insieme per il Territorio – PORDENONE   La partecipazione è libera previa iscrizione inquadrando il QR code  
URL:https://anci.fvg.it/evento/testo-unico-fonti-rinnovabili-facciamo-il-punto/
LOCATION:Auditorium Antonio Comelli\, Via Cecilia Gradenigo Sabbadini\, 31\, Udine\, Italy
CATEGORIES:Altri organizzatori: eventi esterni di interesse degli Enti locali
ATTACH;FMTTYPE=image/jpeg:https://anci.fvg.it/wp-content/uploads/2025/06/Screenshot_4-6-2025_95128_eventi.regione.fvg_.it_.jpeg
END:VEVENT
BEGIN:VEVENT
DTSTART;TZID=Europe/Rome:20250616T090000
DTEND;TZID=Europe/Rome:20250617T140000
DTSTAMP:20260421T182456
CREATED:20250613T063327Z
LAST-MODIFIED:20250613T064703Z
UID:56197-1750064400-1750168800@anci.fvg.it
SUMMARY:Seminario di studio "Somalia: dalla ricerca del passato alla prospettiva di futuro"
DESCRIPTION:   1 aprile 2026  Dalle ore 10:00 alle ore 12:00  Sede Sport e Salute a Pordenone\, Viale della Libertà 75  Momento di confronto\, per le Amministrazioni comunali\, utile a fornire nuove informazioni concrete sui finanziamenti per l’impiantistica sportiva\, le opportunità per l’efficientamento energetico e tutti gli strumenti a disposizione del sistema sport🔖  INVITO – Insieme per il Territorio – PORDENONE   La partecipazione è libera previa iscrizione inquadrando il QR code  
URL:https://anci.fvg.it/evento/seminario-di-studio-somalia-dalla-ricerca-del-passato-alla-prospettiva-di-futuro/
LOCATION:REGIONE FVG\, Corso Italia 61\, Gorizia
CATEGORIES:Altri organizzatori: eventi esterni di interesse degli Enti locali
ATTACH;FMTTYPE=image/jpeg:https://anci.fvg.it/wp-content/uploads/2025/06/somalia.jpg
END:VEVENT
BEGIN:VEVENT
DTSTART;TZID=Europe/Rome:20250616T093000
DTEND;TZID=Europe/Rome:20250617T163000
DTSTAMP:20260421T182456
CREATED:20250506T085922Z
LAST-MODIFIED:20250506T091407Z
UID:55513-1750066200-1750177800@anci.fvg.it
SUMMARY:Dirigenti fuori dal comune – Seconda edizione
DESCRIPTION:   1 aprile 2026  Dalle ore 10:00 alle ore 12:00  Sede Sport e Salute a Pordenone\, Viale della Libertà 75  Momento di confronto\, per le Amministrazioni comunali\, utile a fornire nuove informazioni concrete sui finanziamenti per l’impiantistica sportiva\, le opportunità per l’efficientamento energetico e tutti gli strumenti a disposizione del sistema sport🔖  INVITO – Insieme per il Territorio – PORDENONE   La partecipazione è libera previa iscrizione inquadrando il QR code  
URL:https://anci.fvg.it/evento/dirigenti-fuori-dal-comune-seconda-edizione/
LOCATION:Castel San Pietro Terme
CATEGORIES:Altri organizzatori: eventi esterni di interesse degli Enti locali
ATTACH;FMTTYPE=image/jpeg:https://anci.fvg.it/wp-content/uploads/2025/05/hexagon-3392236_960_720.jpg
END:VEVENT
BEGIN:VEVENT
DTSTART;TZID=Europe/Rome:20250618T100000
DTEND;TZID=Europe/Rome:20250618T120000
DTSTAMP:20260421T182456
CREATED:20250604T082953Z
LAST-MODIFIED:20260316T141815Z
UID:56028-1750240800-1750248000@anci.fvg.it
SUMMARY:Il biologico nella scuola: un percorso di educazione\, sostenibilità e salute
DESCRIPTION:   1 aprile 2026  Dalle ore 10:00 alle ore 12:00  Sede Sport e Salute a Pordenone\, Viale della Libertà 75  Momento di confronto\, per le Amministrazioni comunali\, utile a fornire nuove informazioni concrete sui finanziamenti per l’impiantistica sportiva\, le opportunità per l’efficientamento energetico e tutti gli strumenti a disposizione del sistema sport🔖  INVITO – Insieme per il Territorio – PORDENONE   La partecipazione è libera previa iscrizione inquadrando il QR code  
URL:https://anci.fvg.it/evento/il-biologico-nella-scuola-un-percorso-di-educazione-sostenibilita-e-salute-18/
LOCATION:Fondazione Friuli\, Via Gemona 1\, Udine
CATEGORIES:Altri organizzatori: eventi esterni di interesse degli Enti locali
ATTACH;FMTTYPE=image/png:https://anci.fvg.it/wp-content/uploads/2025/05/ESECUTIVO-social-incontri-scuole-01-scaled.png
END:VEVENT
BEGIN:VEVENT
DTSTART;TZID=Europe/Rome:20250623T090000
DTEND;TZID=Europe/Rome:20250623T130000
DTSTAMP:20260421T182456
CREATED:20250605T073915Z
LAST-MODIFIED:20250612T074756Z
UID:56049-1750669200-1750683600@anci.fvg.it
SUMMARY:Alta formazione sulle politiche UE | Oltre il 2027: strategie e visioni per una nuova Europa della cultura
DESCRIPTION:   1 aprile 2026  Dalle ore 10:00 alle ore 12:00  Sede Sport e Salute a Pordenone\, Viale della Libertà 75  Momento di confronto\, per le Amministrazioni comunali\, utile a fornire nuove informazioni concrete sui finanziamenti per l’impiantistica sportiva\, le opportunità per l’efficientamento energetico e tutti gli strumenti a disposizione del sistema sport🔖  INVITO – Insieme per il Territorio – PORDENONE   La partecipazione è libera previa iscrizione inquadrando il QR code  
URL:https://anci.fvg.it/evento/alta-formazione-sulle-politiche-ue-oltre-il-2027-strategie-e-visioni-per-una-nuova-europa-della-cultura/
LOCATION:Unione Ginnastica Goriziana\, Via Giovanni Rismondo 2\, Gorizia
CATEGORIES:Altri organizzatori: eventi esterni di interesse degli Enti locali,Appuntamenti ANCI FVG
ATTACH;FMTTYPE=image/png:https://anci.fvg.it/wp-content/uploads/2025/06/informest.png
END:VEVENT
BEGIN:VEVENT
DTSTART;TZID=Europe/Rome:20250625T110000
DTEND;TZID=Europe/Rome:20250625T130000
DTSTAMP:20260421T182456
CREATED:20250624T082505Z
LAST-MODIFIED:20250624T083150Z
UID:56322-1750849200-1750856400@anci.fvg.it
SUMMARY:I finanziamenti CDP a sostegno degli investimenti degli EELL e i Contributi in Conto Termico GSE
DESCRIPTION:   1 aprile 2026  Dalle ore 10:00 alle ore 12:00  Sede Sport e Salute a Pordenone\, Viale della Libertà 75  Momento di confronto\, per le Amministrazioni comunali\, utile a fornire nuove informazioni concrete sui finanziamenti per l’impiantistica sportiva\, le opportunità per l’efficientamento energetico e tutti gli strumenti a disposizione del sistema sport🔖  INVITO – Insieme per il Territorio – PORDENONE   La partecipazione è libera previa iscrizione inquadrando il QR code  
URL:https://anci.fvg.it/evento/i-finanziamenti-cdp-a-sostegno-degli-investimenti-degli-eell-e-i-contributi-in-conto-termico-gse/
LOCATION:Fondazione Friuli\, Via Gemona 1\, Udine
CATEGORIES:Altri organizzatori: eventi esterni di interesse degli Enti locali
ATTACH;FMTTYPE=image/jpeg:https://anci.fvg.it/wp-content/uploads/2025/06/cdp.jpg
END:VEVENT
END:VCALENDAR