BEGIN:VCALENDAR
VERSION:2.0
PRODID:-//Anci FVG - ECPv6.15.12.2//NONSGML v1.0//EN
CALSCALE:GREGORIAN
METHOD:PUBLISH
X-ORIGINAL-URL:https://anci.fvg.it
X-WR-CALDESC:Eventi per Anci FVG
REFRESH-INTERVAL;VALUE=DURATION:PT1H
X-Robots-Tag:noindex
X-PUBLISHED-TTL:PT1H
BEGIN:VTIMEZONE
TZID:Europe/Rome
BEGIN:DAYLIGHT
TZOFFSETFROM:+0100
TZOFFSETTO:+0200
TZNAME:CEST
DTSTART:20240331T010000
END:DAYLIGHT
BEGIN:STANDARD
TZOFFSETFROM:+0200
TZOFFSETTO:+0100
TZNAME:CET
DTSTART:20241027T010000
END:STANDARD
BEGIN:DAYLIGHT
TZOFFSETFROM:+0100
TZOFFSETTO:+0200
TZNAME:CEST
DTSTART:20250330T010000
END:DAYLIGHT
BEGIN:STANDARD
TZOFFSETFROM:+0200
TZOFFSETTO:+0100
TZNAME:CET
DTSTART:20251026T010000
END:STANDARD
BEGIN:DAYLIGHT
TZOFFSETFROM:+0100
TZOFFSETTO:+0200
TZNAME:CEST
DTSTART:20260329T010000
END:DAYLIGHT
BEGIN:STANDARD
TZOFFSETFROM:+0200
TZOFFSETTO:+0100
TZNAME:CET
DTSTART:20261025T010000
END:STANDARD
END:VTIMEZONE
BEGIN:VEVENT
DTSTART;TZID=Europe/Rome:20251104T173000
DTEND;TZID=Europe/Rome:20251104T190000
DTSTAMP:20260421T115225
CREATED:20251030T064816Z
LAST-MODIFIED:20251030T065719Z
UID:58397-1762277400-1762282800@anci.fvg.it
SUMMARY:La medicina delle differenze e dell'umanizzazione
DESCRIPTION:   1 aprile 2026  Dalle ore 10:00 alle ore 12:00  Sede Sport e Salute a Pordenone\, Viale della Libertà 75  Momento di confronto\, per le Amministrazioni comunali\, utile a fornire nuove informazioni concrete sui finanziamenti per l’impiantistica sportiva\, le opportunità per l’efficientamento energetico e tutti gli strumenti a disposizione del sistema sport🔖  INVITO – Insieme per il Territorio – PORDENONE   La partecipazione è libera previa iscrizione inquadrando il QR code  
URL:https://anci.fvg.it/evento/la-medicina-delle-differenze-e-dellumanizzazione/
LOCATION:Palazzo Badini\, Via Mazzini 2\, Pordenone
CATEGORIES:Altri organizzatori: eventi esterni di interesse degli Enti locali
ATTACH;FMTTYPE=image/jpeg:https://anci.fvg.it/wp-content/uploads/2025/10/pn.jpg
END:VEVENT
BEGIN:VEVENT
DTSTART;TZID=Europe/Rome:20251107T203000
DTEND;TZID=Europe/Rome:20251128T193000
DTSTAMP:20260421T115225
CREATED:20251120T074247Z
LAST-MODIFIED:20251125T065933Z
UID:59069-1762547400-1764358200@anci.fvg.it
SUMMARY:Gli eventi dei Comuni del FVG in occasione della Giornata internazionale per l'eliminazione della violenza contro le donne
DESCRIPTION:   1 aprile 2026  Dalle ore 10:00 alle ore 12:00  Sede Sport e Salute a Pordenone\, Viale della Libertà 75  Momento di confronto\, per le Amministrazioni comunali\, utile a fornire nuove informazioni concrete sui finanziamenti per l’impiantistica sportiva\, le opportunità per l’efficientamento energetico e tutti gli strumenti a disposizione del sistema sport🔖  INVITO – Insieme per il Territorio – PORDENONE   La partecipazione è libera previa iscrizione inquadrando il QR code  
URL:https://anci.fvg.it/evento/gli-eventi-dei-comuni-del-fvg-in-occasione-della-giornata-internazionale-per-leliminazione-della-violenza-contro-le-donne/
CATEGORIES:Altri organizzatori: eventi esterni di interesse degli Enti locali
ATTACH;FMTTYPE=image/png:https://anci.fvg.it/wp-content/uploads/2025/11/politiche-di-genere-banner-sito.png
END:VEVENT
BEGIN:VEVENT
DTSTART;VALUE=DATE:20251115
DTEND;VALUE=DATE:20251116
DTSTAMP:20260421T115225
CREATED:20251107T091040Z
LAST-MODIFIED:20251107T092000Z
UID:58600-1763164800-1763251199@anci.fvg.it
SUMMARY:Giornata della colletta alimentare
DESCRIPTION:   1 aprile 2026  Dalle ore 10:00 alle ore 12:00  Sede Sport e Salute a Pordenone\, Viale della Libertà 75  Momento di confronto\, per le Amministrazioni comunali\, utile a fornire nuove informazioni concrete sui finanziamenti per l’impiantistica sportiva\, le opportunità per l’efficientamento energetico e tutti gli strumenti a disposizione del sistema sport🔖  INVITO – Insieme per il Territorio – PORDENONE   La partecipazione è libera previa iscrizione inquadrando il QR code  
URL:https://anci.fvg.it/evento/giornata-della-colletta-alimentare/
CATEGORIES:Altri organizzatori: eventi esterni di interesse degli Enti locali
ATTACH;FMTTYPE=image/jpeg:https://anci.fvg.it/wp-content/uploads/2025/11/mailing_Colletta25-1.jpg
END:VEVENT
BEGIN:VEVENT
DTSTART;TZID=Europe/Rome:20251115T090000
DTEND;TZID=Europe/Rome:20251115T140000
DTSTAMP:20260421T115225
CREATED:20251013T080858Z
LAST-MODIFIED:20251106T111745Z
UID:58085-1763197200-1763215200@anci.fvg.it
SUMMARY:La sfida della riforma ACCRUAL tra potenzialità e criticità
DESCRIPTION:   1 aprile 2026  Dalle ore 10:00 alle ore 12:00  Sede Sport e Salute a Pordenone\, Viale della Libertà 75  Momento di confronto\, per le Amministrazioni comunali\, utile a fornire nuove informazioni concrete sui finanziamenti per l’impiantistica sportiva\, le opportunità per l’efficientamento energetico e tutti gli strumenti a disposizione del sistema sport🔖  INVITO – Insieme per il Territorio – PORDENONE   La partecipazione è libera previa iscrizione inquadrando il QR code  
URL:https://anci.fvg.it/evento/la-sfida-della-riforma-accrual-tra-potenzialita-e-criticita/
LOCATION:Auditorium Antonio Comelli\, Via Cecilia Gradenigo Sabbadini\, 31\, Udine\, Italy
CATEGORIES:Altri organizzatori: eventi esterni di interesse degli Enti locali
ATTACH;FMTTYPE=image/jpeg:https://anci.fvg.it/wp-content/uploads/2025/10/Immagine-2025-10-13-101756.jpg
END:VEVENT
BEGIN:VEVENT
DTSTART;TZID=Europe/Rome:20251121T110000
DTEND;TZID=Europe/Rome:20251121T130000
DTSTAMP:20260421T115225
CREATED:20251120T104110Z
LAST-MODIFIED:20251120T105345Z
UID:59137-1763722800-1763730000@anci.fvg.it
SUMMARY:Salute mentale e cooperazione internazionale: nuove prospettive per un approccio integrato – esperienze\, sfide e sinergie nella costruzione di comunità resilienti
DESCRIPTION:   1 aprile 2026  Dalle ore 10:00 alle ore 12:00  Sede Sport e Salute a Pordenone\, Viale della Libertà 75  Momento di confronto\, per le Amministrazioni comunali\, utile a fornire nuove informazioni concrete sui finanziamenti per l’impiantistica sportiva\, le opportunità per l’efficientamento energetico e tutti gli strumenti a disposizione del sistema sport🔖  INVITO – Insieme per il Territorio – PORDENONE   La partecipazione è libera previa iscrizione inquadrando il QR code  
URL:https://anci.fvg.it/evento/salute-mentale-e-cooperazione-internazionale-nuove-prospettive-per-un-approccio-integrato-esperienze-sfide-e-sinergie-nella-costruzione-di-comunita-resilienti/
LOCATION:online
CATEGORIES:Altri organizzatori: eventi esterni di interesse degli Enti locali
ATTACH;FMTTYPE=image/jpeg:https://anci.fvg.it/wp-content/uploads/2025/11/Screenshot_20-11-2025_91637_.jpeg
END:VEVENT
BEGIN:VEVENT
DTSTART;TZID=Europe/Rome:20251124T090000
DTEND;TZID=Europe/Rome:20251124T130000
DTSTAMP:20260421T115225
CREATED:20251120T070826Z
LAST-MODIFIED:20251120T093251Z
UID:59051-1763974800-1763989200@anci.fvg.it
SUMMARY:Alta formazione sulle politiche UE | Connettere il futuro: le politiche europee per costruire la competitività e la crescita territoriale
DESCRIPTION:   1 aprile 2026  Dalle ore 10:00 alle ore 12:00  Sede Sport e Salute a Pordenone\, Viale della Libertà 75  Momento di confronto\, per le Amministrazioni comunali\, utile a fornire nuove informazioni concrete sui finanziamenti per l’impiantistica sportiva\, le opportunità per l’efficientamento energetico e tutti gli strumenti a disposizione del sistema sport🔖  INVITO – Insieme per il Territorio – PORDENONE   La partecipazione è libera previa iscrizione inquadrando il QR code  
URL:https://anci.fvg.it/evento/alta-formazione-sulle-politiche-ue-connettere-il-futuro-le-politiche-europee-per-costruire-la-competitivita-e-la-crescita-territoriale/
LOCATION:Comune di Pordenone\, Corso Vittorio Emanuele II\, 64\, Pordenone\, Italy
CATEGORIES:Altri organizzatori: eventi esterni di interesse degli Enti locali
ATTACH;FMTTYPE=image/png:https://anci.fvg.it/wp-content/uploads/2025/11/24-novembre.png
END:VEVENT
BEGIN:VEVENT
DTSTART;TZID=Europe/Rome:20251129T090000
DTEND;TZID=Europe/Rome:20251129T130000
DTSTAMP:20260421T115225
CREATED:20251125T062445Z
LAST-MODIFIED:20251127T103222Z
UID:59257-1764406800-1764421200@anci.fvg.it
SUMMARY:Intrecci
DESCRIPTION:   1 aprile 2026  Dalle ore 10:00 alle ore 12:00  Sede Sport e Salute a Pordenone\, Viale della Libertà 75  Momento di confronto\, per le Amministrazioni comunali\, utile a fornire nuove informazioni concrete sui finanziamenti per l’impiantistica sportiva\, le opportunità per l’efficientamento energetico e tutti gli strumenti a disposizione del sistema sport🔖  INVITO – Insieme per il Territorio – PORDENONE   La partecipazione è libera previa iscrizione inquadrando il QR code  
URL:https://anci.fvg.it/evento/intrecci/
LOCATION:Auditorium Antonio Comelli\, Via Cecilia Gradenigo Sabbadini\, 31\, Udine\, Italy
CATEGORIES:Altri organizzatori: eventi esterni di interesse degli Enti locali,Formazione amministratori locali
ATTACH;FMTTYPE=image/jpeg:https://anci.fvg.it/wp-content/uploads/2025/11/WhatsApp-Image-2025-11-27-at-09.05.09.jpeg
END:VEVENT
END:VCALENDAR