BEGIN:VCALENDAR
VERSION:2.0
PRODID:-//Anci FVG - ECPv6.15.12.2//NONSGML v1.0//EN
CALSCALE:GREGORIAN
METHOD:PUBLISH
X-ORIGINAL-URL:https://anci.fvg.it
X-WR-CALDESC:Eventi per Anci FVG
REFRESH-INTERVAL;VALUE=DURATION:PT1H
X-Robots-Tag:noindex
X-PUBLISHED-TTL:PT1H
BEGIN:VTIMEZONE
TZID:Europe/Rome
BEGIN:DAYLIGHT
TZOFFSETFROM:+0100
TZOFFSETTO:+0200
TZNAME:CEST
DTSTART:20230326T010000
END:DAYLIGHT
BEGIN:STANDARD
TZOFFSETFROM:+0200
TZOFFSETTO:+0100
TZNAME:CET
DTSTART:20231029T010000
END:STANDARD
BEGIN:DAYLIGHT
TZOFFSETFROM:+0100
TZOFFSETTO:+0200
TZNAME:CEST
DTSTART:20240331T010000
END:DAYLIGHT
BEGIN:STANDARD
TZOFFSETFROM:+0200
TZOFFSETTO:+0100
TZNAME:CET
DTSTART:20241027T010000
END:STANDARD
BEGIN:DAYLIGHT
TZOFFSETFROM:+0100
TZOFFSETTO:+0200
TZNAME:CEST
DTSTART:20250330T010000
END:DAYLIGHT
BEGIN:STANDARD
TZOFFSETFROM:+0200
TZOFFSETTO:+0100
TZNAME:CET
DTSTART:20251026T010000
END:STANDARD
END:VTIMEZONE
BEGIN:VEVENT
DTSTART;TZID=Europe/Rome:20240410T110000
DTEND;TZID=Europe/Rome:20240410T123000
DTSTAMP:20260420T200321
CREATED:20240404T063512Z
LAST-MODIFIED:20260316T140646Z
UID:47121-1712746800-1712752200@anci.fvg.it
SUMMARY:“PA digitale 2026: pianificare\, realizzare e ricevere il finanziamento”
DESCRIPTION:In vista dell’avvio del processo di assunzione presso gli Ambiti territoriali sociali (ATS)\, proseguono gli appuntamenti informativi\, organizzati da  ANCI in collaborazione con il Ministero del lavoro e delle Politiche sociali sui temi del welfare\,  con il webinar in programma il prossimo 14 aprile alle ore 11.00\, dedicato al bando di concorso nazionale per il reclutamento di 3.839 unità di personale da assumere con contratto a tempo pieno e determinato (36 mesi) presso gli Ambiti territoriali sociali (ATS).Nel corso del webinar verranno illustrati i punti salienti della Convenzione che gli ATS dovranno sottoscrivere con il Ministero del lavoro e delle politiche sociali e verranno forniti approfondimenti sul tema della rendicontazione di spesa e sui criteri di ammissibilità. Per partecipare al webinar è necessario iscriversi al seguente link  Per maggiori informazioni è possibile consultare la pagina dedicata sul sito del Programma nazionale Inclusione e lotta alla povertà 2021-2027 E’ inoltre possibile rivedere i precedenti webinar dedicati alle Assunzioni negli ATS nella pagina del Progetto POSSO\, finalizzato a supportare e rafforzare la capacità operativa degli Ambiti Territoriali Sociali (ATS)\, contribuendo alla realizzazione e all’erogazione dei Livelli Essenziali delle Prestazioni Sociali (LEPS). Il progetto è promosso dal Ministero del Lavoro e delle politiche sociali e realizzato da ANCI.
URL:https://anci.fvg.it/evento/pa-digitale-2026-pianificare-realizzare-e-ricevere-il-finanziamento/
LOCATION:on line
CATEGORIES:Eventi nazionali,Webinar
ATTACH;FMTTYPE=image/png:https://anci.fvg.it/wp-content/uploads/2024/04/padigitale.png
END:VEVENT
BEGIN:VEVENT
DTSTART;TZID=Europe/Rome:20240419T100000
DTEND;TZID=Europe/Rome:20240419T120000
DTSTAMP:20260420T200321
CREATED:20240408T102407Z
LAST-MODIFIED:20260316T141203Z
UID:47154-1713520800-1713528000@anci.fvg.it
SUMMARY:"Insieme sul Territorio"
DESCRIPTION:In vista dell’avvio del processo di assunzione presso gli Ambiti territoriali sociali (ATS)\, proseguono gli appuntamenti informativi\, organizzati da  ANCI in collaborazione con il Ministero del lavoro e delle Politiche sociali sui temi del welfare\,  con il webinar in programma il prossimo 14 aprile alle ore 11.00\, dedicato al bando di concorso nazionale per il reclutamento di 3.839 unità di personale da assumere con contratto a tempo pieno e determinato (36 mesi) presso gli Ambiti territoriali sociali (ATS).Nel corso del webinar verranno illustrati i punti salienti della Convenzione che gli ATS dovranno sottoscrivere con il Ministero del lavoro e delle politiche sociali e verranno forniti approfondimenti sul tema della rendicontazione di spesa e sui criteri di ammissibilità. Per partecipare al webinar è necessario iscriversi al seguente link  Per maggiori informazioni è possibile consultare la pagina dedicata sul sito del Programma nazionale Inclusione e lotta alla povertà 2021-2027 E’ inoltre possibile rivedere i precedenti webinar dedicati alle Assunzioni negli ATS nella pagina del Progetto POSSO\, finalizzato a supportare e rafforzare la capacità operativa degli Ambiti Territoriali Sociali (ATS)\, contribuendo alla realizzazione e all’erogazione dei Livelli Essenziali delle Prestazioni Sociali (LEPS). Il progetto è promosso dal Ministero del Lavoro e delle politiche sociali e realizzato da ANCI.
URL:https://anci.fvg.it/evento/insieme-sul-territorio/
LOCATION:Auditorium San Marco\, Piazza Grande\, 1\, Palmanova
CATEGORIES:Appuntamenti ANCI FVG,Eventi nazionali,Seminari tematici e visite studio
ATTACH;FMTTYPE=image/jpeg:https://anci.fvg.it/wp-content/uploads/2024/04/Save-the-Date-Palmanova-UDINE-19-aprile-2024.jpg
END:VEVENT
END:VCALENDAR