BEGIN:VCALENDAR
VERSION:2.0
PRODID:-//Anci FVG - ECPv6.15.12.2//NONSGML v1.0//EN
CALSCALE:GREGORIAN
METHOD:PUBLISH
X-WR-CALNAME:Anci FVG
X-ORIGINAL-URL:https://anci.fvg.it
X-WR-CALDESC:Eventi per Anci FVG
REFRESH-INTERVAL;VALUE=DURATION:PT1H
X-Robots-Tag:noindex
X-PUBLISHED-TTL:PT1H
BEGIN:VTIMEZONE
TZID:Europe/Rome
BEGIN:DAYLIGHT
TZOFFSETFROM:+0100
TZOFFSETTO:+0200
TZNAME:CEST
DTSTART:20230326T010000
END:DAYLIGHT
BEGIN:STANDARD
TZOFFSETFROM:+0200
TZOFFSETTO:+0100
TZNAME:CET
DTSTART:20231029T010000
END:STANDARD
BEGIN:DAYLIGHT
TZOFFSETFROM:+0100
TZOFFSETTO:+0200
TZNAME:CEST
DTSTART:20240331T010000
END:DAYLIGHT
BEGIN:STANDARD
TZOFFSETFROM:+0200
TZOFFSETTO:+0100
TZNAME:CET
DTSTART:20241027T010000
END:STANDARD
BEGIN:DAYLIGHT
TZOFFSETFROM:+0100
TZOFFSETTO:+0200
TZNAME:CEST
DTSTART:20250330T010000
END:DAYLIGHT
BEGIN:STANDARD
TZOFFSETFROM:+0200
TZOFFSETTO:+0100
TZNAME:CET
DTSTART:20251026T010000
END:STANDARD
END:VTIMEZONE
BEGIN:VEVENT
DTSTART;TZID=Europe/Rome:20240620T110000
DTEND;TZID=Europe/Rome:20240620T123000
DTSTAMP:20260420T232026
CREATED:20240620T070727Z
LAST-MODIFIED:20240620T070905Z
UID:48583-1718881200-1718886600@anci.fvg.it
SUMMARY:Le nuove linee Guida per la definizione dei Patti per l’inclusione sociale
DESCRIPTION:In vista dell’avvio del processo di assunzione presso gli Ambiti territoriali sociali (ATS)\, proseguono gli appuntamenti informativi\, organizzati da  ANCI in collaborazione con il Ministero del lavoro e delle Politiche sociali sui temi del welfare\,  con il webinar in programma il prossimo 14 aprile alle ore 11.00\, dedicato al bando di concorso nazionale per il reclutamento di 3.839 unità di personale da assumere con contratto a tempo pieno e determinato (36 mesi) presso gli Ambiti territoriali sociali (ATS).Nel corso del webinar verranno illustrati i punti salienti della Convenzione che gli ATS dovranno sottoscrivere con il Ministero del lavoro e delle politiche sociali e verranno forniti approfondimenti sul tema della rendicontazione di spesa e sui criteri di ammissibilità. Per partecipare al webinar è necessario iscriversi al seguente link  Per maggiori informazioni è possibile consultare la pagina dedicata sul sito del Programma nazionale Inclusione e lotta alla povertà 2021-2027 E’ inoltre possibile rivedere i precedenti webinar dedicati alle Assunzioni negli ATS nella pagina del Progetto POSSO\, finalizzato a supportare e rafforzare la capacità operativa degli Ambiti Territoriali Sociali (ATS)\, contribuendo alla realizzazione e all’erogazione dei Livelli Essenziali delle Prestazioni Sociali (LEPS). Il progetto è promosso dal Ministero del Lavoro e delle politiche sociali e realizzato da ANCI.
URL:https://anci.fvg.it/evento/le-nuove-linee-guida-per-la-definizione-dei-patti-per-linclusione-sociale/
LOCATION:online
CATEGORIES:Eventi nazionali,Seminari tematici e visite studio,Webinar
ATTACH;FMTTYPE=image/png:https://anci.fvg.it/wp-content/uploads/2024/06/Screenshot-2024-06-20-090124.png
END:VEVENT
BEGIN:VEVENT
DTSTART;TZID=Europe/Rome:20240626T100000
DTEND;TZID=Europe/Rome:20240626T120000
DTSTAMP:20260420T232026
CREATED:20240620T063146Z
LAST-MODIFIED:20240620T063217Z
UID:48580-1719396000-1719403200@anci.fvg.it
SUMMARY:Digitalizzazione degli Sportelli Unici per le Attività Produttive
DESCRIPTION:In vista dell’avvio del processo di assunzione presso gli Ambiti territoriali sociali (ATS)\, proseguono gli appuntamenti informativi\, organizzati da  ANCI in collaborazione con il Ministero del lavoro e delle Politiche sociali sui temi del welfare\,  con il webinar in programma il prossimo 14 aprile alle ore 11.00\, dedicato al bando di concorso nazionale per il reclutamento di 3.839 unità di personale da assumere con contratto a tempo pieno e determinato (36 mesi) presso gli Ambiti territoriali sociali (ATS).Nel corso del webinar verranno illustrati i punti salienti della Convenzione che gli ATS dovranno sottoscrivere con il Ministero del lavoro e delle politiche sociali e verranno forniti approfondimenti sul tema della rendicontazione di spesa e sui criteri di ammissibilità. Per partecipare al webinar è necessario iscriversi al seguente link  Per maggiori informazioni è possibile consultare la pagina dedicata sul sito del Programma nazionale Inclusione e lotta alla povertà 2021-2027 E’ inoltre possibile rivedere i precedenti webinar dedicati alle Assunzioni negli ATS nella pagina del Progetto POSSO\, finalizzato a supportare e rafforzare la capacità operativa degli Ambiti Territoriali Sociali (ATS)\, contribuendo alla realizzazione e all’erogazione dei Livelli Essenziali delle Prestazioni Sociali (LEPS). Il progetto è promosso dal Ministero del Lavoro e delle politiche sociali e realizzato da ANCI.
URL:https://anci.fvg.it/evento/digitalizzazione-degli-sportelli-unici-per-le-attivita-produttive/
LOCATION:online
CATEGORIES:Eventi nazionali,Seminari tematici e visite studio,Webinar
ATTACH;FMTTYPE=image/png:https://anci.fvg.it/wp-content/uploads/2024/06/webinar-26-giugno-2024-digitalizzazione-suap.png
END:VEVENT
BEGIN:VEVENT
DTSTART;TZID=Europe/Rome:20240627T143000
DTEND;TZID=Europe/Rome:20240628T133000
DTSTAMP:20260420T232026
CREATED:20240605T083030Z
LAST-MODIFIED:20240617T063730Z
UID:48219-1719498600-1719581400@anci.fvg.it
SUMMARY:EVENTO RINVIATO | Aree naturali protette\, riforme per la governance e per i parchi naturali
DESCRIPTION:In vista dell’avvio del processo di assunzione presso gli Ambiti territoriali sociali (ATS)\, proseguono gli appuntamenti informativi\, organizzati da  ANCI in collaborazione con il Ministero del lavoro e delle Politiche sociali sui temi del welfare\,  con il webinar in programma il prossimo 14 aprile alle ore 11.00\, dedicato al bando di concorso nazionale per il reclutamento di 3.839 unità di personale da assumere con contratto a tempo pieno e determinato (36 mesi) presso gli Ambiti territoriali sociali (ATS).Nel corso del webinar verranno illustrati i punti salienti della Convenzione che gli ATS dovranno sottoscrivere con il Ministero del lavoro e delle politiche sociali e verranno forniti approfondimenti sul tema della rendicontazione di spesa e sui criteri di ammissibilità. Per partecipare al webinar è necessario iscriversi al seguente link  Per maggiori informazioni è possibile consultare la pagina dedicata sul sito del Programma nazionale Inclusione e lotta alla povertà 2021-2027 E’ inoltre possibile rivedere i precedenti webinar dedicati alle Assunzioni negli ATS nella pagina del Progetto POSSO\, finalizzato a supportare e rafforzare la capacità operativa degli Ambiti Territoriali Sociali (ATS)\, contribuendo alla realizzazione e all’erogazione dei Livelli Essenziali delle Prestazioni Sociali (LEPS). Il progetto è promosso dal Ministero del Lavoro e delle politiche sociali e realizzato da ANCI.
URL:https://anci.fvg.it/evento/save-the-date-aree-naturali-protette-riforme-per-la-governance-e-per-i-parchi-naturali/
LOCATION:Venzone
CATEGORIES:Appuntamenti ANCI FVG,Eventi nazionali,Seminari tematici e visite studio
ATTACH;FMTTYPE=image/jpeg:https://anci.fvg.it/wp-content/uploads/2024/06/PARCHI-e-COMUNITa-in-RETE_save-the-date-2-scaled.jpg
END:VEVENT
END:VCALENDAR