BEGIN:VCALENDAR
VERSION:2.0
PRODID:-//Anci FVG - ECPv6.15.12.2//NONSGML v1.0//EN
CALSCALE:GREGORIAN
METHOD:PUBLISH
X-WR-CALNAME:Anci FVG
X-ORIGINAL-URL:https://anci.fvg.it
X-WR-CALDESC:Eventi per Anci FVG
REFRESH-INTERVAL;VALUE=DURATION:PT1H
X-Robots-Tag:noindex
X-PUBLISHED-TTL:PT1H
BEGIN:VTIMEZONE
TZID:Europe/Rome
BEGIN:DAYLIGHT
TZOFFSETFROM:+0100
TZOFFSETTO:+0200
TZNAME:CEST
DTSTART:20230326T010000
END:DAYLIGHT
BEGIN:STANDARD
TZOFFSETFROM:+0200
TZOFFSETTO:+0100
TZNAME:CET
DTSTART:20231029T010000
END:STANDARD
BEGIN:DAYLIGHT
TZOFFSETFROM:+0100
TZOFFSETTO:+0200
TZNAME:CEST
DTSTART:20240331T010000
END:DAYLIGHT
BEGIN:STANDARD
TZOFFSETFROM:+0200
TZOFFSETTO:+0100
TZNAME:CET
DTSTART:20241027T010000
END:STANDARD
BEGIN:DAYLIGHT
TZOFFSETFROM:+0100
TZOFFSETTO:+0200
TZNAME:CEST
DTSTART:20250330T010000
END:DAYLIGHT
BEGIN:STANDARD
TZOFFSETFROM:+0200
TZOFFSETTO:+0100
TZNAME:CET
DTSTART:20251026T010000
END:STANDARD
END:VTIMEZONE
BEGIN:VEVENT
DTSTART;TZID=Europe/Rome:20241112T103000
DTEND;TZID=Europe/Rome:20241112T130000
DTSTAMP:20260421T074901
CREATED:20241108T081609Z
LAST-MODIFIED:20241108T081737Z
UID:51287-1731407400-1731416400@anci.fvg.it
SUMMARY:Normativa Seveso III: Sicurezza e Responsabilità dei Comuni
DESCRIPTION:In vista dell’avvio del processo di assunzione presso gli Ambiti territoriali sociali (ATS)\, proseguono gli appuntamenti informativi\, organizzati da  ANCI in collaborazione con il Ministero del lavoro e delle Politiche sociali sui temi del welfare\,  con il webinar in programma il prossimo 14 aprile alle ore 11.00\, dedicato al bando di concorso nazionale per il reclutamento di 3.839 unità di personale da assumere con contratto a tempo pieno e determinato (36 mesi) presso gli Ambiti territoriali sociali (ATS).Nel corso del webinar verranno illustrati i punti salienti della Convenzione che gli ATS dovranno sottoscrivere con il Ministero del lavoro e delle politiche sociali e verranno forniti approfondimenti sul tema della rendicontazione di spesa e sui criteri di ammissibilità. Per partecipare al webinar è necessario iscriversi al seguente link  Per maggiori informazioni è possibile consultare la pagina dedicata sul sito del Programma nazionale Inclusione e lotta alla povertà 2021-2027 E’ inoltre possibile rivedere i precedenti webinar dedicati alle Assunzioni negli ATS nella pagina del Progetto POSSO\, finalizzato a supportare e rafforzare la capacità operativa degli Ambiti Territoriali Sociali (ATS)\, contribuendo alla realizzazione e all’erogazione dei Livelli Essenziali delle Prestazioni Sociali (LEPS). Il progetto è promosso dal Ministero del Lavoro e delle politiche sociali e realizzato da ANCI.
URL:https://anci.fvg.it/evento/normativa-seveso-iii-sicurezza-e-responsabilita-dei-comuni/
LOCATION:online
CATEGORIES:Eventi nazionali,Webinar
ATTACH;FMTTYPE=image/jpeg:https://anci.fvg.it/wp-content/uploads/2024/11/seveso.jpg
END:VEVENT
BEGIN:VEVENT
DTSTART;TZID=Europe/Rome:20241113T113000
DTEND;TZID=Europe/Rome:20241113T120000
DTSTAMP:20260421T074902
CREATED:20241108T080414Z
LAST-MODIFIED:20241108T080415Z
UID:51283-1731497400-1731499200@anci.fvg.it
SUMMARY:Conferenza stampa iniziative Capitale Europea della Cultura GO! 2025
DESCRIPTION:In vista dell’avvio del processo di assunzione presso gli Ambiti territoriali sociali (ATS)\, proseguono gli appuntamenti informativi\, organizzati da  ANCI in collaborazione con il Ministero del lavoro e delle Politiche sociali sui temi del welfare\,  con il webinar in programma il prossimo 14 aprile alle ore 11.00\, dedicato al bando di concorso nazionale per il reclutamento di 3.839 unità di personale da assumere con contratto a tempo pieno e determinato (36 mesi) presso gli Ambiti territoriali sociali (ATS).Nel corso del webinar verranno illustrati i punti salienti della Convenzione che gli ATS dovranno sottoscrivere con il Ministero del lavoro e delle politiche sociali e verranno forniti approfondimenti sul tema della rendicontazione di spesa e sui criteri di ammissibilità. Per partecipare al webinar è necessario iscriversi al seguente link  Per maggiori informazioni è possibile consultare la pagina dedicata sul sito del Programma nazionale Inclusione e lotta alla povertà 2021-2027 E’ inoltre possibile rivedere i precedenti webinar dedicati alle Assunzioni negli ATS nella pagina del Progetto POSSO\, finalizzato a supportare e rafforzare la capacità operativa degli Ambiti Territoriali Sociali (ATS)\, contribuendo alla realizzazione e all’erogazione dei Livelli Essenziali delle Prestazioni Sociali (LEPS). Il progetto è promosso dal Ministero del Lavoro e delle politiche sociali e realizzato da ANCI.
URL:https://anci.fvg.it/evento/conferenza-stampa-iniziative-capitale-europea-della-cultura-go-2025/
LOCATION:ANCI\, Via dei Prefetti 46\, Roma\, Italia
CATEGORIES:Eventi nazionali
ATTACH;FMTTYPE=image/jpeg:https://anci.fvg.it/wp-content/uploads/2024/11/GO2025.jpg
END:VEVENT
BEGIN:VEVENT
DTSTART;TZID=Europe/Rome:20241120T093000
DTEND;TZID=Europe/Rome:20241120T180000
DTSTAMP:20260421T074902
CREATED:20240718T055259Z
LAST-MODIFIED:20241108T082504Z
UID:49292-1732095000-1732125600@anci.fvg.it
SUMMARY:41^ Assemblea nazionale Anci e 20^ Assemblea congressuale
DESCRIPTION:In vista dell’avvio del processo di assunzione presso gli Ambiti territoriali sociali (ATS)\, proseguono gli appuntamenti informativi\, organizzati da  ANCI in collaborazione con il Ministero del lavoro e delle Politiche sociali sui temi del welfare\,  con il webinar in programma il prossimo 14 aprile alle ore 11.00\, dedicato al bando di concorso nazionale per il reclutamento di 3.839 unità di personale da assumere con contratto a tempo pieno e determinato (36 mesi) presso gli Ambiti territoriali sociali (ATS).Nel corso del webinar verranno illustrati i punti salienti della Convenzione che gli ATS dovranno sottoscrivere con il Ministero del lavoro e delle politiche sociali e verranno forniti approfondimenti sul tema della rendicontazione di spesa e sui criteri di ammissibilità. Per partecipare al webinar è necessario iscriversi al seguente link  Per maggiori informazioni è possibile consultare la pagina dedicata sul sito del Programma nazionale Inclusione e lotta alla povertà 2021-2027 E’ inoltre possibile rivedere i precedenti webinar dedicati alle Assunzioni negli ATS nella pagina del Progetto POSSO\, finalizzato a supportare e rafforzare la capacità operativa degli Ambiti Territoriali Sociali (ATS)\, contribuendo alla realizzazione e all’erogazione dei Livelli Essenziali delle Prestazioni Sociali (LEPS). Il progetto è promosso dal Ministero del Lavoro e delle politiche sociali e realizzato da ANCI.
URL:https://anci.fvg.it/evento/41-assemblea-nazionale/
LOCATION:Lingotto Fiere
CATEGORIES:Eventi nazionali
ATTACH;FMTTYPE=image/jpeg:https://anci.fvg.it/wp-content/uploads/2024/10/popup-1024x1024-2.jpg
END:VEVENT
BEGIN:VEVENT
DTSTART;TZID=Europe/Rome:20241121T093000
DTEND;TZID=Europe/Rome:20241121T180000
DTSTAMP:20260421T074902
CREATED:20241108T082137Z
LAST-MODIFIED:20241108T082908Z
UID:51293-1732181400-1732212000@anci.fvg.it
SUMMARY:41^ Assemblea nazionale Anci
DESCRIPTION:In vista dell’avvio del processo di assunzione presso gli Ambiti territoriali sociali (ATS)\, proseguono gli appuntamenti informativi\, organizzati da  ANCI in collaborazione con il Ministero del lavoro e delle Politiche sociali sui temi del welfare\,  con il webinar in programma il prossimo 14 aprile alle ore 11.00\, dedicato al bando di concorso nazionale per il reclutamento di 3.839 unità di personale da assumere con contratto a tempo pieno e determinato (36 mesi) presso gli Ambiti territoriali sociali (ATS).Nel corso del webinar verranno illustrati i punti salienti della Convenzione che gli ATS dovranno sottoscrivere con il Ministero del lavoro e delle politiche sociali e verranno forniti approfondimenti sul tema della rendicontazione di spesa e sui criteri di ammissibilità. Per partecipare al webinar è necessario iscriversi al seguente link  Per maggiori informazioni è possibile consultare la pagina dedicata sul sito del Programma nazionale Inclusione e lotta alla povertà 2021-2027 E’ inoltre possibile rivedere i precedenti webinar dedicati alle Assunzioni negli ATS nella pagina del Progetto POSSO\, finalizzato a supportare e rafforzare la capacità operativa degli Ambiti Territoriali Sociali (ATS)\, contribuendo alla realizzazione e all’erogazione dei Livelli Essenziali delle Prestazioni Sociali (LEPS). Il progetto è promosso dal Ministero del Lavoro e delle politiche sociali e realizzato da ANCI.
URL:https://anci.fvg.it/evento/41-assemblea-nazionale-anci/
LOCATION:Lingotto Fiere
CATEGORIES:Eventi nazionali
ATTACH;FMTTYPE=image/jpeg:https://anci.fvg.it/wp-content/uploads/2024/10/popup-1024x1024-2.jpg
END:VEVENT
BEGIN:VEVENT
DTSTART;TZID=Europe/Rome:20241122T093000
DTEND;TZID=Europe/Rome:20241122T140000
DTSTAMP:20260421T074902
CREATED:20241108T082314Z
LAST-MODIFIED:20241108T082942Z
UID:51295-1732267800-1732284000@anci.fvg.it
SUMMARY:41^ Assemblea nazionale Anci
DESCRIPTION:In vista dell’avvio del processo di assunzione presso gli Ambiti territoriali sociali (ATS)\, proseguono gli appuntamenti informativi\, organizzati da  ANCI in collaborazione con il Ministero del lavoro e delle Politiche sociali sui temi del welfare\,  con il webinar in programma il prossimo 14 aprile alle ore 11.00\, dedicato al bando di concorso nazionale per il reclutamento di 3.839 unità di personale da assumere con contratto a tempo pieno e determinato (36 mesi) presso gli Ambiti territoriali sociali (ATS).Nel corso del webinar verranno illustrati i punti salienti della Convenzione che gli ATS dovranno sottoscrivere con il Ministero del lavoro e delle politiche sociali e verranno forniti approfondimenti sul tema della rendicontazione di spesa e sui criteri di ammissibilità. Per partecipare al webinar è necessario iscriversi al seguente link  Per maggiori informazioni è possibile consultare la pagina dedicata sul sito del Programma nazionale Inclusione e lotta alla povertà 2021-2027 E’ inoltre possibile rivedere i precedenti webinar dedicati alle Assunzioni negli ATS nella pagina del Progetto POSSO\, finalizzato a supportare e rafforzare la capacità operativa degli Ambiti Territoriali Sociali (ATS)\, contribuendo alla realizzazione e all’erogazione dei Livelli Essenziali delle Prestazioni Sociali (LEPS). Il progetto è promosso dal Ministero del Lavoro e delle politiche sociali e realizzato da ANCI.
URL:https://anci.fvg.it/evento/41-assemblea-nazionale-anci-2/
LOCATION:Lingotto Fiere
CATEGORIES:Eventi nazionali
ATTACH;FMTTYPE=image/jpeg:https://anci.fvg.it/wp-content/uploads/2024/10/popup-1024x1024-2.jpg
END:VEVENT
END:VCALENDAR