BEGIN:VCALENDAR
VERSION:2.0
PRODID:-//Anci FVG - ECPv6.15.12.2//NONSGML v1.0//EN
CALSCALE:GREGORIAN
METHOD:PUBLISH
X-ORIGINAL-URL:https://anci.fvg.it
X-WR-CALDESC:Eventi per Anci FVG
REFRESH-INTERVAL;VALUE=DURATION:PT1H
X-Robots-Tag:noindex
X-PUBLISHED-TTL:PT1H
BEGIN:VTIMEZONE
TZID:Europe/Rome
BEGIN:DAYLIGHT
TZOFFSETFROM:+0100
TZOFFSETTO:+0200
TZNAME:CEST
DTSTART:20240331T010000
END:DAYLIGHT
BEGIN:STANDARD
TZOFFSETFROM:+0200
TZOFFSETTO:+0100
TZNAME:CET
DTSTART:20241027T010000
END:STANDARD
BEGIN:DAYLIGHT
TZOFFSETFROM:+0100
TZOFFSETTO:+0200
TZNAME:CEST
DTSTART:20250330T010000
END:DAYLIGHT
BEGIN:STANDARD
TZOFFSETFROM:+0200
TZOFFSETTO:+0100
TZNAME:CET
DTSTART:20251026T010000
END:STANDARD
BEGIN:DAYLIGHT
TZOFFSETFROM:+0100
TZOFFSETTO:+0200
TZNAME:CEST
DTSTART:20260329T010000
END:DAYLIGHT
BEGIN:STANDARD
TZOFFSETFROM:+0200
TZOFFSETTO:+0100
TZNAME:CET
DTSTART:20261025T010000
END:STANDARD
END:VTIMEZONE
BEGIN:VEVENT
DTSTART;TZID=Europe/Rome:20250116T103000
DTEND;TZID=Europe/Rome:20250116T123000
DTSTAMP:20260421T111525
CREATED:20250113T090423Z
LAST-MODIFIED:20250113T090424Z
UID:52521-1737023400-1737030600@anci.fvg.it
SUMMARY:Pagamenti PNRR: chiarimenti sul decreto attuativo
DESCRIPTION:In vista dell’avvio del processo di assunzione presso gli Ambiti territoriali sociali (ATS)\, proseguono gli appuntamenti informativi\, organizzati da  ANCI in collaborazione con il Ministero del lavoro e delle Politiche sociali sui temi del welfare\,  con il webinar in programma il prossimo 14 aprile alle ore 11.00\, dedicato al bando di concorso nazionale per il reclutamento di 3.839 unità di personale da assumere con contratto a tempo pieno e determinato (36 mesi) presso gli Ambiti territoriali sociali (ATS).Nel corso del webinar verranno illustrati i punti salienti della Convenzione che gli ATS dovranno sottoscrivere con il Ministero del lavoro e delle politiche sociali e verranno forniti approfondimenti sul tema della rendicontazione di spesa e sui criteri di ammissibilità. Per partecipare al webinar è necessario iscriversi al seguente link  Per maggiori informazioni è possibile consultare la pagina dedicata sul sito del Programma nazionale Inclusione e lotta alla povertà 2021-2027 E’ inoltre possibile rivedere i precedenti webinar dedicati alle Assunzioni negli ATS nella pagina del Progetto POSSO\, finalizzato a supportare e rafforzare la capacità operativa degli Ambiti Territoriali Sociali (ATS)\, contribuendo alla realizzazione e all’erogazione dei Livelli Essenziali delle Prestazioni Sociali (LEPS). Il progetto è promosso dal Ministero del Lavoro e delle politiche sociali e realizzato da ANCI.
URL:https://anci.fvg.it/evento/pagamenti-pnrr-chiarimenti-sul-decreto-attuativo/
LOCATION:on line
CATEGORIES:Eventi nazionali,Webinar
ATTACH;FMTTYPE=image/png:https://anci.fvg.it/wp-content/uploads/2024/03/europa.png
END:VEVENT
BEGIN:VEVENT
DTSTART;TZID=Europe/Rome:20250116T150000
DTEND;TZID=Europe/Rome:20250116T173000
DTSTAMP:20260421T111525
CREATED:20241220T062224Z
LAST-MODIFIED:20241220T063012Z
UID:52370-1737039600-1737048600@anci.fvg.it
SUMMARY:Save the Date | Convegno "PNRR: prima\, durante e ... poi?"
DESCRIPTION:In vista dell’avvio del processo di assunzione presso gli Ambiti territoriali sociali (ATS)\, proseguono gli appuntamenti informativi\, organizzati da  ANCI in collaborazione con il Ministero del lavoro e delle Politiche sociali sui temi del welfare\,  con il webinar in programma il prossimo 14 aprile alle ore 11.00\, dedicato al bando di concorso nazionale per il reclutamento di 3.839 unità di personale da assumere con contratto a tempo pieno e determinato (36 mesi) presso gli Ambiti territoriali sociali (ATS).Nel corso del webinar verranno illustrati i punti salienti della Convenzione che gli ATS dovranno sottoscrivere con il Ministero del lavoro e delle politiche sociali e verranno forniti approfondimenti sul tema della rendicontazione di spesa e sui criteri di ammissibilità. Per partecipare al webinar è necessario iscriversi al seguente link  Per maggiori informazioni è possibile consultare la pagina dedicata sul sito del Programma nazionale Inclusione e lotta alla povertà 2021-2027 E’ inoltre possibile rivedere i precedenti webinar dedicati alle Assunzioni negli ATS nella pagina del Progetto POSSO\, finalizzato a supportare e rafforzare la capacità operativa degli Ambiti Territoriali Sociali (ATS)\, contribuendo alla realizzazione e all’erogazione dei Livelli Essenziali delle Prestazioni Sociali (LEPS). Il progetto è promosso dal Ministero del Lavoro e delle politiche sociali e realizzato da ANCI.
URL:https://anci.fvg.it/evento/pnrr-prima-durante-e-poi/
LOCATION:Sala Promoteca\, Piazza Campidoglio\, Roma\, Italy
CATEGORIES:Eventi nazionali
ATTACH;FMTTYPE=image/jpeg:https://anci.fvg.it/wp-content/uploads/2024/12/ifel.jpg
END:VEVENT
BEGIN:VEVENT
DTSTART;TZID=Europe/Rome:20250123T100000
DTEND;TZID=Europe/Rome:20250123T120000
DTSTAMP:20260421T111525
CREATED:20241220T140022Z
LAST-MODIFIED:20250115T140055Z
UID:52404-1737626400-1737633600@anci.fvg.it
SUMMARY:Italea - Turismo delle radici: opportunità per il territorio
DESCRIPTION:In vista dell’avvio del processo di assunzione presso gli Ambiti territoriali sociali (ATS)\, proseguono gli appuntamenti informativi\, organizzati da  ANCI in collaborazione con il Ministero del lavoro e delle Politiche sociali sui temi del welfare\,  con il webinar in programma il prossimo 14 aprile alle ore 11.00\, dedicato al bando di concorso nazionale per il reclutamento di 3.839 unità di personale da assumere con contratto a tempo pieno e determinato (36 mesi) presso gli Ambiti territoriali sociali (ATS).Nel corso del webinar verranno illustrati i punti salienti della Convenzione che gli ATS dovranno sottoscrivere con il Ministero del lavoro e delle politiche sociali e verranno forniti approfondimenti sul tema della rendicontazione di spesa e sui criteri di ammissibilità. Per partecipare al webinar è necessario iscriversi al seguente link  Per maggiori informazioni è possibile consultare la pagina dedicata sul sito del Programma nazionale Inclusione e lotta alla povertà 2021-2027 E’ inoltre possibile rivedere i precedenti webinar dedicati alle Assunzioni negli ATS nella pagina del Progetto POSSO\, finalizzato a supportare e rafforzare la capacità operativa degli Ambiti Territoriali Sociali (ATS)\, contribuendo alla realizzazione e all’erogazione dei Livelli Essenziali delle Prestazioni Sociali (LEPS). Il progetto è promosso dal Ministero del Lavoro e delle politiche sociali e realizzato da ANCI.
URL:https://anci.fvg.it/evento/italea-turismo-delle-radici-opportunita-per-il-territorio/
LOCATION:on line
CATEGORIES:Altri organizzatori: eventi esterni di interesse degli Enti locali,Appuntamenti ANCI FVG,Eventi nazionali,Webinar
ATTACH;FMTTYPE=image/jpeg:https://anci.fvg.it/wp-content/uploads/2024/12/23_sito.jpg
END:VEVENT
BEGIN:VEVENT
DTSTART;TZID=Europe/Rome:20250127T100000
DTEND;TZID=Europe/Rome:20250127T130000
DTSTAMP:20260421T111525
CREATED:20250124T092819Z
LAST-MODIFIED:20250124T094051Z
UID:52819-1737972000-1737982800@anci.fvg.it
SUMMARY:La Legge concorrenza 2023 e le ultime novità normative in materia di attività produttive
DESCRIPTION:In vista dell’avvio del processo di assunzione presso gli Ambiti territoriali sociali (ATS)\, proseguono gli appuntamenti informativi\, organizzati da  ANCI in collaborazione con il Ministero del lavoro e delle Politiche sociali sui temi del welfare\,  con il webinar in programma il prossimo 14 aprile alle ore 11.00\, dedicato al bando di concorso nazionale per il reclutamento di 3.839 unità di personale da assumere con contratto a tempo pieno e determinato (36 mesi) presso gli Ambiti territoriali sociali (ATS).Nel corso del webinar verranno illustrati i punti salienti della Convenzione che gli ATS dovranno sottoscrivere con il Ministero del lavoro e delle politiche sociali e verranno forniti approfondimenti sul tema della rendicontazione di spesa e sui criteri di ammissibilità. Per partecipare al webinar è necessario iscriversi al seguente link  Per maggiori informazioni è possibile consultare la pagina dedicata sul sito del Programma nazionale Inclusione e lotta alla povertà 2021-2027 E’ inoltre possibile rivedere i precedenti webinar dedicati alle Assunzioni negli ATS nella pagina del Progetto POSSO\, finalizzato a supportare e rafforzare la capacità operativa degli Ambiti Territoriali Sociali (ATS)\, contribuendo alla realizzazione e all’erogazione dei Livelli Essenziali delle Prestazioni Sociali (LEPS). Il progetto è promosso dal Ministero del Lavoro e delle politiche sociali e realizzato da ANCI.
URL:https://anci.fvg.it/evento/la-legge-concorrenza-2023-e-le-ultime-novita-normative-in-materia-di-attivita-produttive/
LOCATION:online
CATEGORIES:Eventi nazionali,Webinar
ATTACH;FMTTYPE=image/jpeg:https://anci.fvg.it/wp-content/uploads/2025/01/concorrenza2023.jpeg
END:VEVENT
BEGIN:VEVENT
DTSTART;TZID=Europe/Rome:20250128T110000
DTEND;TZID=Europe/Rome:20250128T130000
DTSTAMP:20260421T111525
CREATED:20250121T085305Z
LAST-MODIFIED:20250128T075734Z
UID:52577-1738062000-1738069200@anci.fvg.it
SUMMARY:Assegno di inclusione: le novità introdotte con la legge di Bilancio 2025
DESCRIPTION:In vista dell’avvio del processo di assunzione presso gli Ambiti territoriali sociali (ATS)\, proseguono gli appuntamenti informativi\, organizzati da  ANCI in collaborazione con il Ministero del lavoro e delle Politiche sociali sui temi del welfare\,  con il webinar in programma il prossimo 14 aprile alle ore 11.00\, dedicato al bando di concorso nazionale per il reclutamento di 3.839 unità di personale da assumere con contratto a tempo pieno e determinato (36 mesi) presso gli Ambiti territoriali sociali (ATS).Nel corso del webinar verranno illustrati i punti salienti della Convenzione che gli ATS dovranno sottoscrivere con il Ministero del lavoro e delle politiche sociali e verranno forniti approfondimenti sul tema della rendicontazione di spesa e sui criteri di ammissibilità. Per partecipare al webinar è necessario iscriversi al seguente link  Per maggiori informazioni è possibile consultare la pagina dedicata sul sito del Programma nazionale Inclusione e lotta alla povertà 2021-2027 E’ inoltre possibile rivedere i precedenti webinar dedicati alle Assunzioni negli ATS nella pagina del Progetto POSSO\, finalizzato a supportare e rafforzare la capacità operativa degli Ambiti Territoriali Sociali (ATS)\, contribuendo alla realizzazione e all’erogazione dei Livelli Essenziali delle Prestazioni Sociali (LEPS). Il progetto è promosso dal Ministero del Lavoro e delle politiche sociali e realizzato da ANCI.
URL:https://anci.fvg.it/evento/assegno-di-inclusione-le-novita-introdotte-con-la-legge-di-bilancio-2025/
LOCATION:on line
CATEGORIES:Eventi nazionali,Webinar
ATTACH;FMTTYPE=image/jpeg:https://anci.fvg.it/wp-content/uploads/2025/01/assegno_inclusione.jpg
END:VEVENT
BEGIN:VEVENT
DTSTART;TZID=Europe/Rome:20250128T150000
DTEND;TZID=Europe/Rome:20250128T173000
DTSTAMP:20260421T111525
CREATED:20250128T071528Z
LAST-MODIFIED:20250128T071627Z
UID:52942-1738076400-1738085400@anci.fvg.it
SUMMARY:Connettività fluviale e mitigazione del rischio di alluvioni
DESCRIPTION:In vista dell’avvio del processo di assunzione presso gli Ambiti territoriali sociali (ATS)\, proseguono gli appuntamenti informativi\, organizzati da  ANCI in collaborazione con il Ministero del lavoro e delle Politiche sociali sui temi del welfare\,  con il webinar in programma il prossimo 14 aprile alle ore 11.00\, dedicato al bando di concorso nazionale per il reclutamento di 3.839 unità di personale da assumere con contratto a tempo pieno e determinato (36 mesi) presso gli Ambiti territoriali sociali (ATS).Nel corso del webinar verranno illustrati i punti salienti della Convenzione che gli ATS dovranno sottoscrivere con il Ministero del lavoro e delle politiche sociali e verranno forniti approfondimenti sul tema della rendicontazione di spesa e sui criteri di ammissibilità. Per partecipare al webinar è necessario iscriversi al seguente link  Per maggiori informazioni è possibile consultare la pagina dedicata sul sito del Programma nazionale Inclusione e lotta alla povertà 2021-2027 E’ inoltre possibile rivedere i precedenti webinar dedicati alle Assunzioni negli ATS nella pagina del Progetto POSSO\, finalizzato a supportare e rafforzare la capacità operativa degli Ambiti Territoriali Sociali (ATS)\, contribuendo alla realizzazione e all’erogazione dei Livelli Essenziali delle Prestazioni Sociali (LEPS). Il progetto è promosso dal Ministero del Lavoro e delle politiche sociali e realizzato da ANCI.
URL:https://anci.fvg.it/evento/connettivita-fluviale-e-mitigazione-del-rischio-di-alluvioni/
LOCATION:online
CATEGORIES:Eventi nazionali,Webinar
ATTACH;FMTTYPE=image/jpeg:https://anci.fvg.it/wp-content/uploads/2025/01/fluviale.jpg
END:VEVENT
BEGIN:VEVENT
DTSTART;TZID=Europe/Rome:20250130T090000
DTEND;TZID=Europe/Rome:20250130T173000
DTSTAMP:20260421T111525
CREATED:20250117T073326Z
LAST-MODIFIED:20250124T101126Z
UID:52549-1738227600-1738258200@anci.fvg.it
SUMMARY:Tredicesima Conferenza sulla Finanza e l'Economia locale
DESCRIPTION:In vista dell’avvio del processo di assunzione presso gli Ambiti territoriali sociali (ATS)\, proseguono gli appuntamenti informativi\, organizzati da  ANCI in collaborazione con il Ministero del lavoro e delle Politiche sociali sui temi del welfare\,  con il webinar in programma il prossimo 14 aprile alle ore 11.00\, dedicato al bando di concorso nazionale per il reclutamento di 3.839 unità di personale da assumere con contratto a tempo pieno e determinato (36 mesi) presso gli Ambiti territoriali sociali (ATS).Nel corso del webinar verranno illustrati i punti salienti della Convenzione che gli ATS dovranno sottoscrivere con il Ministero del lavoro e delle politiche sociali e verranno forniti approfondimenti sul tema della rendicontazione di spesa e sui criteri di ammissibilità. Per partecipare al webinar è necessario iscriversi al seguente link  Per maggiori informazioni è possibile consultare la pagina dedicata sul sito del Programma nazionale Inclusione e lotta alla povertà 2021-2027 E’ inoltre possibile rivedere i precedenti webinar dedicati alle Assunzioni negli ATS nella pagina del Progetto POSSO\, finalizzato a supportare e rafforzare la capacità operativa degli Ambiti Territoriali Sociali (ATS)\, contribuendo alla realizzazione e all’erogazione dei Livelli Essenziali delle Prestazioni Sociali (LEPS). Il progetto è promosso dal Ministero del Lavoro e delle politiche sociali e realizzato da ANCI.
URL:https://anci.fvg.it/evento/tredicesima-conferenza-sulla-finanza-e-leconomia-locale/
LOCATION:Centro Congressi Roma Eventi\, Piazza della Pilotta\, 4\, Roma\, Italy
CATEGORIES:Eventi nazionali,Seminari tematici e visite studio
ATTACH;FMTTYPE=image/jpeg:https://anci.fvg.it/wp-content/uploads/2025/01/ifel.jpg
END:VEVENT
END:VCALENDAR