BEGIN:VCALENDAR
VERSION:2.0
PRODID:-//Anci FVG - ECPv6.15.12.2//NONSGML v1.0//EN
CALSCALE:GREGORIAN
METHOD:PUBLISH
X-WR-CALNAME:Anci FVG
X-ORIGINAL-URL:https://anci.fvg.it
X-WR-CALDESC:Eventi per Anci FVG
REFRESH-INTERVAL;VALUE=DURATION:PT1H
X-Robots-Tag:noindex
X-PUBLISHED-TTL:PT1H
BEGIN:VTIMEZONE
TZID:Europe/Rome
BEGIN:DAYLIGHT
TZOFFSETFROM:+0100
TZOFFSETTO:+0200
TZNAME:CEST
DTSTART:20240331T010000
END:DAYLIGHT
BEGIN:STANDARD
TZOFFSETFROM:+0200
TZOFFSETTO:+0100
TZNAME:CET
DTSTART:20241027T010000
END:STANDARD
BEGIN:DAYLIGHT
TZOFFSETFROM:+0100
TZOFFSETTO:+0200
TZNAME:CEST
DTSTART:20250330T010000
END:DAYLIGHT
BEGIN:STANDARD
TZOFFSETFROM:+0200
TZOFFSETTO:+0100
TZNAME:CET
DTSTART:20251026T010000
END:STANDARD
BEGIN:DAYLIGHT
TZOFFSETFROM:+0100
TZOFFSETTO:+0200
TZNAME:CEST
DTSTART:20260329T010000
END:DAYLIGHT
BEGIN:STANDARD
TZOFFSETFROM:+0200
TZOFFSETTO:+0100
TZNAME:CET
DTSTART:20261025T010000
END:STANDARD
END:VTIMEZONE
BEGIN:VEVENT
DTSTART;TZID=Europe/Rome:20250604T120000
DTEND;TZID=Europe/Rome:20250604T130000
DTSTAMP:20260421T132556
CREATED:20250529T060239Z
LAST-MODIFIED:20250604T091118Z
UID:55915-1749038400-1749042000@anci.fvg.it
SUMMARY:Avviso Pubblico ANCI su Fondo Politiche Giovanili – Assegnazione Spazi/Immobili a Giovani Under 35 per Progetti Innovativi (II Edizione)
DESCRIPTION:In vista dell’avvio del processo di assunzione presso gli Ambiti territoriali sociali (ATS)\, proseguono gli appuntamenti informativi\, organizzati da  ANCI in collaborazione con il Ministero del lavoro e delle Politiche sociali sui temi del welfare\,  con il webinar in programma il prossimo 14 aprile alle ore 11.00\, dedicato al bando di concorso nazionale per il reclutamento di 3.839 unità di personale da assumere con contratto a tempo pieno e determinato (36 mesi) presso gli Ambiti territoriali sociali (ATS).Nel corso del webinar verranno illustrati i punti salienti della Convenzione che gli ATS dovranno sottoscrivere con il Ministero del lavoro e delle politiche sociali e verranno forniti approfondimenti sul tema della rendicontazione di spesa e sui criteri di ammissibilità. Per partecipare al webinar è necessario iscriversi al seguente link  Per maggiori informazioni è possibile consultare la pagina dedicata sul sito del Programma nazionale Inclusione e lotta alla povertà 2021-2027 E’ inoltre possibile rivedere i precedenti webinar dedicati alle Assunzioni negli ATS nella pagina del Progetto POSSO\, finalizzato a supportare e rafforzare la capacità operativa degli Ambiti Territoriali Sociali (ATS)\, contribuendo alla realizzazione e all’erogazione dei Livelli Essenziali delle Prestazioni Sociali (LEPS). Il progetto è promosso dal Ministero del Lavoro e delle politiche sociali e realizzato da ANCI.
URL:https://anci.fvg.it/evento/avviso-pubblico-anci-su-fondo-politiche-giovanili-assegnazione-spazi-immobili-a-giovani-under-35-per-progetti-innovativi-ii-edizione/
LOCATION:online
CATEGORIES:Eventi nazionali
ATTACH;FMTTYPE=image/png:https://anci.fvg.it/wp-content/uploads/2025/05/Locandina-evento.png
END:VEVENT
BEGIN:VEVENT
DTSTART;TZID=Europe/Rome:20250604T120000
DTEND;TZID=Europe/Rome:20250604T130000
DTSTAMP:20260421T132556
CREATED:20250529T061138Z
LAST-MODIFIED:20250530T060423Z
UID:55922-1749038400-1749042000@anci.fvg.it
SUMMARY:Aggiornamenti in materia di anagrafica e rendicontazione dei progetti PNRR
DESCRIPTION:In vista dell’avvio del processo di assunzione presso gli Ambiti territoriali sociali (ATS)\, proseguono gli appuntamenti informativi\, organizzati da  ANCI in collaborazione con il Ministero del lavoro e delle Politiche sociali sui temi del welfare\,  con il webinar in programma il prossimo 14 aprile alle ore 11.00\, dedicato al bando di concorso nazionale per il reclutamento di 3.839 unità di personale da assumere con contratto a tempo pieno e determinato (36 mesi) presso gli Ambiti territoriali sociali (ATS).Nel corso del webinar verranno illustrati i punti salienti della Convenzione che gli ATS dovranno sottoscrivere con il Ministero del lavoro e delle politiche sociali e verranno forniti approfondimenti sul tema della rendicontazione di spesa e sui criteri di ammissibilità. Per partecipare al webinar è necessario iscriversi al seguente link  Per maggiori informazioni è possibile consultare la pagina dedicata sul sito del Programma nazionale Inclusione e lotta alla povertà 2021-2027 E’ inoltre possibile rivedere i precedenti webinar dedicati alle Assunzioni negli ATS nella pagina del Progetto POSSO\, finalizzato a supportare e rafforzare la capacità operativa degli Ambiti Territoriali Sociali (ATS)\, contribuendo alla realizzazione e all’erogazione dei Livelli Essenziali delle Prestazioni Sociali (LEPS). Il progetto è promosso dal Ministero del Lavoro e delle politiche sociali e realizzato da ANCI.
URL:https://anci.fvg.it/evento/aggiornamenti-in-materia-di-anagrafica-e-rendicontazione-dei-progetti-pnrr/
CATEGORIES:Eventi nazionali,Webinar
ATTACH;FMTTYPE=image/jpeg:https://anci.fvg.it/wp-content/uploads/2025/05/regis.jpg
END:VEVENT
BEGIN:VEVENT
DTSTART;TZID=Europe/Rome:20250609T110000
DTEND;TZID=Europe/Rome:20250609T130000
DTSTAMP:20260421T132557
CREATED:20250606T065411Z
LAST-MODIFIED:20250606T070127Z
UID:56065-1749466800-1749474000@anci.fvg.it
SUMMARY:Investimenti PNRR in materia di welfare: stato di attuazione e chiarimenti
DESCRIPTION:In vista dell’avvio del processo di assunzione presso gli Ambiti territoriali sociali (ATS)\, proseguono gli appuntamenti informativi\, organizzati da  ANCI in collaborazione con il Ministero del lavoro e delle Politiche sociali sui temi del welfare\,  con il webinar in programma il prossimo 14 aprile alle ore 11.00\, dedicato al bando di concorso nazionale per il reclutamento di 3.839 unità di personale da assumere con contratto a tempo pieno e determinato (36 mesi) presso gli Ambiti territoriali sociali (ATS).Nel corso del webinar verranno illustrati i punti salienti della Convenzione che gli ATS dovranno sottoscrivere con il Ministero del lavoro e delle politiche sociali e verranno forniti approfondimenti sul tema della rendicontazione di spesa e sui criteri di ammissibilità. Per partecipare al webinar è necessario iscriversi al seguente link  Per maggiori informazioni è possibile consultare la pagina dedicata sul sito del Programma nazionale Inclusione e lotta alla povertà 2021-2027 E’ inoltre possibile rivedere i precedenti webinar dedicati alle Assunzioni negli ATS nella pagina del Progetto POSSO\, finalizzato a supportare e rafforzare la capacità operativa degli Ambiti Territoriali Sociali (ATS)\, contribuendo alla realizzazione e all’erogazione dei Livelli Essenziali delle Prestazioni Sociali (LEPS). Il progetto è promosso dal Ministero del Lavoro e delle politiche sociali e realizzato da ANCI.
URL:https://anci.fvg.it/evento/investimenti-pnrr-in-materia-di-welfare-stato-di-attuazione-e-chiarimenti/
CATEGORIES:Eventi nazionali,Webinar
ATTACH;FMTTYPE=image/jpeg:https://anci.fvg.it/wp-content/uploads/2025/06/9giugno.jpg
END:VEVENT
BEGIN:VEVENT
DTSTART;TZID=Europe/Rome:20250611T100000
DTEND;TZID=Europe/Rome:20250611T120000
DTSTAMP:20260421T132557
CREATED:20250610T064012Z
LAST-MODIFIED:20250611T092616Z
UID:56105-1749636000-1749643200@anci.fvg.it
SUMMARY:INPS in rete per l'inclusione
DESCRIPTION:In vista dell’avvio del processo di assunzione presso gli Ambiti territoriali sociali (ATS)\, proseguono gli appuntamenti informativi\, organizzati da  ANCI in collaborazione con il Ministero del lavoro e delle Politiche sociali sui temi del welfare\,  con il webinar in programma il prossimo 14 aprile alle ore 11.00\, dedicato al bando di concorso nazionale per il reclutamento di 3.839 unità di personale da assumere con contratto a tempo pieno e determinato (36 mesi) presso gli Ambiti territoriali sociali (ATS).Nel corso del webinar verranno illustrati i punti salienti della Convenzione che gli ATS dovranno sottoscrivere con il Ministero del lavoro e delle politiche sociali e verranno forniti approfondimenti sul tema della rendicontazione di spesa e sui criteri di ammissibilità. Per partecipare al webinar è necessario iscriversi al seguente link  Per maggiori informazioni è possibile consultare la pagina dedicata sul sito del Programma nazionale Inclusione e lotta alla povertà 2021-2027 E’ inoltre possibile rivedere i precedenti webinar dedicati alle Assunzioni negli ATS nella pagina del Progetto POSSO\, finalizzato a supportare e rafforzare la capacità operativa degli Ambiti Territoriali Sociali (ATS)\, contribuendo alla realizzazione e all’erogazione dei Livelli Essenziali delle Prestazioni Sociali (LEPS). Il progetto è promosso dal Ministero del Lavoro e delle politiche sociali e realizzato da ANCI.
URL:https://anci.fvg.it/evento/inps-in-rete-per-linclusione/
LOCATION:online
CATEGORIES:Eventi nazionali
ATTACH;FMTTYPE=image/jpeg:https://anci.fvg.it/wp-content/uploads/2025/06/inps.jpg
END:VEVENT
BEGIN:VEVENT
DTSTART;TZID=Europe/Rome:20250612T110000
DTEND;TZID=Europe/Rome:20250612T130000
DTSTAMP:20260421T132557
CREATED:20250605T110910Z
LAST-MODIFIED:20250606T080856Z
UID:56056-1749726000-1749733200@anci.fvg.it
SUMMARY:Aggiornamenti in materia di anagrafica e rendicontazione dei progetti PNRR: nuovo evento
DESCRIPTION:In vista dell’avvio del processo di assunzione presso gli Ambiti territoriali sociali (ATS)\, proseguono gli appuntamenti informativi\, organizzati da  ANCI in collaborazione con il Ministero del lavoro e delle Politiche sociali sui temi del welfare\,  con il webinar in programma il prossimo 14 aprile alle ore 11.00\, dedicato al bando di concorso nazionale per il reclutamento di 3.839 unità di personale da assumere con contratto a tempo pieno e determinato (36 mesi) presso gli Ambiti territoriali sociali (ATS).Nel corso del webinar verranno illustrati i punti salienti della Convenzione che gli ATS dovranno sottoscrivere con il Ministero del lavoro e delle politiche sociali e verranno forniti approfondimenti sul tema della rendicontazione di spesa e sui criteri di ammissibilità. Per partecipare al webinar è necessario iscriversi al seguente link  Per maggiori informazioni è possibile consultare la pagina dedicata sul sito del Programma nazionale Inclusione e lotta alla povertà 2021-2027 E’ inoltre possibile rivedere i precedenti webinar dedicati alle Assunzioni negli ATS nella pagina del Progetto POSSO\, finalizzato a supportare e rafforzare la capacità operativa degli Ambiti Territoriali Sociali (ATS)\, contribuendo alla realizzazione e all’erogazione dei Livelli Essenziali delle Prestazioni Sociali (LEPS). Il progetto è promosso dal Ministero del Lavoro e delle politiche sociali e realizzato da ANCI.
URL:https://anci.fvg.it/evento/aggiornamenti-in-materia-di-anagrafica-e-rendicontazione-dei-progetti-pnrr-nuovo-evento/
CATEGORIES:Eventi nazionali,Webinar
ATTACH;FMTTYPE=image/jpeg:https://anci.fvg.it/wp-content/uploads/2025/06/Programma-Webinar-12-giugno-25_page-0001.jpg
END:VEVENT
BEGIN:VEVENT
DTSTART;TZID=Europe/Rome:20250613T100000
DTEND;TZID=Europe/Rome:20250613T120000
DTSTAMP:20260421T132557
CREATED:20250522T070111Z
LAST-MODIFIED:20250610T063553Z
UID:55781-1749808800-1749816000@anci.fvg.it
SUMMARY:"Bici in Comune" ne parlano i protagonisti
DESCRIPTION:In vista dell’avvio del processo di assunzione presso gli Ambiti territoriali sociali (ATS)\, proseguono gli appuntamenti informativi\, organizzati da  ANCI in collaborazione con il Ministero del lavoro e delle Politiche sociali sui temi del welfare\,  con il webinar in programma il prossimo 14 aprile alle ore 11.00\, dedicato al bando di concorso nazionale per il reclutamento di 3.839 unità di personale da assumere con contratto a tempo pieno e determinato (36 mesi) presso gli Ambiti territoriali sociali (ATS).Nel corso del webinar verranno illustrati i punti salienti della Convenzione che gli ATS dovranno sottoscrivere con il Ministero del lavoro e delle politiche sociali e verranno forniti approfondimenti sul tema della rendicontazione di spesa e sui criteri di ammissibilità. Per partecipare al webinar è necessario iscriversi al seguente link  Per maggiori informazioni è possibile consultare la pagina dedicata sul sito del Programma nazionale Inclusione e lotta alla povertà 2021-2027 E’ inoltre possibile rivedere i precedenti webinar dedicati alle Assunzioni negli ATS nella pagina del Progetto POSSO\, finalizzato a supportare e rafforzare la capacità operativa degli Ambiti Territoriali Sociali (ATS)\, contribuendo alla realizzazione e all’erogazione dei Livelli Essenziali delle Prestazioni Sociali (LEPS). Il progetto è promosso dal Ministero del Lavoro e delle politiche sociali e realizzato da ANCI.
URL:https://anci.fvg.it/evento/bici-in-comune-ne-parlano-i-protagonisti/
LOCATION:Comune di Firenze
CATEGORIES:Eventi nazionali
ATTACH;FMTTYPE=image/jpeg:https://anci.fvg.it/wp-content/uploads/2025/05/WhatsApp-Image-2025-05-15-at-12.44.21.jpeg
END:VEVENT
END:VCALENDAR