BEGIN:VCALENDAR
VERSION:2.0
PRODID:-//Anci FVG - ECPv6.15.12.2//NONSGML v1.0//EN
CALSCALE:GREGORIAN
METHOD:PUBLISH
X-ORIGINAL-URL:https://anci.fvg.it
X-WR-CALDESC:Eventi per Anci FVG
REFRESH-INTERVAL;VALUE=DURATION:PT1H
X-Robots-Tag:noindex
X-PUBLISHED-TTL:PT1H
BEGIN:VTIMEZONE
TZID:Europe/Rome
BEGIN:DAYLIGHT
TZOFFSETFROM:+0100
TZOFFSETTO:+0200
TZNAME:CEST
DTSTART:20250330T010000
END:DAYLIGHT
BEGIN:STANDARD
TZOFFSETFROM:+0200
TZOFFSETTO:+0100
TZNAME:CET
DTSTART:20251026T010000
END:STANDARD
BEGIN:DAYLIGHT
TZOFFSETFROM:+0100
TZOFFSETTO:+0200
TZNAME:CEST
DTSTART:20260329T010000
END:DAYLIGHT
BEGIN:STANDARD
TZOFFSETFROM:+0200
TZOFFSETTO:+0100
TZNAME:CET
DTSTART:20261025T010000
END:STANDARD
BEGIN:DAYLIGHT
TZOFFSETFROM:+0100
TZOFFSETTO:+0200
TZNAME:CEST
DTSTART:20270328T010000
END:DAYLIGHT
BEGIN:STANDARD
TZOFFSETFROM:+0200
TZOFFSETTO:+0100
TZNAME:CET
DTSTART:20271031T010000
END:STANDARD
END:VTIMEZONE
BEGIN:VEVENT
DTSTART;TZID=Europe/Rome:20260219T093000
DTEND;TZID=Europe/Rome:20260220T130000
DTSTAMP:20260421T061212
CREATED:20260115T073109Z
LAST-MODIFIED:20260203T120437Z
UID:60643-1771493400-1771592400@anci.fvg.it
SUMMARY:Stati generali dei piccoli Comuni
DESCRIPTION:Il ciclo di incontri organizzati da Anci in collaborazione con il Ministero del Lavoro e delle Politiche Sociali\, con il supporto della Banca Mondiale\, prosegue con il webinar dedicato all’illustrazione delle “Linee guida per la costruzione di Reti di servizi connessi all’attuazione dell’Assegno di Inclusione (ADI)”.  Le Linee guida si propongono come strumento di sviluppo di orientamenti operativi per la formazione di reti istituzionali\, necessarie per garantire un approccio olistico all’accompagnamento delle persone e famiglie vulnerabili e un cambio di paradigma nell’attuazione di misure integrate di attivazione sociale e lavorativa\, come l’ADI\, favorendo la logica di Rete.  								\n				\n					\n		\n					\n		\n				\n						\n					\n			\n							\n		\n					\n		\n				\n						\n					\n			\n						\n						\n					\n			\n						\n				\n							\n			\n						\n		\n						\n				\n					\n		\n				\n			\n						\n				\n									Per partecipare ai lavori iscrizione obbligatoria al linkWebinar ANCI-MLPS: reti di servizi per attuazione ADI								\n				\n					\n		\n					\n		\n					\n		\n					\n		\n				\n						\n					\n			\n						\n						\n					\n			\n						\n				\n							\n			\n						\n		\n						\n				\n					\n		\n				\n			\n						\n				\n									ProgrammaWebinar programma 24 marzo 2025
URL:https://anci.fvg.it/evento/stati-generali-dei-piccoli-comuni/
LOCATION:La Nuvola\, Viale Asia 40\, Roma
CATEGORIES:Eventi nazionali
ATTACH;FMTTYPE=image/png:https://anci.fvg.it/wp-content/uploads/2026/01/Popup-Piccoli-Comuni-Sito-Comunicare.png
END:VEVENT
BEGIN:VEVENT
DTSTART;TZID=Europe/Rome:20260220T110000
DTEND;TZID=Europe/Rome:20260220T130000
DTSTAMP:20260421T061213
CREATED:20260217T072651Z
LAST-MODIFIED:20260217T073226Z
UID:62219-1771585200-1771592400@anci.fvg.it
SUMMARY:Webinar Fondo Povertà: Obiettivo 1 Quota Servizi Fondo Povertà - Rafforzamento del Servizio Sociale Professionale
DESCRIPTION:Il ciclo di incontri organizzati da Anci in collaborazione con il Ministero del Lavoro e delle Politiche Sociali\, con il supporto della Banca Mondiale\, prosegue con il webinar dedicato all’illustrazione delle “Linee guida per la costruzione di Reti di servizi connessi all’attuazione dell’Assegno di Inclusione (ADI)”.  Le Linee guida si propongono come strumento di sviluppo di orientamenti operativi per la formazione di reti istituzionali\, necessarie per garantire un approccio olistico all’accompagnamento delle persone e famiglie vulnerabili e un cambio di paradigma nell’attuazione di misure integrate di attivazione sociale e lavorativa\, come l’ADI\, favorendo la logica di Rete.  								\n				\n					\n		\n					\n		\n				\n						\n					\n			\n							\n		\n					\n		\n				\n						\n					\n			\n						\n						\n					\n			\n						\n				\n							\n			\n						\n		\n						\n				\n					\n		\n				\n			\n						\n				\n									Per partecipare ai lavori iscrizione obbligatoria al linkWebinar ANCI-MLPS: reti di servizi per attuazione ADI								\n				\n					\n		\n					\n		\n					\n		\n					\n		\n				\n						\n					\n			\n						\n						\n					\n			\n						\n				\n							\n			\n						\n		\n						\n				\n					\n		\n				\n			\n						\n				\n									ProgrammaWebinar programma 24 marzo 2025
URL:https://anci.fvg.it/evento/webinar-fondo-poverta-obiettivo-1-quota-servizi-fondo-poverta-rafforzamento-del-servizio-sociale-professionale/
LOCATION:online
CATEGORIES:Altri organizzatori: eventi esterni di interesse degli Enti locali,Eventi nazionali
ATTACH;FMTTYPE=image/jpeg:https://anci.fvg.it/wp-content/uploads/2025/12/webinar.jpg
END:VEVENT
BEGIN:VEVENT
DTSTART;TZID=Europe/Rome:20260224T100000
DTEND;TZID=Europe/Rome:20260224T130000
DTSTAMP:20260421T061213
CREATED:20260219T055609Z
LAST-MODIFIED:20260224T105457Z
UID:62257-1771927200-1771938000@anci.fvg.it
SUMMARY:Fondi europei e governance locale: dalla progettazione alla rendicontazione
DESCRIPTION:Il ciclo di incontri organizzati da Anci in collaborazione con il Ministero del Lavoro e delle Politiche Sociali\, con il supporto della Banca Mondiale\, prosegue con il webinar dedicato all’illustrazione delle “Linee guida per la costruzione di Reti di servizi connessi all’attuazione dell’Assegno di Inclusione (ADI)”.  Le Linee guida si propongono come strumento di sviluppo di orientamenti operativi per la formazione di reti istituzionali\, necessarie per garantire un approccio olistico all’accompagnamento delle persone e famiglie vulnerabili e un cambio di paradigma nell’attuazione di misure integrate di attivazione sociale e lavorativa\, come l’ADI\, favorendo la logica di Rete.  								\n				\n					\n		\n					\n		\n				\n						\n					\n			\n							\n		\n					\n		\n				\n						\n					\n			\n						\n						\n					\n			\n						\n				\n							\n			\n						\n		\n						\n				\n					\n		\n				\n			\n						\n				\n									Per partecipare ai lavori iscrizione obbligatoria al linkWebinar ANCI-MLPS: reti di servizi per attuazione ADI								\n				\n					\n		\n					\n		\n					\n		\n					\n		\n				\n						\n					\n			\n						\n						\n					\n			\n						\n				\n							\n			\n						\n		\n						\n				\n					\n		\n				\n			\n						\n				\n									ProgrammaWebinar programma 24 marzo 2025
URL:https://anci.fvg.it/evento/fondi-europei-e-governance-locale-dalla-progettazione-alla-rendicontazione/
LOCATION:online
CATEGORIES:Eventi nazionali
ATTACH;FMTTYPE=image/png:https://anci.fvg.it/wp-content/uploads/2026/02/Screenshot-2026-02-19-at-06-55-14-Programma-Webinar-Save-24-febbraio-2026-Programma-Webinar-Save-24-febbraio-2026.pdf-1.png
END:VEVENT
BEGIN:VEVENT
DTSTART;TZID=Europe/Rome:20260302T143000
DTEND;TZID=Europe/Rome:20260302T163000
DTSTAMP:20260421T061213
CREATED:20260226T065822Z
LAST-MODIFIED:20260226T071108Z
UID:62461-1772461800-1772469000@anci.fvg.it
SUMMARY:Nuove modalità per l’accreditamento su ReGiS e recenti evolutive
DESCRIPTION:Il ciclo di incontri organizzati da Anci in collaborazione con il Ministero del Lavoro e delle Politiche Sociali\, con il supporto della Banca Mondiale\, prosegue con il webinar dedicato all’illustrazione delle “Linee guida per la costruzione di Reti di servizi connessi all’attuazione dell’Assegno di Inclusione (ADI)”.  Le Linee guida si propongono come strumento di sviluppo di orientamenti operativi per la formazione di reti istituzionali\, necessarie per garantire un approccio olistico all’accompagnamento delle persone e famiglie vulnerabili e un cambio di paradigma nell’attuazione di misure integrate di attivazione sociale e lavorativa\, come l’ADI\, favorendo la logica di Rete.  								\n				\n					\n		\n					\n		\n				\n						\n					\n			\n							\n		\n					\n		\n				\n						\n					\n			\n						\n						\n					\n			\n						\n				\n							\n			\n						\n		\n						\n				\n					\n		\n				\n			\n						\n				\n									Per partecipare ai lavori iscrizione obbligatoria al linkWebinar ANCI-MLPS: reti di servizi per attuazione ADI								\n				\n					\n		\n					\n		\n					\n		\n					\n		\n				\n						\n					\n			\n						\n						\n					\n			\n						\n				\n							\n			\n						\n		\n						\n				\n					\n		\n				\n			\n						\n				\n									ProgrammaWebinar programma 24 marzo 2025
URL:https://anci.fvg.it/evento/nuove-modalita-per-laccreditamento-su-regis-e-recenti-evolutive/
LOCATION:online
CATEGORIES:Eventi nazionali
ATTACH;FMTTYPE=image/jpeg:https://anci.fvg.it/wp-content/uploads/2026/02/Screenshot_26-2-2026_75424_www.anci_.it_.jpeg
END:VEVENT
BEGIN:VEVENT
DTSTART;TZID=Europe/Rome:20260303T170000
DTEND;TZID=Europe/Rome:20260303T190000
DTSTAMP:20260421T061213
CREATED:20260109T114553Z
LAST-MODIFIED:20260303T093520Z
UID:60516-1772557200-1772564400@anci.fvg.it
SUMMARY:1946-2026 Voto alle donne. La democrazia italiana compie ottant’anni
DESCRIPTION:Il ciclo di incontri organizzati da Anci in collaborazione con il Ministero del Lavoro e delle Politiche Sociali\, con il supporto della Banca Mondiale\, prosegue con il webinar dedicato all’illustrazione delle “Linee guida per la costruzione di Reti di servizi connessi all’attuazione dell’Assegno di Inclusione (ADI)”.  Le Linee guida si propongono come strumento di sviluppo di orientamenti operativi per la formazione di reti istituzionali\, necessarie per garantire un approccio olistico all’accompagnamento delle persone e famiglie vulnerabili e un cambio di paradigma nell’attuazione di misure integrate di attivazione sociale e lavorativa\, come l’ADI\, favorendo la logica di Rete.  								\n				\n					\n		\n					\n		\n				\n						\n					\n			\n							\n		\n					\n		\n				\n						\n					\n			\n						\n						\n					\n			\n						\n				\n							\n			\n						\n		\n						\n				\n					\n		\n				\n			\n						\n				\n									Per partecipare ai lavori iscrizione obbligatoria al linkWebinar ANCI-MLPS: reti di servizi per attuazione ADI								\n				\n					\n		\n					\n		\n					\n		\n					\n		\n				\n						\n					\n			\n						\n						\n					\n			\n						\n				\n							\n			\n						\n		\n						\n				\n					\n		\n				\n			\n						\n				\n									ProgrammaWebinar programma 24 marzo 2025
URL:https://anci.fvg.it/evento/1946-2026-voto-alle-donne-la-democrazia-italiana-compie-ottantanni/
LOCATION:Roma\, Viale Asia 40/44\, Roma
CATEGORIES:Altri organizzatori: eventi esterni di interesse degli Enti locali,Eventi nazionali
ATTACH;FMTTYPE=image/jpeg:https://anci.fvg.it/wp-content/uploads/2026/01/WhatsApp-Image-2026-03-03-at-08.29.31.jpeg
END:VEVENT
BEGIN:VEVENT
DTSTART;TZID=Europe/Rome:20260330T150000
DTEND;TZID=Europe/Rome:20260330T160000
DTSTAMP:20260421T061213
CREATED:20260327T080713Z
LAST-MODIFIED:20260327T081432Z
UID:63116-1774882800-1774886400@anci.fvg.it
SUMMARY:Nuovo bando per studentati
DESCRIPTION:Il ciclo di incontri organizzati da Anci in collaborazione con il Ministero del Lavoro e delle Politiche Sociali\, con il supporto della Banca Mondiale\, prosegue con il webinar dedicato all’illustrazione delle “Linee guida per la costruzione di Reti di servizi connessi all’attuazione dell’Assegno di Inclusione (ADI)”.  Le Linee guida si propongono come strumento di sviluppo di orientamenti operativi per la formazione di reti istituzionali\, necessarie per garantire un approccio olistico all’accompagnamento delle persone e famiglie vulnerabili e un cambio di paradigma nell’attuazione di misure integrate di attivazione sociale e lavorativa\, come l’ADI\, favorendo la logica di Rete.  								\n				\n					\n		\n					\n		\n				\n						\n					\n			\n							\n		\n					\n		\n				\n						\n					\n			\n						\n						\n					\n			\n						\n				\n							\n			\n						\n		\n						\n				\n					\n		\n				\n			\n						\n				\n									Per partecipare ai lavori iscrizione obbligatoria al linkWebinar ANCI-MLPS: reti di servizi per attuazione ADI								\n				\n					\n		\n					\n		\n					\n		\n					\n		\n				\n						\n					\n			\n						\n						\n					\n			\n						\n				\n							\n			\n						\n		\n						\n				\n					\n		\n				\n			\n						\n				\n									ProgrammaWebinar programma 24 marzo 2025
URL:https://anci.fvg.it/evento/nuovo-bando-per-studentati/
LOCATION:online
CATEGORIES:Eventi nazionali
ATTACH;FMTTYPE=image/jpeg:https://anci.fvg.it/wp-content/uploads/2025/12/webinar.jpg
END:VEVENT
BEGIN:VEVENT
DTSTART;TZID=Europe/Rome:20260414T110000
DTEND;TZID=Europe/Rome:20260414T130000
DTSTAMP:20260421T061213
CREATED:20260402T065637Z
LAST-MODIFIED:20260402T070231Z
UID:63179-1776164400-1776171600@anci.fvg.it
SUMMARY:PN Inclusione e lotta alla povertà 2021-2027-Bando nazionale per assunzioni di personale a tempo determinato negli Ambiti territoriali sociali: convenzionamento degli ATS e regole di rendicontazione
DESCRIPTION:Il ciclo di incontri organizzati da Anci in collaborazione con il Ministero del Lavoro e delle Politiche Sociali\, con il supporto della Banca Mondiale\, prosegue con il webinar dedicato all’illustrazione delle “Linee guida per la costruzione di Reti di servizi connessi all’attuazione dell’Assegno di Inclusione (ADI)”.  Le Linee guida si propongono come strumento di sviluppo di orientamenti operativi per la formazione di reti istituzionali\, necessarie per garantire un approccio olistico all’accompagnamento delle persone e famiglie vulnerabili e un cambio di paradigma nell’attuazione di misure integrate di attivazione sociale e lavorativa\, come l’ADI\, favorendo la logica di Rete.  								\n				\n					\n		\n					\n		\n				\n						\n					\n			\n							\n		\n					\n		\n				\n						\n					\n			\n						\n						\n					\n			\n						\n				\n							\n			\n						\n		\n						\n				\n					\n		\n				\n			\n						\n				\n									Per partecipare ai lavori iscrizione obbligatoria al linkWebinar ANCI-MLPS: reti di servizi per attuazione ADI								\n				\n					\n		\n					\n		\n					\n		\n					\n		\n				\n						\n					\n			\n						\n						\n					\n			\n						\n				\n							\n			\n						\n		\n						\n				\n					\n		\n				\n			\n						\n				\n									ProgrammaWebinar programma 24 marzo 2025
URL:https://anci.fvg.it/evento/pn-inclusione-e-lotta-alla-poverta-2021-2027-bando-nazionale-per-assunzioni-di-personale-a-tempo-determinato-negli-ambiti-territoriali-sociali-convenzionamento-degli-ats-e-regole-di-rendicontazione/
LOCATION:on line
CATEGORIES:Eventi nazionali,Webinar
ATTACH;FMTTYPE=image/png:https://anci.fvg.it/wp-content/uploads/2026/04/14aprileats.png
END:VEVENT
BEGIN:VEVENT
DTSTART;TZID=Europe/Rome:20260417T140000
DTEND;TZID=Europe/Rome:20260418T130000
DTSTAMP:20260421T061213
CREATED:20260302T104938Z
LAST-MODIFIED:20260413T064542Z
UID:62598-1776434400-1776517200@anci.fvg.it
SUMMARY:XV Assemblea nazionale Anci Giovani
DESCRIPTION:Il ciclo di incontri organizzati da Anci in collaborazione con il Ministero del Lavoro e delle Politiche Sociali\, con il supporto della Banca Mondiale\, prosegue con il webinar dedicato all’illustrazione delle “Linee guida per la costruzione di Reti di servizi connessi all’attuazione dell’Assegno di Inclusione (ADI)”.  Le Linee guida si propongono come strumento di sviluppo di orientamenti operativi per la formazione di reti istituzionali\, necessarie per garantire un approccio olistico all’accompagnamento delle persone e famiglie vulnerabili e un cambio di paradigma nell’attuazione di misure integrate di attivazione sociale e lavorativa\, come l’ADI\, favorendo la logica di Rete.  								\n				\n					\n		\n					\n		\n				\n						\n					\n			\n							\n		\n					\n		\n				\n						\n					\n			\n						\n						\n					\n			\n						\n				\n							\n			\n						\n		\n						\n				\n					\n		\n				\n			\n						\n				\n									Per partecipare ai lavori iscrizione obbligatoria al linkWebinar ANCI-MLPS: reti di servizi per attuazione ADI								\n				\n					\n		\n					\n		\n					\n		\n					\n		\n				\n						\n					\n			\n						\n						\n					\n			\n						\n				\n							\n			\n						\n		\n						\n				\n					\n		\n				\n			\n						\n				\n									ProgrammaWebinar programma 24 marzo 2025
URL:https://anci.fvg.it/evento/xv-assemblea-nazionale-anci-giovani/
LOCATION:Università degli Studi di Napoli Federico II\, Corso Protopisani 70\, Napoli\, Italy
CATEGORIES:Eventi nazionali
ATTACH;FMTTYPE=image/png:https://anci.fvg.it/wp-content/uploads/2026/03/ANCIGIOVANI_NAPOLI_BANNER.png
END:VEVENT
END:VCALENDAR