BEGIN:VCALENDAR
VERSION:2.0
PRODID:-//Anci FVG - ECPv6.15.12.2//NONSGML v1.0//EN
CALSCALE:GREGORIAN
METHOD:PUBLISH
X-WR-CALNAME:Anci FVG
X-ORIGINAL-URL:https://anci.fvg.it
X-WR-CALDESC:Eventi per Anci FVG
REFRESH-INTERVAL;VALUE=DURATION:PT1H
X-Robots-Tag:noindex
X-PUBLISHED-TTL:PT1H
BEGIN:VTIMEZONE
TZID:Europe/Rome
BEGIN:DAYLIGHT
TZOFFSETFROM:+0100
TZOFFSETTO:+0200
TZNAME:CEST
DTSTART:20210328T010000
END:DAYLIGHT
BEGIN:STANDARD
TZOFFSETFROM:+0200
TZOFFSETTO:+0100
TZNAME:CET
DTSTART:20211031T010000
END:STANDARD
BEGIN:DAYLIGHT
TZOFFSETFROM:+0100
TZOFFSETTO:+0200
TZNAME:CEST
DTSTART:20220327T010000
END:DAYLIGHT
BEGIN:STANDARD
TZOFFSETFROM:+0200
TZOFFSETTO:+0100
TZNAME:CET
DTSTART:20221030T010000
END:STANDARD
BEGIN:DAYLIGHT
TZOFFSETFROM:+0100
TZOFFSETTO:+0200
TZNAME:CEST
DTSTART:20230326T010000
END:DAYLIGHT
BEGIN:STANDARD
TZOFFSETFROM:+0200
TZOFFSETTO:+0100
TZNAME:CET
DTSTART:20231029T010000
END:STANDARD
END:VTIMEZONE
BEGIN:VEVENT
DTSTART;TZID=Europe/Rome:20220531T093000
DTEND;TZID=Europe/Rome:20220628T103000
DTSTAMP:20260423T062433
CREATED:20220530T104019Z
LAST-MODIFIED:20220601T120952Z
UID:35203-1653989400-1656412200@anci.fvg.it
SUMMARY:Sportello bandi PNRR PA digitale 2026
DESCRIPTION:Hai dei dubbi rispetto a quali servizi potresti finanziare con i bandi PNRR?\nRiscontri difficoltà con le procedure di accesso ai bandi?\nHai dei quesiti particolari inerenti la tua realtà che vorresti approfondire? \n\nPer dare risposte e supportare i Comuni per i bandi PNRR sulla digitalizzazione \na partire dal 31 maggio ogni MARTEDI’  DALLE 9.30 alle 10.30 \nsarà disponibile lo sportello di assistenza ANCI FVG \n			\n						ACCEDI ALLO SPORTELLO\n					 \nInoltre\, chi volesse anticipare i propri quesiti può farlo scrivendo a g.re@compa.fvg.it \nMATERIALI UTILI\n\nLa presentazione (PDF) delle misure di PA Digitale 2026\nUna pagina di tutorial su come i soggetti attuatori possono creare il proprio profilo all’interno della piattaforma PA Digitale 2026\nLa pagina delle domande frequenti sugli avvisi presentati\nLa newsletter del Dipartimento Transizione Digitale sui bandi PNRR\nLa registrazione del webinar di ANCI Nazionale con la presentazione delle misure
URL:https://anci.fvg.it/evento/sportello-bandi-pnrr-pa-digitale-2026/
LOCATION:on line
CATEGORIES:Appuntamenti ANCI FVG
ATTACH;FMTTYPE=image/png:https://anci.fvg.it/wp-content/uploads/2022/05/Immagini-nuovo-sito-27.png
ORGANIZER;CN="ANCI FVG":MAILTO:info@anci.fvg.it
END:VEVENT
BEGIN:VEVENT
DTSTART;TZID=Europe/Rome:20220615T153000
DTEND;TZID=Europe/Rome:20220615T170000
DTSTAMP:20260423T062433
CREATED:20220610T092129Z
LAST-MODIFIED:20220610T092900Z
UID:35401-1655307000-1655312400@anci.fvg.it
SUMMARY:Ufficio di Presidenza
DESCRIPTION:
URL:https://anci.fvg.it/evento/ufficio-di-presidenza-copy/
LOCATION:SEDE ANCI FVG\, Piazza XX Settembre\, 2\, Udine
CATEGORIES:Appuntamenti ANCI FVG
ATTACH;FMTTYPE=image/png:https://anci.fvg.it/wp-content/uploads/2022/04/logo_anci_400.png
ORGANIZER;CN="ANCI FVG":MAILTO:info@anci.fvg.it
END:VEVENT
END:VCALENDAR