BEGIN:VCALENDAR
VERSION:2.0
PRODID:-//Anci FVG - ECPv6.15.12.2//NONSGML v1.0//EN
CALSCALE:GREGORIAN
METHOD:PUBLISH
X-ORIGINAL-URL:https://anci.fvg.it
X-WR-CALDESC:Eventi per Anci FVG
REFRESH-INTERVAL;VALUE=DURATION:PT1H
X-Robots-Tag:noindex
X-PUBLISHED-TTL:PT1H
BEGIN:VTIMEZONE
TZID:Europe/Rome
BEGIN:DAYLIGHT
TZOFFSETFROM:+0100
TZOFFSETTO:+0200
TZNAME:CEST
DTSTART:20210328T010000
END:DAYLIGHT
BEGIN:STANDARD
TZOFFSETFROM:+0200
TZOFFSETTO:+0100
TZNAME:CET
DTSTART:20211031T010000
END:STANDARD
BEGIN:DAYLIGHT
TZOFFSETFROM:+0100
TZOFFSETTO:+0200
TZNAME:CEST
DTSTART:20220327T010000
END:DAYLIGHT
BEGIN:STANDARD
TZOFFSETFROM:+0200
TZOFFSETTO:+0100
TZNAME:CET
DTSTART:20221030T010000
END:STANDARD
BEGIN:DAYLIGHT
TZOFFSETFROM:+0100
TZOFFSETTO:+0200
TZNAME:CEST
DTSTART:20230326T010000
END:DAYLIGHT
BEGIN:STANDARD
TZOFFSETFROM:+0200
TZOFFSETTO:+0100
TZNAME:CET
DTSTART:20231029T010000
END:STANDARD
END:VTIMEZONE
BEGIN:VEVENT
DTSTART;TZID=Europe/Rome:20220828T170000
DTEND;TZID=Europe/Rome:20220902T174500
DTSTAMP:20260423T012551
CREATED:20220519T055203Z
LAST-MODIFIED:20220705T050349Z
UID:34775-1661706000-1662140700@anci.fvg.it
SUMMARY:Summer School per amministratori locali “Strategie di sviluppo locale e programmazione europea” | Edizione 2022
DESCRIPTION:“La Summer School si rivolge agli amministratori locali per offrire un’opportunità formativa che\nconsenta loro\, di acquisire una mentalità aperta all’innovazione sui temi dello sviluppo integrato\ndel territorio.\nUn ripensamento complessivo dello sviluppo locale\, necessario anche alla luce della nuova fase di ripartenza del Paese nel post “emergenza Covid-19”			 \n\nMATERIALI UTILI\n\n			\n						Proroga termini iscrizioni\n					\n			\n						Summer School 2022 Bando\n					\n			\n						Summer School 2022 Agenda\n					\n			\n						Graduatoria candidati ammessi all’edizione 2022\n					 \nSaranno considerate valide le candidature pervenute inderogabilmente  \nentro le ore 24:00 del giorno 30 giugno 2022 \n			\n						ISCRIZIONI QUI\n					\n			\n										Facebook\n										Twitter\n										LinkedIn
URL:https://anci.fvg.it/evento/summer-school-per-amministratori-locali-strategie-di-sviluppo-locale-e-programmazione-europea-edizione-2022/
LOCATION:CeSFAM\, Piazza XXI-XXII luglio 6\, Paluzza\, Italia
CATEGORIES:Appuntamenti ANCI FVG,Formazione amministratori locali
ATTACH;FMTTYPE=image/jpeg:https://anci.fvg.it/wp-content/uploads/2022/05/education-day-arrangement-on-a-table-with-copy-space-2.jpg
ORGANIZER;CN="ANCI FVG":MAILTO:info@anci.fvg.it
END:VEVENT
BEGIN:VEVENT
DTSTART;TZID=Europe/Rome:20220829T153000
DTEND;TZID=Europe/Rome:20220829T190000
DTSTAMP:20260423T012551
CREATED:20220727T063347Z
LAST-MODIFIED:20260316T135339Z
UID:35988-1661787000-1661799600@anci.fvg.it
SUMMARY:Summer School LeggiAMO 0-18
DESCRIPTION:La Summer School di LeggiAMO 0-18 si terrà a Udine lunedì 29 agosto 2022 e sarà una giornata di formazione avanzata realizzata in sinergia tra tutti i Partner del Progetto LeggiAMO 0-18 (il progetto regionale di promozione della lettura della Regione Autonoma Friuli Venezia Giulia)\, con l’obiettivo di aggiornare e sensibilizzare i principali attori della filiera regionale di promozione della lettura\, rafforzando e ampliando la grande Rete LeggiAMO 0-18. \nTra i vari incontri della giornata –  che gode del patrocinio di ANCI FVG – la Linea Argento sarà un momento dedicato esclusivamente agli amministratori del Friuli Venezia Giulia con l’incontro\, dal titolo “Narrare le biblioteche. Una storia di relazioni”\, condotto da Federico Scarioni – coordinatore Fondazione per Leggere –  in programma dalle ore 15.30 alle 17.30 nella Galleria Tina Modotti – Ex Mercato del Pesce a Udine. \nAl termine i partecipanti saranno invitati a ritrovarsi alle ore 18:00 per una tavola rotonda conclusiva.  A disposizione ci sono 30 posti. \nLa partecipazione degli amministratori è di fondamentale importanza alla luce della sempre più evidente necessità  – che LeggiAMO 0-18 ha tra i suoi obiettivi cardine –  di favorire e promuovere le politiche di investimento e sostegno all’infanzia quali fattori di cambiamento e miglioramento dell’intera società. \nLe iscrizioni alla Linea Argento sono aperte e si chiuderanno il 24 agosto o al raggiungimento del numero massimo di partecipanti. \n\nISCRIZIONI QUI\n\n\nPROGRAMMA 29 AGOSTO\n \nGuarda il video con l’invito del Presidente di ANCI FVG\, dott. Dorino Favot
URL:https://anci.fvg.it/evento/summer-school-leggiamo-0-18/
LOCATION:Ex Mercato del Pesce\, Galleria Tina Modotti\, Udine
CATEGORIES:Appuntamenti ANCI FVG
ORGANIZER;CN="Leggiamo 0-18":MAILTO:summerschool@leggiamofvg.it
END:VEVENT
END:VCALENDAR