BEGIN:VCALENDAR
VERSION:2.0
PRODID:-//Anci FVG - ECPv6.15.12.2//NONSGML v1.0//EN
CALSCALE:GREGORIAN
METHOD:PUBLISH
X-WR-CALNAME:Anci FVG
X-ORIGINAL-URL:https://anci.fvg.it
X-WR-CALDESC:Eventi per Anci FVG
REFRESH-INTERVAL;VALUE=DURATION:PT1H
X-Robots-Tag:noindex
X-PUBLISHED-TTL:PT1H
BEGIN:VTIMEZONE
TZID:Europe/Rome
BEGIN:DAYLIGHT
TZOFFSETFROM:+0100
TZOFFSETTO:+0200
TZNAME:CEST
DTSTART:20220327T010000
END:DAYLIGHT
BEGIN:STANDARD
TZOFFSETFROM:+0200
TZOFFSETTO:+0100
TZNAME:CET
DTSTART:20221030T010000
END:STANDARD
BEGIN:DAYLIGHT
TZOFFSETFROM:+0100
TZOFFSETTO:+0200
TZNAME:CEST
DTSTART:20230326T010000
END:DAYLIGHT
BEGIN:STANDARD
TZOFFSETFROM:+0200
TZOFFSETTO:+0100
TZNAME:CET
DTSTART:20231029T010000
END:STANDARD
BEGIN:DAYLIGHT
TZOFFSETFROM:+0100
TZOFFSETTO:+0200
TZNAME:CEST
DTSTART:20240331T010000
END:DAYLIGHT
BEGIN:STANDARD
TZOFFSETFROM:+0200
TZOFFSETTO:+0100
TZNAME:CET
DTSTART:20241027T010000
END:STANDARD
END:VTIMEZONE
BEGIN:VEVENT
DTSTART;TZID=Europe/Rome:20230228T163000
DTEND;TZID=Europe/Rome:20230314T163000
DTSTAMP:20260422T141043
CREATED:20230215T134205Z
LAST-MODIFIED:20230216T071137Z
UID:40078-1677601800-1678811400@anci.fvg.it
SUMMARY:“Linea 55 – Tappe in Comune”: Ulteriori forme di partenariato pubblico-privato
DESCRIPTION:Il 28 febbraio e 14 marzo ultima tappa del percorso formativo dedicato alla collaborazione tra Pubblica Amministrazione ed Enti del Terzo Settore dal titolo “Linea 55 – Tappe in Comune”. \nL’evento online sarà utile a conoscere ulteriori forme per collaborare nella costruzione di risposte ai bisogni sociali delle nostre comunità:  i partenariati speciali pubblico-privati per la valorizzazione di beni immobili culturali di appartenenza pubblica e la concessione di beni immobili culturali\, e i patti di collaborazione per la gestione condivisa di beni comuni. \nLe due date del 28 febbraio e del 14 marzo sono aperte a tutti coloro che pensano che una consapevole condivisione di risorse e responsabilità permetta di raggiungere risultati di diffuso benessere sociale. \nProgramma e iscrizioni
URL:https://anci.fvg.it/evento/linea-55-tappe-in-comune-ulteriori-forme-di-partenariato-pubblico-privato/
LOCATION:on line
CATEGORIES:Appuntamenti ANCI FVG
ATTACH;FMTTYPE=image/png:https://anci.fvg.it/wp-content/uploads/2023/02/LINEA55.png
END:VEVENT
BEGIN:VEVENT
DTSTART;TZID=Europe/Rome:20230301T150000
DTEND;TZID=Europe/Rome:20230301T173000
DTSTAMP:20260422T141043
CREATED:20230214T102516Z
LAST-MODIFIED:20230216T083121Z
UID:39992-1677682800-1677691800@anci.fvg.it
SUMMARY:La tastiera degli strumenti e le novità per l’affidamento dei servizi di welfare: il dialogo fra PA e Cooperazione Sociale
DESCRIPTION:Programma dei lavori \nCONVEGNO COPROGRAMMAZIONE E COPROGETTAZIONE FVG_1 marzo \nIscrizioni entro il 23 febbraio cliccando qui
URL:https://anci.fvg.it/evento/la-tastiera-degli-strumenti-e-le-novita-per-laffidamento-dei-servizi-di-welfare-il-dialogo-fra-pa-e-cooperazione-sociale/
LOCATION:Hotel Là di Moret\, Via Tricesimo 276\, Udine
CATEGORIES:Appuntamenti ANCI FVG
ATTACH;FMTTYPE=image/png:https://anci.fvg.it/wp-content/uploads/2023/02/noname-1.png
END:VEVENT
BEGIN:VEVENT
DTSTART;TZID=Europe/Rome:20230306T140000
DTEND;TZID=Europe/Rome:20230313T140000
DTSTAMP:20260422T141043
CREATED:20230215T091100Z
LAST-MODIFIED:20230216T071018Z
UID:40014-1678111200-1678716000@anci.fvg.it
SUMMARY:L’Innovazione del Business Model
DESCRIPTION:L’iniziativa\, parte delle azioni regionali a sostegno degli esercizi con slot machine in dismissione\, intende stimolare l’innovazione del modello di business con: \n• Principi e linee guida per modificare la formula imprenditoriale\n• Presentazione di esperienze di successo\n• Formulazione di ipotesi di progettualità innovative \nDestinatari del Progetto: \n\nImprenditori ed esercenti di strutture con slot machine\nEnti locali e altre aziende pubbliche interessate a sviluppare azioni di innovazione e partnership\n\nPROGRAMMA \nSlotM5 Locandina UD 6-13 marzo 2023  \nPartecipazione gratuita previa adesione entro il 27/02/2023 scrivendo a:\nCristina Meneguzzi\nDirezione Centrale Salute\, Politiche Sociali e Disabilità\, Regione FVG\ncristina.meneguzzi@regione.fvg.it
URL:https://anci.fvg.it/evento/linnovazione-del-business-model/
LOCATION:Sala riunioni Confcommercio\, Via Alpe Adria 16\, Feletto Umberto (UD)\, Italia
CATEGORIES:Appuntamenti ANCI FVG
ATTACH;FMTTYPE=image/png:https://anci.fvg.it/wp-content/uploads/2023/02/Cattura.png
END:VEVENT
BEGIN:VEVENT
DTSTART;TZID=Europe/Rome:20230309T090000
DTEND;TZID=Europe/Rome:20230309T130000
DTSTAMP:20260422T141043
CREATED:20230224T085405Z
LAST-MODIFIED:20230306T132736Z
UID:40267-1678352400-1678366800@anci.fvg.it
SUMMARY:L’utilizzo della pietra nello spazio pubblico. Marchio di Certificazione "Trentino Pietre"
DESCRIPTION:Il seminario è organizzato in collaborazione con l’Ordine degli Architetti\, Pianificatori\, Paesaggisti e Conservatori della Provincia di Udine. \nPROGRAMMA \nInvito seminario 9 marzo 2023 \nIscrizione tramite la Segreteria Organizzativa di E.S.PO. Ente Sviluppo Porfido \nscrivendo a info@porfido.it entro il 7 marzo 2023
URL:https://anci.fvg.it/evento/la-pietra-nello-spazio-pubblico/
LOCATION:ENAIP FVG\, Via Leonardo da Vinci 27\, Pasian di Prato
CATEGORIES:Appuntamenti ANCI FVG
ATTACH;FMTTYPE=image/jpeg:https://anci.fvg.it/wp-content/uploads/2023/02/Immagine-2023-02-24-095133.jpg
END:VEVENT
BEGIN:VEVENT
DTSTART;TZID=Europe/Rome:20230315T094500
DTEND;TZID=Europe/Rome:20230315T130000
DTSTAMP:20260422T141043
CREATED:20230303T114327Z
LAST-MODIFIED:20230309T131749Z
UID:40389-1678873500-1678885200@anci.fvg.it
SUMMARY:Il principio DNSH applicato agli investimenti finanziati nell’ambito del PNRR
DESCRIPTION:La Cabina di Regia PNRR della Regione Autonoma Friuli Venezia Giulia organizza – nell’ambito del protocollo con ANCI FVG e IFEL – un percorso di formazione ed assistenza tecnica a favore degli Enti locali sul principio del “DNSH” previsto dal Piano Nazionale di Ripresa e Resilienza (PNRR). \nTutte le misure finanziate con il PNRR devono essere coerenti con il principio del “non arrecare un danno significativo” all’ambiente\, noto come principio DNSH cioè “Do No Significant Harm”. Tale principio\, volto a orientare gli investimenti verso tecnologie più sostenibili\, si traduce in una serie di prescrizioni da rispettare nell’attuazione delle misure. \nIl primo evento formativo “Il principio DNSH applicato agli investimenti finanziati nell’ambito del PNRR” – rivolto ai Responsabili e funzionari dei Comuni della Regione Friuli Venezia Giulia incaricati della gestione di risorse PNRR –  si terrà in presenza il giorno 15 marzo p.v. dalle ore 9:45 alle ore 13:00 presso l’Auditorium Comelli di Via Sabbadini\, 31 Udine. \nDurante il momento formativo verrà presentato un questionario volto a mappare gli ambiti di intervento per il supporto operativo sul rispetto del principio DNSH nell’ambito della realizzazione degli investimenti PNRR. \nPROGRAMMA\nPNRR 15 marzo 2023 \nIscrizioni e ulteriori informazioni  \nQuestionario
URL:https://anci.fvg.it/evento/il-principio-dnsh-applicato-agli-investimenti-finanziati-nellambito-del-pnrr/
LOCATION:Auditorium Antonio Comelli\, Via Cecilia Gradenigo Sabbadini\, 31\, Udine\, Italy
CATEGORIES:Appuntamenti ANCI FVG,Eventi nazionali
ATTACH;FMTTYPE=image/png:https://anci.fvg.it/wp-content/uploads/2023/03/dnsh.png
END:VEVENT
BEGIN:VEVENT
DTSTART;TZID=Europe/Rome:20230316T100000
DTEND;TZID=Europe/Rome:20230316T110000
DTSTAMP:20260422T141043
CREATED:20230314T114757Z
LAST-MODIFIED:20230317T111232Z
UID:40674-1678960800-1678964400@anci.fvg.it
SUMMARY:Il GSE si avvicina al territorio: APE al servizio dei Comuni sugli schemi incentivanti del GSE
DESCRIPTION:Grazie alla collaborazione tra GSE e RENAEL\, Rete nazionale delle agenzie energetiche locali\, sono stati delegati alcuni servizi alle agenzie stesse: in regione\, APE FVG sarà il riferimento per i Comuni che richiederanno supporto sugli schemi incentivanti del GSE. \nSpiegheremo tutti i vantaggi di questo nuovo servizio in occasione di un incontro on line che verrà replicato per favorire la massima partecipazione e che si terrà \ngiovedì 16 marzo alle ore 10.00 oppure lunedì 20 marzo alle ore 17.00 \nPROGRAMMA\nAPE – GSE – ANCI-COMPA_strumenti e opportunità\nIscrizioni
URL:https://anci.fvg.it/evento/gse/
LOCATION:on line
CATEGORIES:Appuntamenti ANCI FVG
ATTACH;FMTTYPE=image/jpeg:https://anci.fvg.it/wp-content/uploads/2023/03/Immagine-2023-03-14-124919.jpg
END:VEVENT
BEGIN:VEVENT
DTSTART;TZID=Europe/Rome:20230316T150000
DTEND;TZID=Europe/Rome:20230316T163000
DTSTAMP:20260422T141043
CREATED:20230314T074133Z
LAST-MODIFIED:20230314T074252Z
UID:40668-1678978800-1678984200@anci.fvg.it
SUMMARY:Ufficio di Presidenza
DESCRIPTION:L’Ufficio di Presidenza è convocato in modalità mista per giovedì 16 marzo alle ore 15.00 (prima convocazione ore 14\,00).
URL:https://anci.fvg.it/evento/consiglio-direttivo-copy-copy-copy/
LOCATION:on line
CATEGORIES:Appuntamenti ANCI FVG
ATTACH;FMTTYPE=image/png:https://anci.fvg.it/wp-content/uploads/2022/11/ancifvg_logo5.png
ORGANIZER;CN="ANCI FVG":MAILTO:info@anci.fvg.it
END:VEVENT
BEGIN:VEVENT
DTSTART;TZID=Europe/Rome:20230320T170000
DTEND;TZID=Europe/Rome:20230320T180000
DTSTAMP:20260422T141043
CREATED:20230314T120101Z
LAST-MODIFIED:20230317T090810Z
UID:40689-1679331600-1679335200@anci.fvg.it
SUMMARY:Il GSE si avvicina al territorio:  APE al servizio dei Comuni sugli schemi incentivanti del GSE
DESCRIPTION:Grazie alla collaborazione tra GSE e RENAEL\, Rete nazionale delle agenzie energetiche locali\, sono stati delegati alcuni servizi alle agenzie stesse: in regione\, APE FVG sarà il riferimento per i Comuni che richiederanno supporto sugli schemi incentivanti del GSE. \nSpiegheremo tutti i vantaggi di questo nuovo servizio in occasione di un incontro on line che verrà replicato per favorire la massima partecipazione e che si terrà \ngiovedì 16 marzo alle ore 10.00 oppure lunedì 20 marzo alle ore 17.00 \nPROGRAMMA\nAPE – GSE – ANCI-COMPA_strumenti e opportunità\nIscrizioni
URL:https://anci.fvg.it/evento/gse-20marzo/
LOCATION:on line
CATEGORIES:Appuntamenti ANCI FVG
ATTACH;FMTTYPE=image/jpeg:https://anci.fvg.it/wp-content/uploads/2023/03/Immagine-2023-03-14-124919.jpg
END:VEVENT
BEGIN:VEVENT
DTSTART;TZID=Europe/Rome:20230330T180000
DTEND;TZID=Europe/Rome:20230330T193000
DTSTAMP:20260422T141043
CREATED:20230315T103901Z
LAST-MODIFIED:20230315T112546Z
UID:40700-1680199200-1680204600@anci.fvg.it
SUMMARY:L'ABC delle opere pubbliche per amministratori locali
DESCRIPTION:Rivolto a Sindaci\, Assessori e Consiglieri delegati alle OO.PP.\, il percorso formativo ha la finalità di fornire una visione complessiva di processo e non solo normativa per poter comprendere e gestire i rapporti complessi da instaurare con i funzionari che si occupano della traduzione tecnico-operativa della volontà politica degli amministratori locali di realizzare opere pubbliche. \nI due momenti formativi si terranno online giovedì 30 marzo e mercoledì 5 aprile 2023 dalle ore 18\,00 alle ore 19\,30. \nSCHEDA PERCORSO FORMATIVO\nL’ ABC delle opere pubbliche per amministratori locali\nIscrizioni e ulteriori informazioni
URL:https://anci.fvg.it/evento/abcoperepubbliche/
LOCATION:on line
CATEGORIES:Appuntamenti ANCI FVG,Formazione amministratori locali
ATTACH;FMTTYPE=image/png:https://anci.fvg.it/wp-content/uploads/2023/03/abc-opere-pubbliche-2023sito.png
END:VEVENT
END:VCALENDAR