BEGIN:VCALENDAR
VERSION:2.0
PRODID:-//Anci FVG - ECPv6.15.12.2//NONSGML v1.0//EN
CALSCALE:GREGORIAN
METHOD:PUBLISH
X-WR-CALNAME:Anci FVG
X-ORIGINAL-URL:https://anci.fvg.it
X-WR-CALDESC:Eventi per Anci FVG
REFRESH-INTERVAL;VALUE=DURATION:PT1H
X-Robots-Tag:noindex
X-PUBLISHED-TTL:PT1H
BEGIN:VTIMEZONE
TZID:Europe/Rome
BEGIN:DAYLIGHT
TZOFFSETFROM:+0100
TZOFFSETTO:+0200
TZNAME:CEST
DTSTART:20220327T010000
END:DAYLIGHT
BEGIN:STANDARD
TZOFFSETFROM:+0200
TZOFFSETTO:+0100
TZNAME:CET
DTSTART:20221030T010000
END:STANDARD
BEGIN:DAYLIGHT
TZOFFSETFROM:+0100
TZOFFSETTO:+0200
TZNAME:CEST
DTSTART:20230326T010000
END:DAYLIGHT
BEGIN:STANDARD
TZOFFSETFROM:+0200
TZOFFSETTO:+0100
TZNAME:CET
DTSTART:20231029T010000
END:STANDARD
BEGIN:DAYLIGHT
TZOFFSETFROM:+0100
TZOFFSETTO:+0200
TZNAME:CEST
DTSTART:20240331T010000
END:DAYLIGHT
BEGIN:STANDARD
TZOFFSETFROM:+0200
TZOFFSETTO:+0100
TZNAME:CET
DTSTART:20241027T010000
END:STANDARD
END:VTIMEZONE
BEGIN:VEVENT
DTSTART;TZID=Europe/Rome:20230717T134500
DTEND;TZID=Europe/Rome:20230717T170000
DTSTAMP:20260422T073131
CREATED:20230703T064703Z
LAST-MODIFIED:20260316T142039Z
UID:43110-1689601500-1689613200@anci.fvg.it
SUMMARY:L'innovazione del Business model: dalle slot machine all'offerta di nuovi servizi
DESCRIPTION:L’iniziativa è organizzata dalla Direzione centrale Salute\, Politiche Sociali e Disabilità e dall’Università degli Studi di Udine  – con la collaborazione di ANCI FVG e Federsanità ANCI FVG – e partendo delle azioni regionali a sostegno degli esercizi con slot machine in dismissione intende stimolare l’innovazione del modello di business con:• Principi e linee guida per modificare la formula imprenditoriale\n• Presentazione di esperienze di successo\n• Formulazione di ipotesi di progettualità innovative \nDestinatari del progetto: imprenditori ed esercenti di strutture con slot machine\,  Enti locali e altre aziende pubbliche interessate a sviluppare azioni di innovazione e partnership. \n \nPartecipazione gratuita previa adesione entro il 10/07/2023 scrivendo a: \nCristina Meneguzzi | Direzione Centrale Salute\, Politiche Sociali e Disabilità\, Regione FVG\,\ncristina.meneguzzi@regione.fvg.it
URL:https://anci.fvg.it/evento/linnovazione-del-business-model-dalle-slot-machine-allofferta-di-nuovi-servizi/
LOCATION:REGIONE FVG\, Corso Italia 61\, Gorizia
CATEGORIES:Appuntamenti ANCI FVG,Seminari tematici e visite studio
ATTACH;FMTTYPE=image/png:https://anci.fvg.it/wp-content/uploads/2023/07/slot.png
END:VEVENT
BEGIN:VEVENT
DTSTART;TZID=Europe/Rome:20230718T134500
DTEND;TZID=Europe/Rome:20230718T170000
DTSTAMP:20260422T073131
CREATED:20230703T070427Z
LAST-MODIFIED:20260316T142109Z
UID:43130-1689687900-1689699600@anci.fvg.it
SUMMARY:L'innovazione del Business model: dalle slot machine all'offerta di nuovi servizi
DESCRIPTION:L’iniziativa è organizzata dalla Direzione centrale Salute\, Politiche Sociali e Disabilità e dall’Università degli Studi di Udine  – con la collaborazione di ANCI FVG e Federsanità ANCI FVG – e partendo delle azioni regionali a sostegno degli esercizi con slot machine in dismissione intende stimolare l’innovazione del modello di business con:• Principi e linee guida per modificare la formula imprenditoriale\n• Presentazione di esperienze di successo\n• Formulazione di ipotesi di progettualità innovative \nDestinatari del progetto: imprenditori ed esercenti di strutture con slot machine\,  Enti locali e altre aziende pubbliche interessate a sviluppare azioni di innovazione e partnership. \n \nPartecipazione gratuita previa adesione entro il 10/07/2023 scrivendo a: \nCristina Meneguzzi | Direzione Centrale Salute\, Politiche Sociali e Disabilità\, Regione FVG\,\ncristina.meneguzzi@regione.fvg.it
URL:https://anci.fvg.it/evento/linnovazione-del-business-model-dalle-slot-machine-allofferta-di-nuovi-servizi-copy-go/
LOCATION:REGIONE FVG\, Corso Italia 61\, Gorizia
CATEGORIES:Appuntamenti ANCI FVG,Seminari tematici e visite studio
ATTACH;FMTTYPE=image/png:https://anci.fvg.it/wp-content/uploads/2023/07/slot.png
END:VEVENT
BEGIN:VEVENT
DTSTART;TZID=Europe/Rome:20230725T140000
DTEND;TZID=Europe/Rome:20230725T160000
DTSTAMP:20260422T073131
CREATED:20230713T053939Z
LAST-MODIFIED:20260316T140321Z
UID:43524-1690293600-1690300800@anci.fvg.it
SUMMARY:Comuni Amici della Famiglia: progettualità strategica e finalità
DESCRIPTION:La Regione Autonoma Friuli Venezia Giulia\, nell’ambito delle politiche rivolte alle famiglie\, promuove la costituzione di una rete famiglia aperta a tutte le Pubbliche amministrazioni\, agli enti del Terzo Settore e ai soggetti privati per valorizzare e diffondere buone prassi che pongano al centro la famiglia. \nNasce da questo presupposto la collaborazione con la Provincia autonoma di Trento\, promotrice del “Network nazionale dei Comuni amici della famiglia”\, che mette a disposizione la metodologia del new public family management e un know-how specialistico. \nLa collaborazione si è concretizzata con un percorso formativo\, appena concluso e propedeutico alla certificazione di “Comune amico della famiglia”\, che ha visto la partecipazione di tredici Comuni della regione e che ha formato la figura del Municipality Family Manager. \nL’incontro quindi si propone di promuovere la seconda edizione del corso formativo\, ma anche di far conoscere il Network family in Europe\, che oggi conta sessantasei municipalità di otto Paesi europei. \nCONSULTA LA LOCANDINA DEI LAVORI\nLa partecipazione è libera previa iscrizione online.\nPer info e adesioni: http://eventi.regione.fvg.it/eventi
URL:https://anci.fvg.it/evento/lcomuni-amici-della-famiglia-progettualita-strategica-e-finalita/
LOCATION:online
CATEGORIES:Appuntamenti ANCI FVG,Seminari tematici e visite studio
ATTACH;FMTTYPE=image/jpeg:https://anci.fvg.it/wp-content/uploads/2023/07/Immagine-2023-07-13-073708.jpg
END:VEVENT
BEGIN:VEVENT
DTSTART;TZID=Europe/Rome:20230726T153000
DTEND;TZID=Europe/Rome:20230726T163000
DTSTAMP:20260422T073131
CREATED:20230726T083742Z
LAST-MODIFIED:20230726T084053Z
UID:43748-1690385400-1690389000@anci.fvg.it
SUMMARY:Consiglio direttivo ANCI FVG
DESCRIPTION:Il Consiglio direttivo è convocato in videoconferenza per mercoledì 26 luglio 2023 alle ore 15\,30 con l’o.d.g. che segue: \n1) Esame della proposta di delibera di Giunta comunale recante “Progetto di Costruzione di una condotta di collegamento tra il “Canale SADE” e il sistema derivatorio Ledra-Tagliamento”\, (la proposta di deliberazione è giunta ad ANCI FVG dal Consorzio di bonifica della Pianura Friulana);\n2) Intesa con l’Associazione Sviluppo & Territorio di Pordenone per iniziative comuni sul tema della rigenerazione urbana;\n3) Comunicazioni del Presidente relative alla prossima Assemblea nazionale di ANCI – Genova 24-26 ottobre 2023;\n4) Varie ed eventuali.
URL:https://anci.fvg.it/evento/consiglio-direttivo-26-luglio/
LOCATION:on line
CATEGORIES:Appuntamenti ANCI FVG
ATTACH;FMTTYPE=image/png:https://anci.fvg.it/wp-content/uploads/2022/11/ancifvg_logo5.png
ORGANIZER;CN="ANCI FVG":MAILTO:info@anci.fvg.it
END:VEVENT
END:VCALENDAR