BEGIN:VCALENDAR
VERSION:2.0
PRODID:-//Anci FVG - ECPv6.15.12.2//NONSGML v1.0//EN
CALSCALE:GREGORIAN
METHOD:PUBLISH
X-WR-CALNAME:Anci FVG
X-ORIGINAL-URL:https://anci.fvg.it
X-WR-CALDESC:Eventi per Anci FVG
REFRESH-INTERVAL;VALUE=DURATION:PT1H
X-Robots-Tag:noindex
X-PUBLISHED-TTL:PT1H
BEGIN:VTIMEZONE
TZID:Europe/Rome
BEGIN:DAYLIGHT
TZOFFSETFROM:+0100
TZOFFSETTO:+0200
TZNAME:CEST
DTSTART:20220327T010000
END:DAYLIGHT
BEGIN:STANDARD
TZOFFSETFROM:+0200
TZOFFSETTO:+0100
TZNAME:CET
DTSTART:20221030T010000
END:STANDARD
BEGIN:DAYLIGHT
TZOFFSETFROM:+0100
TZOFFSETTO:+0200
TZNAME:CEST
DTSTART:20230326T010000
END:DAYLIGHT
BEGIN:STANDARD
TZOFFSETFROM:+0200
TZOFFSETTO:+0100
TZNAME:CET
DTSTART:20231029T010000
END:STANDARD
BEGIN:DAYLIGHT
TZOFFSETFROM:+0100
TZOFFSETTO:+0200
TZNAME:CEST
DTSTART:20240331T010000
END:DAYLIGHT
BEGIN:STANDARD
TZOFFSETFROM:+0200
TZOFFSETTO:+0100
TZNAME:CET
DTSTART:20241027T010000
END:STANDARD
END:VTIMEZONE
BEGIN:VEVENT
DTSTART;TZID=Europe/Rome:20230827T170000
DTEND;TZID=Europe/Rome:20230901T173000
DTSTAMP:20260422T055836
CREATED:20230508T140652Z
LAST-MODIFIED:20230627T063439Z
UID:42042-1693155600-1693589400@anci.fvg.it
SUMMARY:Summer Camp su strategie di sviluppo locale sostenibile
DESCRIPTION:Come ogni anno\, dal 2017 ad oggi\, ANCI FVG assieme alla sua Fondazione COMPA FVG e altri partner di progetto\, propone una importante opportunità formativa agli Amministratori della nostra Regione.\nNegli ultimi anni i Comuni della Regione Friuli Venezia Giulia si sono trovati ad affrontare la sfida di cooperare tra loro non solo nell’organizzazione e nell’erogazione dei servizi per i cittadini\, ma anche nel delineare e implementare in modo condiviso le politiche di sviluppo socio-economico a livello diarea vasta. \nA partire dal 2017\, in relazioni a tali sfide\, la Summer School per Amministratori locali è stata concepita come un’occasione per ragionare in modo specifico sullo sviluppo territoriale da parte degli Amministratori dei Comuni. Il tema è riconosciuto diffusamente per la sua rilevanza\, pensando all’opportunità/necessità\, determinata dalla piccola dimensione di molti Comuni\, di elaborare strategie e progettare lo sviluppo territoriale in termini di area vasta\, attraverso modalità associative e collaborative intercomunali. \nIn linea di continuità e nell’ottica del miglioramento continuo dell’esperienza maturata nelle sei edizioni della Summer School\, nel 2023 si propone un’affinamento ed evoluzione del modello di intervento formativo\, a partire dalla sua denominazione. \nIl Summer Camp per Amministratori locali si pone\, infatti\, come percorso di apprendimento e di scambio di esperienze tra Amministratori locali finalizzato ad acquisire conoscenza e dimestichezza nella pianificazione e nella programmazione strategica consolidando ed accentuando l’approccio laboratoriale attraverso un project work in cui teoria e pratica entrano in circolo per poter sperimentare cosa significa elaborare strategie di sviluppo locale ed individuare i fondi UE 2021-2027 (e altri fonti) congruenti. \nSi tratta di una esperienza formativa qualificata sia per i contenuti (di tipo strategico)\, il metodo didattico (non solo lezioni ma applicazione pratica tramite il projec work) che per la modalità di partecipazione (residenzialità).  \n		Il SUMMER CAMP su STRATEGIE DI SVILUPPO LOCALE SOSTENIBILE si svolgerà nel periodo 27-28-29-30-31 agosto e 1 settembre\, presso il CESFAM di Paluzza.L’esperienza residenziale darà diritto a tutti i partecipanti di far parte della Smart Community degli Amministratori locali per lo sviluppo.		 \nIl Summer Camp è un’esperienza residenziale “immersiva”\, con un impegno a tempo pieno a partire dall’arrivo a Paluzza nel pomeriggio di domenica 27 di agosto per conoscersi e ambientarsi prima di entrare nel vivo dei temi.Si alterneranno sessioni di riflessione ed approfondimento sui metodi e sugli strumenti per lo sviluppo locale insieme a sessioni di lavoro di gruppo per realizzare un Project Work.Ogni giornata prevede\, nel corso delle mattine\, la trattazione di un tema sviluppato attraverso una lezione di confronto tra il docente e i partecipanti. I pomeriggi sono finalizzati all’acquisizione di strumenti da applicare nel Project Work. A metà settimana l’esercitazione in outdoor consentirà di vivere un’esperienza per approfondire la capacità di fare squadra.  \nPer partecipare alla selezione\, i candidati dovranno compilare la scheda dati online cliccando sul seguente link: https://forms.office.com/e/S9bFbGhmzi\n Saranno considerate valide le candidature pervenute inderogabilmente entro le ore 24.00 del giorno 30 giugno 2023. Verrà esclusa ogni candidatura pervenuta dopo tale scadenza.		 \nCONSULTA IL BANDO\nCONSULTA IL PROGRAMMA\nPROROGA SCADENZA BANDO
URL:https://anci.fvg.it/evento/summer-camp-su-strategie-di-sviluppo-locale-sostenibile-e-la-programmazione-europea/
LOCATION:CeSFAM\, Piazza XXI-XXII luglio 6\, Paluzza\, Italia
CATEGORIES:Appuntamenti ANCI FVG,Formazione amministratori locali
ATTACH;FMTTYPE=image/png:https://anci.fvg.it/wp-content/uploads/2023/05/Locandina-sito-1.png
END:VEVENT
BEGIN:VEVENT
DTSTART;TZID=Europe/Rome:20230830T150000
DTEND;TZID=Europe/Rome:20230830T160000
DTSTAMP:20260422T055836
CREATED:20231018T071122Z
LAST-MODIFIED:20231018T071204Z
UID:44574-1693407600-1693411200@anci.fvg.it
SUMMARY:Ufficio di Presidenza
DESCRIPTION:L’Ufficio di Presidenza è convocato in modalità videoconferenza per mercoledì 30 agosto alle ore 15.00 (prima convocazione ore 14\,00).
URL:https://anci.fvg.it/evento/udp-agosto/
LOCATION:on line
CATEGORIES:Appuntamenti ANCI FVG
ATTACH;FMTTYPE=image/png:https://anci.fvg.it/wp-content/uploads/2022/11/ancifvg_logo5.png
ORGANIZER;CN="ANCI FVG":MAILTO:info@anci.fvg.it
END:VEVENT
BEGIN:VEVENT
DTSTART;TZID=Europe/Rome:20230830T153000
DTEND;TZID=Europe/Rome:20230830T173000
DTSTAMP:20260422T055836
CREATED:20230621T151621Z
LAST-MODIFIED:20260316T122625Z
UID:42939-1693409400-1693416600@anci.fvg.it
SUMMARY:La Summer School di LeggiAMO 0-18 La LINEA ARGENTO dedicata agli Amministratori del Fvg - “Stare bene nella COMUNITÀ”
DESCRIPTION:In un territorio virtuoso e precursore di molte iniziative di promozione alla lettura\, la Regione Autonoma Friuli Venezia Giulia per il tramite del suo progetto LeggiAMO 0-18 ha pensato a tutti quei professionisti che operano in prima linea in progetti di promozione della lettura. È dunque nata l’idea di creare la Summer School\, una scuola di alta formazione dedicata a docenti\, bibliotecari\, operatori e amministratori con l’obiettivo di aggiornare e sensibilizzare il personale che ruota e opera in progetti di promozione alla lettura. Uno spazio dove confrontarsi e discutere sul valore sociale della lettura e dell’impatto che quest’ultima ha all’interno di una comunità. \nLa terza edizione della Summer School di LeggiAMO 0-18 gode anche quest’anno del patrocinio di ANCI FVG\, e si terrà a Spilimbergo mercoledì 30 agosto 2023.  \nCome di consueto la Linea Argento\, una delle quattro che compongono l’iniziativa\, è dedicata esclusivamente agli amministratori della nostra Regione e si terrà dalle 15:30 alle 17.30 nell’Aula Magna della Scuola Mosaicisti del Friuli. \n Con il titolo “La modernizzazione delle biblioteche come asset per le amministrazioni pubbliche”\, l’incontro sarà condotto da Ferruccio Diozzi\, bibliotecario e consulente PA. Unitamente a questo i partecipanti sono invitati\, tutti\, a ritrovarsi alle ore 18:00 per una tavola rotonda conclusiva che vedrà confrontarsi i relatori moderati dal Direttore del Messaggero Veneto Paolo Mosanghini. \nLe iscrizioni sono già aperte sul sito www.leggiamofvg.it/summer-school  \n(possibilità di iscriversi fino al 20 agosto 2023).\nLa partecipazione è gratuita.Info e supporto: +39 347 8454512 dalle ore 16:30 alle ore 18:00 dal lunedì al venerdì o scrivendo a summerschool@leggiamofvg.it La Summer School di LeggiAMO 0-18 è resa possibile grazie alla virtuosa sinergia dei Partner del Progetto LeggiAMO 0-18: CCM – Consorzio Culturale del Monfalconese (coordinatore del progetto)\, CSB – Centro per la Salute del Bambino Onlus\, Damatrà Onlus\, AIB Associazione Italiana Biblioteche – Sezione FVG\, Fondazione Radio Magica ETS. L’edizione 2023 è realizzata in collaborazione con il Comune di Spilimbergo\, il Sistema Bibliotecario Peraulis\, la Scuola dei Mosaicisti del Friuli.
URL:https://anci.fvg.it/evento/la-summer-school-di-leggiamo-0-18-la-linea-argento-dedicata-agli-amministratori-del-fvg-stare-bene-nella-comunita/
LOCATION:Scuola Mosaicisti\, Spilimbergo
CATEGORIES:Appuntamenti ANCI FVG
ATTACH;FMTTYPE=image/png:https://anci.fvg.it/wp-content/uploads/2023/06/Spilimbergo.png
ORGANIZER;CN="Leggiamo 0-18":MAILTO:summerschool@leggiamofvg.it
END:VEVENT
END:VCALENDAR