BEGIN:VCALENDAR
VERSION:2.0
PRODID:-//Anci FVG - ECPv6.15.12.2//NONSGML v1.0//EN
CALSCALE:GREGORIAN
METHOD:PUBLISH
X-WR-CALNAME:Anci FVG
X-ORIGINAL-URL:https://anci.fvg.it
X-WR-CALDESC:Eventi per Anci FVG
REFRESH-INTERVAL;VALUE=DURATION:PT1H
X-Robots-Tag:noindex
X-PUBLISHED-TTL:PT1H
BEGIN:VTIMEZONE
TZID:Europe/Rome
BEGIN:DAYLIGHT
TZOFFSETFROM:+0100
TZOFFSETTO:+0200
TZNAME:CEST
DTSTART:20220327T010000
END:DAYLIGHT
BEGIN:STANDARD
TZOFFSETFROM:+0200
TZOFFSETTO:+0100
TZNAME:CET
DTSTART:20221030T010000
END:STANDARD
BEGIN:DAYLIGHT
TZOFFSETFROM:+0100
TZOFFSETTO:+0200
TZNAME:CEST
DTSTART:20230326T010000
END:DAYLIGHT
BEGIN:STANDARD
TZOFFSETFROM:+0200
TZOFFSETTO:+0100
TZNAME:CET
DTSTART:20231029T010000
END:STANDARD
BEGIN:DAYLIGHT
TZOFFSETFROM:+0100
TZOFFSETTO:+0200
TZNAME:CEST
DTSTART:20240331T010000
END:DAYLIGHT
BEGIN:STANDARD
TZOFFSETFROM:+0200
TZOFFSETTO:+0100
TZNAME:CET
DTSTART:20241027T010000
END:STANDARD
END:VTIMEZONE
BEGIN:VEVENT
DTSTART;TZID=Europe/Rome:20231005T173000
DTEND;TZID=Europe/Rome:20231005T193000
DTSTAMP:20260422T023831
CREATED:20230921T065244Z
LAST-MODIFIED:20260316T140509Z
UID:44405-1696527000-1696534200@anci.fvg.it
SUMMARY:I distretti del biologico
DESCRIPTION:Negli ultimi anni\, abbiamo assistito a un aumento significativo della domanda di prodotti biologici e a una crescente consapevolezza dell’importanza di un’agricoltura sostenibile. In questo contesto\, i distretti del biologico stanno emergendo come un’opportunità unica per gli amministratori locali di sostenere l’agricoltura sostenibile e promuovere la salute delle comunità locali. \nUn incontro per approfondire il tema\nIl 5 ottobre\, dalle 17:30 alle 19:30\, un incontro online dedicato agli amministratori locali del Friuli Venezia-Giulia approfondirà il tema\, andando ad analizzare il caso studio del Biodistretto della provincia di Belluno. \nSaranno con noi: \nMichele Nenz – Vicedirettore Coldiretti di Belluno e Segretario Giovani Impresa\, Donna Impresa\, Terranostra\, Campagna amica di Coldiretti Belluno. Dottore in scienze forestali e ambientali\, è membro dell’ufficio di presidenza del GAL Alto Bellunese. \nStefano Sanson – promotore e/o primo fondatore di varie associazioni del settore primario bellunese\, quali la Cooperativa Agricola La Fiorita\, l’Associazione produttori La Pedemontana\, varie Associazioni di recupero della biodiversità coltivata (Fagiolo Gialet\, Mais Sponcio\, Orzo Bellunese\, Birra Dolomiti ecc…) e di recente del Biodistretto Terre Bellunesi. \nINFO E ISCRIZIONI: https://www.formazione.compa.fvg.it/corso/123F004 \n 
URL:https://anci.fvg.it/evento/i-distretti-del-biologico/
LOCATION:online
CATEGORIES:Appuntamenti ANCI FVG
ATTACH;FMTTYPE=image/jpeg:https://anci.fvg.it/wp-content/uploads/2023/09/bio.jpg
END:VEVENT
BEGIN:VEVENT
DTSTART;TZID=Europe/Rome:20231007T090000
DTEND;TZID=Europe/Rome:20231007T163000
DTSTAMP:20260422T023831
CREATED:20230418T102747Z
LAST-MODIFIED:20230418T102930Z
UID:41674-1696669200-1696696200@anci.fvg.it
SUMMARY:Capire e fare buona amministrazione locale | Percorso per neo Amministratori locali | Edizione 2023
DESCRIPTION:Il percorso formativo offre l’opportunità agli Amministratori neoeletti di acquisire le competenze chiave di base per assumere con maggiore consapevolezza il ruolo\, nobile e complesso\, di rappresentanza e di governo dell’Ente locale.\nIn questo contesto storico\, la gestione dell’interesse pubblico\, lo sviluppo locale e l’erogazione efficiente di servizi ai cittadini sono cruciali per la comunità. \nIl percorso di formazione vuole anche contribuire alla rivalutazione del ruolo della politica e dell’amministrazione locale. \nArticolazione del percorso\nIl percorso formativo è articolato in quattro moduli: \nModulo 1 | ORGANI ISTITUZIONALI E ATTI AMMINISTRATIVI \nModulo 2 | PROGRAMMAZIONE E GESTIONE FINANZIARIA \nModulo 3 | SVILUPPO E PIANIFICAZIONE TERRITORIALE \nModulo 4 | DIGITALIZZAZIONE\, COMUNICAZIONE E PARTECIPAZIONE \nCiascun modulo si svolge in una unica giornata (sabato) in presenza con due sessioni teorico-metodologiche al mattino e\, dopo la pausa pranzo\, una sessione laboratoriale nel pomeriggio per applicare quanto appreso. \nDello stesso percorso ci sono due edizioni a scelta: una ESTIVA con sede a Martignacco e l’altra AUTUNNALE con sede a Fiume Veneto. \nMetodo\n\nSpiegazioni teoriche\nEsempi concreti da testimoni\nAnalisi di casi pratici\nEsercitazioni di gruppo\n\nSIMULAZIONE DI CONSIGLIO\nI partecipanti che avranno conseguito l’attestato finale potranno partecipare ad una sessione formativa speciale consistente nella esercitazione/simulazione di una sessione di consiglio comunale tipo con il supporto di un formatore tecnico-giuridico e un formatore esperto di public speaking. \nIscrizioni e ulteriori informazioni  \nL’iscrizione al percorso è gratuita grazie al finanziamento del programma regionale NextPA. \nLa procedura per l’iscrizione è esclusivamente online accedendo al link Corso 123F009 – ComPA FVG entro e non oltre mercoledì 11 maggio 2023 alle ore 17:00 (almeno per la prima edizione estiva).  \nCompletata la procedura di iscrizione\, i partecipanti ricevanno una mail automatica di conferma. Se non compare\, è consigliabile controllare la posta indesiderata.
URL:https://anci.fvg.it/evento/capire-e-fare-2023-7ottobre/
LOCATION:Casa dello Studente\, Via San Francesco 37\, Fiume Veneto
CATEGORIES:Appuntamenti ANCI FVG,Formazione amministratori locali
ATTACH;FMTTYPE=image/png:https://anci.fvg.it/wp-content/uploads/2023/04/tricolore.png
END:VEVENT
BEGIN:VEVENT
DTSTART;TZID=Europe/Rome:20231010T093000
DTEND;TZID=Europe/Rome:20231010T123000
DTSTAMP:20260422T023831
CREATED:20230928T053636Z
LAST-MODIFIED:20230928T065222Z
UID:44430-1696930200-1696941000@anci.fvg.it
SUMMARY:Costruire al tempo del Nuovo Codice dei Contratti Pubblici e del PNRR
DESCRIPTION:L’Amministrazione regionale\, in collaborazione con ANCI FVG\, la Federazione degli Ordini degli Ingegneri FVG\, la Federazione Regionale Ordini Architetti PPC del FVG e l’Associazione Nazionale Costruttori Edili FVG\, organizza per martedì 10 ottobre – nell’Auditorium della Regione\, in via Sabbadini 31 a Udine – un incontro sul Nuovo Codice dei Contratti Pubblici (D.Lgs. 36/2023). L’evento esaminerà come applicare il Nuovo Codice alle opere finanziate dal Piano Nazionale di Ripresa e Resilienza (PNRR). \nDurante l’incontro\, si discuterà del ruolo del RUP\, non più Responsabile Unico del Procedimento ma Responsabile Unico del Progetto\, della sua posizione all’interno o all’esterno della Stazione Appaltante e il suo ruolo nelle opere finanziate dal PNRR. \nRecentemente qualificatasi come Rete delle Stazioni Appaltanti\, come previsto dal Nuovo Codice\, la Regione ritiene utile e necessario organizzare momenti di confronto come questo al fine di assicurare la realizzazione delle opere finanziate e mantenere un approccio operativo nel rapporto con il sistema territoriale. \nPROGRAMMA SEMINARIO\nL’iscrizione è obbligatoria\, libera e gratuita scrivendo a seminari.territorio@regione.fvg.it \n 
URL:https://anci.fvg.it/evento/costruire-al-tempo-del-nuovo-codice-dei-contratti-pubblici-e-del-pnrr/
LOCATION:Auditorium Antonio Comelli\, Via Cecilia Gradenigo Sabbadini\, 31\, Udine\, Italy
CATEGORIES:Appuntamenti ANCI FVG
ATTACH;FMTTYPE=image/jpeg:https://anci.fvg.it/wp-content/uploads/2023/09/10ottobre.jpg
END:VEVENT
BEGIN:VEVENT
DTSTART;TZID=Europe/Rome:20231019T150000
DTEND;TZID=Europe/Rome:20231019T160000
DTSTAMP:20260422T023831
CREATED:20231018T070900Z
LAST-MODIFIED:20231018T071016Z
UID:44571-1697727600-1697731200@anci.fvg.it
SUMMARY:Ufficio di Presidenza
DESCRIPTION:L’Ufficio di Presidenza è convocato in modalità videoconferenza per giovedì 19 ottobre alle ore 15.00 (prima convocazione ore 14\,00).
URL:https://anci.fvg.it/evento/udp/
LOCATION:on line
CATEGORIES:Appuntamenti ANCI FVG
ATTACH;FMTTYPE=image/png:https://anci.fvg.it/wp-content/uploads/2022/11/ancifvg_logo5.png
ORGANIZER;CN="ANCI FVG":MAILTO:info@anci.fvg.it
END:VEVENT
BEGIN:VEVENT
DTSTART;TZID=Europe/Rome:20231021T090000
DTEND;TZID=Europe/Rome:20231021T163000
DTSTAMP:20260422T023831
CREATED:20230418T103008Z
LAST-MODIFIED:20230418T103219Z
UID:41679-1697878800-1697905800@anci.fvg.it
SUMMARY:Capire e fare buona amministrazione locale | Percorso per neo Amministratori locali | Edizione 2023
DESCRIPTION:Il percorso formativo offre l’opportunità agli Amministratori neoeletti di acquisire le competenze chiave di base per assumere con maggiore consapevolezza il ruolo\, nobile e complesso\, di rappresentanza e di governo dell’Ente locale.\nIn questo contesto storico\, la gestione dell’interesse pubblico\, lo sviluppo locale e l’erogazione efficiente di servizi ai cittadini sono cruciali per la comunità. \nIl percorso di formazione vuole anche contribuire alla rivalutazione del ruolo della politica e dell’amministrazione locale. \nArticolazione del percorso\nIl percorso formativo è articolato in quattro moduli: \nModulo 1 | ORGANI ISTITUZIONALI E ATTI AMMINISTRATIVI \nModulo 2 | PROGRAMMAZIONE E GESTIONE FINANZIARIA \nModulo 3 | SVILUPPO E PIANIFICAZIONE TERRITORIALE \nModulo 4 | DIGITALIZZAZIONE\, COMUNICAZIONE E PARTECIPAZIONE \nCiascun modulo si svolge in una unica giornata (sabato) in presenza con due sessioni teorico-metodologiche al mattino e\, dopo la pausa pranzo\, una sessione laboratoriale nel pomeriggio per applicare quanto appreso. \nDello stesso percorso ci sono due edizioni a scelta: una ESTIVA con sede a Martignacco e l’altra AUTUNNALE con sede a Fiume Veneto. \nMetodo\n\nSpiegazioni teoriche\nEsempi concreti da testimoni\nAnalisi di casi pratici\nEsercitazioni di gruppo\n\nSIMULAZIONE DI CONSIGLIO\nI partecipanti che avranno conseguito l’attestato finale potranno partecipare ad una sessione formativa speciale consistente nella esercitazione/simulazione di una sessione di consiglio comunale tipo con il supporto di un formatore tecnico-giuridico e un formatore esperto di public speaking. \nIscrizioni e ulteriori informazioni  \nL’iscrizione al percorso è gratuita grazie al finanziamento del programma regionale NextPA. \nLa procedura per l’iscrizione è esclusivamente online accedendo al link Corso 123F009 – ComPA FVG entro e non oltre mercoledì 11 maggio 2023 alle ore 17:00 (almeno per la prima edizione estiva).  \nCompletata la procedura di iscrizione\, i partecipanti ricevanno una mail automatica di conferma. Se non compare\, è consigliabile controllare la posta indesiderata.
URL:https://anci.fvg.it/evento/capire-e-fare-2023-21ottobre/
LOCATION:Casa dello Studente\, Via San Francesco 37\, Fiume Veneto
CATEGORIES:Appuntamenti ANCI FVG,Formazione amministratori locali
ATTACH;FMTTYPE=image/png:https://anci.fvg.it/wp-content/uploads/2023/04/tricolore.png
END:VEVENT
BEGIN:VEVENT
DTSTART;TZID=Europe/Rome:20231025T103000
DTEND;TZID=Europe/Rome:20231025T113000
DTSTAMP:20260422T023831
CREATED:20231022T142940Z
LAST-MODIFIED:20231022T144526Z
UID:44597-1698229800-1698233400@anci.fvg.it
SUMMARY:“PNRR - Nessuno resti indietro! Azioni di supporto in favore dei piccoli Comuni. Esperienze a confronto”
DESCRIPTION:EVENTO PROMOSSO DA REGIONE FRIULI VENEZIA GIULIA E SISTEMA INTEGRATO ANCI COMPA FVG NELL’AMBITO DELLA 40^ ASSEMBLEA NAZIONALE ANCI DI GENOVA presso lo Stand Regione FVG e ANCI FVG \nCalendario eventi a latere Assemblea nazionale
URL:https://anci.fvg.it/evento/40-assemblea-nazionale-anci-ancicompafvg-25/
LOCATION:Fiera di Genova\, Padiglione Blu della Fiera Piazzale Kennedy\, 1\, Genova
CATEGORIES:Appuntamenti ANCI FVG
ATTACH;FMTTYPE=image/png:https://anci.fvg.it/wp-content/uploads/2023/10/flavicon-social_integratoANCICOMPA.png
END:VEVENT
BEGIN:VEVENT
DTSTART;TZID=Europe/Rome:20231025T150000
DTEND;TZID=Europe/Rome:20231025T160000
DTSTAMP:20260422T023831
CREATED:20231022T144010Z
LAST-MODIFIED:20231022T144602Z
UID:44602-1698246000-1698249600@anci.fvg.it
SUMMARY:“Come convincere i giovani a entrare nella PA: le sfide dell’attrattività del lavoro pubblico\, lo sviluppo delle competenze nella PA locale”. La scelta (strategica) del Friuli Venezia Giulia.
DESCRIPTION:EVENTO PROMOSSO DA REGIONE FRIULI VENEZIA GIULIA E SISTEMA INTEGRATO ANCI COMPA FVG NELL’AMBITO DELLA 40^ ASSEMBLEA NAZIONALE ANCI DI GENOVA presso lo Stand Regione FVG e ANCI FVG \nCalendario eventi a latere Assemblea nazionale
URL:https://anci.fvg.it/evento/40-assemblea-nazionale-anci-ancicompafvg-25-attrattivita/
LOCATION:Fiera di Genova\, Padiglione Blu della Fiera Piazzale Kennedy\, 1\, Genova
CATEGORIES:Appuntamenti ANCI FVG
ATTACH;FMTTYPE=image/png:https://anci.fvg.it/wp-content/uploads/2023/10/flavicon-social_integratoANCICOMPA.png
END:VEVENT
BEGIN:VEVENT
DTSTART;TZID=Europe/Rome:20231026T103000
DTEND;TZID=Europe/Rome:20231026T113000
DTSTAMP:20260422T023831
CREATED:20231022T144202Z
LAST-MODIFIED:20231022T144329Z
UID:44604-1698316200-1698319800@anci.fvg.it
SUMMARY:ECOC 2025 Gorizia/Nova Gorica Capitale Europea della cultura 2025
DESCRIPTION:EVENTO PROMOSSO DA REGIONE FRIULI VENEZIA GIULIA E SISTEMA INTEGRATO ANCI COMPA FVG NELL’AMBITO DELLA 40^ ASSEMBLEA NAZIONALE ANCI DI GENOVA presso lo Stand Regione FVG e ANCI FVG \nCalendario eventi a latere Assemblea nazionale
URL:https://anci.fvg.it/evento/40-assemblea-nazionale-anci-ancicompafvg-26/
LOCATION:Fiera di Genova\, Padiglione Blu della Fiera Piazzale Kennedy\, 1\, Genova
CATEGORIES:Appuntamenti ANCI FVG
ATTACH;FMTTYPE=image/png:https://anci.fvg.it/wp-content/uploads/2023/10/flavicon-social_integratoANCICOMPA.png
END:VEVENT
BEGIN:VEVENT
DTSTART;TZID=Europe/Rome:20231028T090000
DTEND;TZID=Europe/Rome:20231028T163000
DTSTAMP:20260422T023831
CREATED:20230418T103254Z
LAST-MODIFIED:20230418T103432Z
UID:41684-1698483600-1698510600@anci.fvg.it
SUMMARY:Capire e fare buona amministrazione locale | Percorso per neo Amministratori locali | Edizione 2023
DESCRIPTION:Il percorso formativo offre l’opportunità agli Amministratori neoeletti di acquisire le competenze chiave di base per assumere con maggiore consapevolezza il ruolo\, nobile e complesso\, di rappresentanza e di governo dell’Ente locale.\nIn questo contesto storico\, la gestione dell’interesse pubblico\, lo sviluppo locale e l’erogazione efficiente di servizi ai cittadini sono cruciali per la comunità. \nIl percorso di formazione vuole anche contribuire alla rivalutazione del ruolo della politica e dell’amministrazione locale. \nArticolazione del percorso\nIl percorso formativo è articolato in quattro moduli: \nModulo 1 | ORGANI ISTITUZIONALI E ATTI AMMINISTRATIVI \nModulo 2 | PROGRAMMAZIONE E GESTIONE FINANZIARIA \nModulo 3 | SVILUPPO E PIANIFICAZIONE TERRITORIALE \nModulo 4 | DIGITALIZZAZIONE\, COMUNICAZIONE E PARTECIPAZIONE \nCiascun modulo si svolge in una unica giornata (sabato) in presenza con due sessioni teorico-metodologiche al mattino e\, dopo la pausa pranzo\, una sessione laboratoriale nel pomeriggio per applicare quanto appreso. \nDello stesso percorso ci sono due edizioni a scelta: una ESTIVA con sede a Martignacco e l’altra AUTUNNALE con sede a Fiume Veneto. \nMetodo\n\nSpiegazioni teoriche\nEsempi concreti da testimoni\nAnalisi di casi pratici\nEsercitazioni di gruppo\n\nSIMULAZIONE DI CONSIGLIO\nI partecipanti che avranno conseguito l’attestato finale potranno partecipare ad una sessione formativa speciale consistente nella esercitazione/simulazione di una sessione di consiglio comunale tipo con il supporto di un formatore tecnico-giuridico e un formatore esperto di public speaking. \nIscrizioni e ulteriori informazioni  \nL’iscrizione al percorso è gratuita grazie al finanziamento del programma regionale NextPA. \nLa procedura per l’iscrizione è esclusivamente online accedendo al link Corso 123F009 – ComPA FVG entro e non oltre mercoledì 11 maggio 2023 alle ore 17:00 (almeno per la prima edizione estiva).  \nCompletata la procedura di iscrizione\, i partecipanti ricevanno una mail automatica di conferma. Se non compare\, è consigliabile controllare la posta indesiderata.
URL:https://anci.fvg.it/evento/capire-e-fare-2023-28ottobre/
LOCATION:Casa dello Studente\, Via San Francesco 37\, Fiume Veneto
CATEGORIES:Appuntamenti ANCI FVG,Formazione amministratori locali
ATTACH;FMTTYPE=image/png:https://anci.fvg.it/wp-content/uploads/2023/04/tricolore.png
END:VEVENT
END:VCALENDAR