BEGIN:VCALENDAR
VERSION:2.0
PRODID:-//Anci FVG - ECPv6.15.12.2//NONSGML v1.0//EN
CALSCALE:GREGORIAN
METHOD:PUBLISH
X-ORIGINAL-URL:https://anci.fvg.it
X-WR-CALDESC:Eventi per Anci FVG
REFRESH-INTERVAL;VALUE=DURATION:PT1H
X-Robots-Tag:noindex
X-PUBLISHED-TTL:PT1H
BEGIN:VTIMEZONE
TZID:Europe/Rome
BEGIN:DAYLIGHT
TZOFFSETFROM:+0100
TZOFFSETTO:+0200
TZNAME:CEST
DTSTART:20220327T010000
END:DAYLIGHT
BEGIN:STANDARD
TZOFFSETFROM:+0200
TZOFFSETTO:+0100
TZNAME:CET
DTSTART:20221030T010000
END:STANDARD
BEGIN:DAYLIGHT
TZOFFSETFROM:+0100
TZOFFSETTO:+0200
TZNAME:CEST
DTSTART:20230326T010000
END:DAYLIGHT
BEGIN:STANDARD
TZOFFSETFROM:+0200
TZOFFSETTO:+0100
TZNAME:CET
DTSTART:20231029T010000
END:STANDARD
BEGIN:DAYLIGHT
TZOFFSETFROM:+0100
TZOFFSETTO:+0200
TZNAME:CEST
DTSTART:20240331T010000
END:DAYLIGHT
BEGIN:STANDARD
TZOFFSETFROM:+0200
TZOFFSETTO:+0100
TZNAME:CET
DTSTART:20241027T010000
END:STANDARD
END:VTIMEZONE
BEGIN:VEVENT
DTSTART;TZID=Europe/Rome:20231113T150000
DTEND;TZID=Europe/Rome:20231113T163000
DTSTAMP:20260422T010124
CREATED:20231106T163027Z
LAST-MODIFIED:20231106T163127Z
UID:44812-1699887600-1699893000@anci.fvg.it
SUMMARY:Tavolo ANCI FVG per le politiche di genere
DESCRIPTION:L’Assessora alle pari opportunità del Comune di Pordenone e Referente ANCI FVG alle politiche di genere\, Guglielmina Cucci\, ha convocato per lunedì 13 novembre il tavolo ANCI FVG per le politiche di genere. \nAll’o.d.g. \n– Aggiornamento componenti tavolo politiche di genere;\n– Programmazione attività formativa 2023. Interverrà il dott. Gianni Ghiani Project Manager e Progettista Area Formazione della Fondazione di ANCI Fvg\, ComPA Fvg;\n– Iniziative 25 novembre;\n– Varie ed eventuali.
URL:https://anci.fvg.it/evento/tavolo-anci-fvg-per-le-politiche-di-genere/
LOCATION:SEDE ANCI FVG\, Piazza XX Settembre\, 2\, Udine
CATEGORIES:Appuntamenti ANCI FVG
ATTACH;FMTTYPE=image/png:https://anci.fvg.it/wp-content/uploads/2023/11/Tavolo-di-coordinamento-per-le-politiche-di-genere-cover.png
END:VEVENT
BEGIN:VEVENT
DTSTART;TZID=Europe/Rome:20231122T161500
DTEND;TZID=Europe/Rome:20231122T180000
DTSTAMP:20260422T010124
CREATED:20231117T114741Z
LAST-MODIFIED:20231120T112245Z
UID:44937-1700669700-1700676000@anci.fvg.it
SUMMARY:Consiglio direttivo ANCI FVG
DESCRIPTION:Il Consiglio direttivo è convocato in modalità mista per mercoledì 22 novembre 2023 alle ore 16\,15 con l’o.d.g. che segue: \n1) Rifiuti: metodo ARERA e competenza di tariffazione. Intervento del Sindaco di Pradamano dott. Enrico Mossenta in qualità di Presidente del coordinamento soci di A&T2000;\n2) ComPA FVG: piano formativo NextPA e progetto Centri di Competenza 2024. Illustra il Direttore di ComPA FVG dott. Daniele Gortan;\n3) Commemorazioni per i caduti di tutte le guerre promosse dalle Associazioni Combattentistiche e d’Arma\, definizione di iniziative di supporto da parte di ANCI FVG;\n4) Comunicazioni del Presidente;\n5) Varie ed eventuali.
URL:https://anci.fvg.it/evento/consiglio-direttivo-22-novembre/
LOCATION:on line
CATEGORIES:Appuntamenti ANCI FVG
ATTACH;FMTTYPE=image/png:https://anci.fvg.it/wp-content/uploads/2023/03/banner.png
ORGANIZER;CN="ANCI FVG":MAILTO:info@anci.fvg.it
END:VEVENT
END:VCALENDAR