BEGIN:VCALENDAR
VERSION:2.0
PRODID:-//Anci FVG - ECPv6.15.12.2//NONSGML v1.0//EN
CALSCALE:GREGORIAN
METHOD:PUBLISH
X-WR-CALNAME:Anci FVG
X-ORIGINAL-URL:https://anci.fvg.it
X-WR-CALDESC:Eventi per Anci FVG
REFRESH-INTERVAL;VALUE=DURATION:PT1H
X-Robots-Tag:noindex
X-PUBLISHED-TTL:PT1H
BEGIN:VTIMEZONE
TZID:Europe/Rome
BEGIN:DAYLIGHT
TZOFFSETFROM:+0100
TZOFFSETTO:+0200
TZNAME:CEST
DTSTART:20250330T010000
END:DAYLIGHT
BEGIN:STANDARD
TZOFFSETFROM:+0200
TZOFFSETTO:+0100
TZNAME:CET
DTSTART:20251026T010000
END:STANDARD
BEGIN:DAYLIGHT
TZOFFSETFROM:+0100
TZOFFSETTO:+0200
TZNAME:CEST
DTSTART:20260329T010000
END:DAYLIGHT
BEGIN:STANDARD
TZOFFSETFROM:+0200
TZOFFSETTO:+0100
TZNAME:CET
DTSTART:20261025T010000
END:STANDARD
BEGIN:DAYLIGHT
TZOFFSETFROM:+0100
TZOFFSETTO:+0200
TZNAME:CEST
DTSTART:20270328T010000
END:DAYLIGHT
BEGIN:STANDARD
TZOFFSETFROM:+0200
TZOFFSETTO:+0100
TZNAME:CET
DTSTART:20271031T010000
END:STANDARD
END:VTIMEZONE
BEGIN:VEVENT
DTSTART;TZID=Europe/Rome:20260223T140000
DTEND;TZID=Europe/Rome:20260223T150000
DTSTAMP:20260423T131346
CREATED:20260223T110109Z
LAST-MODIFIED:20260223T165115Z
UID:62368-1771855200-1771858800@anci.fvg.it
SUMMARY:Tavolo ANCI FVG per le Politiche di genere | Lunedì 23 febbraio 2026
DESCRIPTION:Il Tavolo ANCI FVG per le Politiche di genere è convocato per lunedì 23 febbraio 2026 alle ore 14\,00 (prima convocazione ore 13\,00) in videoconferenza.
URL:https://anci.fvg.it/evento/tavolo-anci-fvg-per-le-politiche-di-genere-lunedi-23-febbraio-2026/
LOCATION:SEDE ANCI FVG\, Piazza XX Settembre\, 2\, Udine
CATEGORIES:Appuntamenti ANCI FVG
ATTACH;FMTTYPE=image/png:https://anci.fvg.it/wp-content/uploads/2025/10/Logo_ANCI_Tavolo_politiche_di_genere-01.png
ORGANIZER;CN="ANCI FVG":MAILTO:info@anci.fvg.it
END:VEVENT
BEGIN:VEVENT
DTSTART;TZID=Europe/Rome:20260224T150000
DTEND;TZID=Europe/Rome:20260224T160000
DTSTAMP:20260423T131346
CREATED:20260223T105730Z
LAST-MODIFIED:20260223T110046Z
UID:62366-1771945200-1771948800@anci.fvg.it
SUMMARY:Coordinamento ANCI Giovani FVG | Martedì 24 febbraio 2026
DESCRIPTION:Il Coordinamento regionale di ANCI Giovani del Friuli Venezia Giulia è convocato per martedì 24 febbraio 2026 alle ore 15\,00 (prima convocazione ore 14\,00) in modalità mista (in presenza presso la sede associativa in Piazza XX Settembre\, 2 a Udine e in videoconferenza).
URL:https://anci.fvg.it/evento/coordinamento-anci-giovani-fvg-martedi-24-febbraio-2026/
LOCATION:SEDE ANCI FVG\, Piazza XX Settembre\, 2\, Udine
CATEGORIES:Appuntamenti ANCI FVG
ATTACH;FMTTYPE=image/png:https://anci.fvg.it/wp-content/uploads/2025/01/thumbnail_anci_flavicon1000.png
ORGANIZER;CN="ANCI FVG":MAILTO:info@anci.fvg.it
END:VEVENT
BEGIN:VEVENT
DTSTART;TZID=Europe/Rome:20260302T170000
DTEND;TZID=Europe/Rome:20260302T190000
DTSTAMP:20260423T131346
CREATED:20260226T100219Z
LAST-MODIFIED:20260226T101636Z
UID:62489-1772470800-1772478000@anci.fvg.it
SUMMARY:CONTO TERMICO 3.0 – Rigenerazione urbana ed energetica\, un’opportunità per la riqualificazione del patrimonio dei Comuni
DESCRIPTION:Il Conto Termico 3.0 (introdotto dal DM 7 agosto 2025) rappresenta una grande opportunità per le Amministrazioni comunali\, con incentivi che possono coprire fino al 100% delle spese per l’efficientamento energetico di edifici pubblici\, scuole e strutture sanitarie. \nL’Associazione dei Sindaci emeriti del Friuli Venezia Giulia\, con il patrocinio di ANCI FVG\, e con il supporto della Regione FVG e del GSE- Gestore dei Servizi Energetici\, ha inteso organizzare un incontro informativo per illustrare le nuove regole operative agli Amministratori e ai tecnici comunali. \nL’incontro è a ingresso libero. \n\n QUANDO Lunedì 2 marzo 2026\n ORARIO 17:00 \n DOVE Sala Conferenze | Villa Manin di Passariano
URL:https://anci.fvg.it/evento/conto-termico-3-0-rigenerazione-urbana-ed-energetica-unopportunita-per-la-riqualificazione-del-patrimonio-dei-comuni/
LOCATION:Villa Manin di Passariano
CATEGORIES:Altri organizzatori: eventi esterni di interesse degli Enti locali,Appuntamenti ANCI FVG
ATTACH;FMTTYPE=image/jpeg:https://anci.fvg.it/wp-content/uploads/2026/02/Lettera-invito-CONTO-TERMICO-3.0_2.3.2026-scaled.jpg
END:VEVENT
BEGIN:VEVENT
DTSTART;VALUE=DATE:20260308
DTEND;VALUE=DATE:20260313
DTSTAMP:20260423T131346
CREATED:20260226T075134Z
LAST-MODIFIED:20260227T100701Z
UID:62476-1772928000-1773359999@anci.fvg.it
SUMMARY:8 marzo: le iniziative in occasione della giornata internazionale dedicata alla donna
DESCRIPTION:Tra gli obiettivi del tavolo per le politiche di genere di ANCI FVG\, c’è il rafforzamento della rete regionale delle amministrazioni locali attraverso la condivisione di buone pratiche e la programmazione di iniziative comuni. \nSeguendo i link è possibile consultare il calendario delle iniziative segnalate dai Comuni del Friuli Venezia Giulia in occasione sia della giornata dell’8 marzo che di tutto l’arco dell’anno e scoprire le attività del tavolo per le politiche di genere di ANCI FVG. \nLE INIZIATIVE REALIZZATE IN REGIONE IN OCCASIONE DELL’8 MARZO \nL’ATTIVITA’ DEL TAVOLO ANCI FVG PER LE POLITICHE DI GENERE
URL:https://anci.fvg.it/evento/8-marzo-le-iniziative-in-occasione-della-giornata-internazionale-dedicata-alla-donna/
LOCATION:Evento diffuso sul territorio\, Italy
CATEGORIES:Appuntamenti ANCI FVG
ATTACH;FMTTYPE=image/png:https://anci.fvg.it/wp-content/uploads/2025/11/politiche-di-genere-banner-sito.png
END:VEVENT
BEGIN:VEVENT
DTSTART;VALUE=DATE:20260308
DTEND;VALUE=DATE:20261221
DTSTAMP:20260423T131346
CREATED:20260324T081235Z
LAST-MODIFIED:20260324T082405Z
UID:63036-1772928000-1797811199@anci.fvg.it
SUMMARY:Eventi e iniziative in tema di politiche di genere
DESCRIPTION:Tra gli obiettivi del tavolo per le politiche di genere di ANCI FVG\, c’è il rafforzamento della rete regionale delle amministrazioni locali attraverso la condivisione di buone pratiche e la programmazione di iniziative comuni. \nSeguendo i link è possibile consultare il calendario delle iniziative segnalate dai Comuni del Friuli Venezia Giulia e scoprire le attività del tavolo per le politiche di genere di ANCI FVG. \n\nEVENTI E INIZIATIVE IN TEMA DI POLITICHE DI GENERE \nSCOPRI ANCHE L’ATTIVITA’ DEL TAVOLO ANCI FVG PER LE POLITICHE DI GENERE
URL:https://anci.fvg.it/evento/eventi-e-iniziative-in-tema-di-politiche-di-genere/
LOCATION:Evento diffuso sul territorio\, Italy
CATEGORIES:Appuntamenti ANCI FVG
ATTACH;FMTTYPE=image/png:https://anci.fvg.it/wp-content/uploads/2025/11/politiche-di-genere-banner-sito.png
END:VEVENT
BEGIN:VEVENT
DTSTART;TZID=Europe/Rome:20260311T150000
DTEND;TZID=Europe/Rome:20260311T160000
DTSTAMP:20260423T131346
CREATED:20260420T102335Z
LAST-MODIFIED:20260420T102504Z
UID:63507-1773241200-1773244800@anci.fvg.it
SUMMARY:Ufficio di Presidenza Anci FVG | Mercoledì 11 Marzo 2026
DESCRIPTION:L’Ufficio di Presidenza è convocato in modalità mista (in presenza presso la sede associativa di Udine e in videoconferenza).
URL:https://anci.fvg.it/evento/ufficio-di-presidenza-anci-fvg-mercoledi-11-marzo-2026/
LOCATION:SEDE ANCI FVG\, Piazza XX Settembre\, 2\, Udine
CATEGORIES:Appuntamenti ANCI FVG
ATTACH;FMTTYPE=image/png:https://anci.fvg.it/wp-content/uploads/2025/01/thumbnail_anci_flavicon1000.png
ORGANIZER;CN="ANCI FVG":MAILTO:info@anci.fvg.it
END:VEVENT
BEGIN:VEVENT
DTSTART;TZID=Europe/Rome:20260325T170000
DTEND;TZID=Europe/Rome:20260325T180000
DTSTAMP:20260423T131346
CREATED:20260324T095226Z
LAST-MODIFIED:20260410T081000Z
UID:63077-1774458000-1774461600@anci.fvg.it
SUMMARY:Coordinamento ANCI Giovani FVG | Mercoledì 25 marzo 2026
DESCRIPTION:Il Coordinamento regionale di ANCI Giovani del Friuli Venezia Giulia è convocato per mercoledì 25 marzo 2026 alle ore 17\,00 (prima convocazione ore 16\,00) in modalità mista (in presenza presso la Sala consiliare del Comune di Manzano e in videoconferenza).
URL:https://anci.fvg.it/evento/coordinamento-anci-giovani-fvg-mercoledi-25-marzo-2026/
LOCATION:In modalità mista
CATEGORIES:Appuntamenti ANCI FVG
ATTACH;FMTTYPE=image/png:https://anci.fvg.it/wp-content/uploads/2025/01/thumbnail_anci_flavicon1000.png
ORGANIZER;CN="ANCI FVG":MAILTO:info@anci.fvg.it
END:VEVENT
BEGIN:VEVENT
DTSTART;TZID=Europe/Rome:20260409T130000
DTEND;TZID=Europe/Rome:20260409T140000
DTSTAMP:20260423T131346
CREATED:20260407T055829Z
LAST-MODIFIED:20260407T060232Z
UID:63264-1775739600-1775743200@anci.fvg.it
SUMMARY:Direttivo regionale dei Consigli comunali | Giovedì 9 Aprile
DESCRIPTION:Il Coordinatore dei Consigli comunali FVG Francesco di Paola Panteca ha convocato l’incontro per giovedì 9 Aprile 2026 alle ore 13\,00 in videoconferenza.
URL:https://anci.fvg.it/evento/direttivo-regionale-dei-consigli-comunali-giovedi-9-aprile/
LOCATION:online
CATEGORIES:Appuntamenti ANCI FVG
ATTACH;FMTTYPE=image/png:https://anci.fvg.it/wp-content/uploads/2025/01/thumbnail_anci_flavicon1000.png
ORGANIZER;CN="ANCI FVG":MAILTO:info@anci.fvg.it
END:VEVENT
BEGIN:VEVENT
DTSTART;TZID=Europe/Rome:20260409T170000
DTEND;TZID=Europe/Rome:20260409T170000
DTSTAMP:20260423T131346
CREATED:20260403T064503Z
LAST-MODIFIED:20260403T065822Z
UID:63210-1775754000-1775754000@anci.fvg.it
SUMMARY:Ruolo e competenze del Sindaco
DESCRIPTION:Regione FVG e ANCI FVG\, attraverso la loro Fondazione ComPA FVG\, offrono un’opportunità alle Sindache ed ai Sindaci per rafforzare le capacità di indirizzare l’azione politico amministrativa dell’Ente locale. \nIl focus principale è come generare valore pubblico nell’azione di governo\, rapportandosi con efficacia con la propria Giunta\, con il Consiglio Comunale\, la struttura amministrativa\, la comunità locale e gli stakeholder del territorio. \nSi tratta di un evento riservato a 20 Sindache e Sindaci della Regione FVG\, dedicato a focalizzare l’importante ruolo e ad approfondire le relazioni interne\, con la componente politica etecnica\, e le relazioni esterne\, con la comunità e gli stakeholder. \nIl programma dell’attività formativa si intreccia con i momenti conviviali e di networking\, parte integrante del valore aggiunto di questa esperienza\, favoriti dalla permanenza di partecipanti ed esperti nella struttura regionale del CESFAM di Paluzza (UD). \nL’evento inizia giovedì 9 aprile alle 17:00 e si conclude sabato 11 aprile alle 13:00 con il pranzo finale. Per ogni partecipante viene messa a disposizione per il pernottamento una camera singola presso il CESFAM di Paluzza (UD). \nLa partecipazione al percorso formativo\, il pernottamento e i pasti sono interamente finanziati della Regione FVG – Scuola di formazione per amministratori locali. \n\n  \n   Dal 9 all’11 Aprile\n CESFAM a Paluzza\n Programma Ruolo e competenze del Sindaco 9_11_aprile_2026\n PRE – ISCRIZIONI attive al link Ruolo e competenze del Sindaco 2026\n \n   
URL:https://anci.fvg.it/evento/ruolo-e-competenze-del-sindaco-3/
LOCATION:CeSFAM\, Piazza XXI-XXII luglio 6\, Paluzza\, Italia
CATEGORIES:Appuntamenti ANCI FVG,Formazione amministratori locali
ATTACH;FMTTYPE=image/png:https://anci.fvg.it/wp-content/uploads/2026/04/banner.png
END:VEVENT
BEGIN:VEVENT
DTSTART;TZID=Europe/Rome:20260413T170000
DTEND;TZID=Europe/Rome:20260413T190000
DTSTAMP:20260423T131346
CREATED:20260403T050607Z
LAST-MODIFIED:20260403T085046Z
UID:63197-1776099600-1776106800@anci.fvg.it
SUMMARY:Competenze specifiche per l’Assessore e il consigliere delegato alle Politiche Giovanili
DESCRIPTION:Con due incontri online e uno in presenza parte il prossimo 13 aprile il corso “Competenze specifiche per l’Assessore e il Consigliere delegato alle Politiche Giovanili”\, formazione dedicata agli Amministratori locali\, Assessori e Consiglieri delegati. Il percorso offrirà l’opportunità di acquisire competenze chiave per esercitare il proprio ruolo relazionandosi con la componente tecnica e con i beneficiari delle politiche nonché una conoscenza del contesto del disagio giovanile e delle migliori esperienze di politiche integrate per promuovere il benessere giovanile. Conoscere le forme del disagio delle giovani generazioni\, rendere i giovani protagonisti di politiche integrate\, conoscere esperienze di politiche integrate che rispondono ai bisogni delle nuove generazioni sono alcuni dei risultati attesi dal corso che si svolgerà in modalità sincrona mista (online il 13 e 28 Aprile e in presenza il 9 Maggio). Per partecipare è necessario essere registrate/i al nuovo ambiente di apprendimento online della nostra Fondazione ComPA FVG al link academy.compa.fvg.it Una volta ricevuta conferma dell’attivazione dell’account\, è possibile procedere con l’iscrizione al corso. \n\n\n   13 e 28 Aprile 2026 (online)\n  Dalle ore 17\,00 alle ore 19\,00\n   9 Maggio 2026 (in presenza)\n  Dalle ore 9\,00 alle ore 13\,00\n Online e in presenza a San Giovanni al Natisone\n Scheda corso e Calendario incontri\n La partecipazione è gratuita previa iscrizione al link Competenze specifiche per l’Assessore e il Consigliere delegato alle Politiche giovanili\nℹ️ Per informazioni\nFederica Grion Project Manager Junior | f.grion@compa.fvg.it | +39 329 747 6291
URL:https://anci.fvg.it/evento/competenze-specifiche-per-lassessore-e-il-consigliere-delegato-alle-politiche-giovanili/
LOCATION:online
CATEGORIES:Appuntamenti ANCI FVG,Formazione amministratori locali
ATTACH;FMTTYPE=image/jpeg:https://anci.fvg.it/wp-content/uploads/2026/04/giovanili.jpg
END:VEVENT
BEGIN:VEVENT
DTSTART;TZID=Europe/Rome:20260415T173000
DTEND;TZID=Europe/Rome:20260415T190000
DTSTAMP:20260423T131346
CREATED:20260410T080615Z
LAST-MODIFIED:20260410T080839Z
UID:63397-1776274200-1776279600@anci.fvg.it
SUMMARY:Coordinamento ANCI Giovani FVG | Mercoledì 15 Aprile 2026
DESCRIPTION:Il Coordinamento regionale di ANCI Giovani del Friuli Venezia Giulia è convocato per mercoledì 15 Aprile 2026 alle ore 17\,30 (prima convocazione ore 16\,30) in modalità mista (in presenza presso la Sala Giunta del Comune di Trieste e in videoconferenza).
URL:https://anci.fvg.it/evento/coordinamento-anci-giovani-fvg-mercoledi-15-aprile-2026/
LOCATION:In modalità mista
CATEGORIES:Appuntamenti ANCI FVG
ATTACH;FMTTYPE=image/png:https://anci.fvg.it/wp-content/uploads/2025/01/thumbnail_anci_flavicon1000.png
ORGANIZER;CN="ANCI FVG":MAILTO:info@anci.fvg.it
END:VEVENT
BEGIN:VEVENT
DTSTART;TZID=Europe/Rome:20260416T083000
DTEND;TZID=Europe/Rome:20260417T133000
DTSTAMP:20260423T131346
CREATED:20260407T093516Z
LAST-MODIFIED:20260407T094414Z
UID:63318-1776328200-1776432600@anci.fvg.it
SUMMARY:1° Convegno della Polizia locale del Friuli Venezia Giulia
DESCRIPTION:  \nLa Regione Autonoma Friuli Venezia Giulia\, in collaborazione con ComPA FVG e con il patrocinio di Anci FVG\, organizza due giornate di studio per affrontare alcuni tra i temi di competenza delle Polizie Locali che\, in questi primi mesi dell’anno\, stanno assumendo particolare rilievo sia per la loro novità che per la loro importanza operativa. \nI relatori\, individuati tra quelli più competenti a livello locale e nazionale\, affronteranno temi come autotrasporto\, interventi su sinistri con veicoli elettrici\, il punto sul reato di omicidio stradale dopo dieci anni dalla sua introduzione\, novità in materia di polizia ambientale\, videosorveglianza e privacy\, il recente Decreto Legge in materia di sicurezza\, il punto sull’applicazione del Codice dei contratti nonché il preoccupante fenomeno dei suicidi tra gli operatori di Polizia Locale. \nIl taglio degli interventi intende essere dinamico ed orientato a fornire strumenti pratici per il lavoro che Agenti ed Ufficiali di Polizia Locale devono affrontare quotidianamente. Sarà altresì un’occasione per porre domande ai relatori e per confrontare le esperienze maturate in altre regioni e per scambiare eventuali buone pratiche adottate nei diversi territori. \n\n\n   16 – 17 Aprile 2026\n CINECITY | Via Arcobaleno\, 12 Lignano Sabbiadoro\n  Consulta il programma\n Iscrizioni entro il 15 Aprile qui 
URL:https://anci.fvg.it/evento/1-convegno-della-polizia-locale-del-friuli-venezia-giulia/
LOCATION:Cinecity\, Via Arcobaleno 12\, Lignano Sabbiadoro\, Italy
CATEGORIES:Appuntamenti ANCI FVG,Formazione amministratori locali
ATTACH;FMTTYPE=image/jpeg:https://anci.fvg.it/wp-content/uploads/2026/04/polizia.jpg
END:VEVENT
BEGIN:VEVENT
DTSTART;TZID=Europe/Rome:20260422T153000
DTEND;TZID=Europe/Rome:20260422T163000
DTSTAMP:20260423T131346
CREATED:20260420T102524Z
LAST-MODIFIED:20260420T102744Z
UID:63509-1776871800-1776875400@anci.fvg.it
SUMMARY:Ufficio di Presidenza Anci FVG | Mercoledì 22 Aprile
DESCRIPTION:L’Ufficio di Presidenza è convocato in modalità mista (in presenza presso la sede associativa di Udine e in videoconferenza).
URL:https://anci.fvg.it/evento/ufficio-di-presidenza-anci-fvg-mercoledi-22-aprile/
LOCATION:SEDE ANCI FVG\, Piazza XX Settembre\, 2\, Udine
CATEGORIES:Appuntamenti ANCI FVG
ATTACH;FMTTYPE=image/png:https://anci.fvg.it/wp-content/uploads/2025/01/thumbnail_anci_flavicon1000.png
ORGANIZER;CN="ANCI FVG":MAILTO:info@anci.fvg.it
END:VEVENT
BEGIN:VEVENT
DTSTART;TZID=Europe/Rome:20260428T160000
DTEND;TZID=Europe/Rome:20260428T183000
DTSTAMP:20260423T131346
CREATED:20260420T082353Z
LAST-MODIFIED:20260423T095306Z
UID:63500-1777392000-1777401000@anci.fvg.it
SUMMARY:Conferenza regionale ANCI FVG dei Presidenti dei Consigli comunali
DESCRIPTION:  \nLa Conferenza Regionale ANCI FVG dei Presidenti dei Consigli Comunali si terrà a Udine nel Salone del Parlamento del Castello il giorno martedì 28 Aprile 2026\, con apertura dei lavori alle ore 16.00 e chiusura prevista per le ore 18.45. Riunitasi per la prima volta a Trieste la Conferenza continua il suo percorso itinerante nelle città capoluogo di provincia per coinvolgere tutte le realtà regionali. \nAll’interno della Conferenza è previsto un convegno dedicato al tema RESPONSABILITÀ PREVENZIONE E CULTURA SULLA SICUREZZA SUL LAVORO e l’illustrazione dell’argomento “LA SICUREZZA URBANA INTEGRATA”. \nI Presidenti di Consiglio e i Sindaci con funzione di Presidenti del Consiglio comunale impossibilitati a partecipare\, possono delegare fino a due Consiglieri comunali.\nSAVE THE DATE  ancifvg_conferenza_consiglicomunali_Convocazione_signed \n\n\n   28 Aprile 2026 ore 16.00\n Salone del Parlamento del Castello di Udine\n  PROGRAMMA LAVORI ancifvg_programma_conferenza_consiglicomunali_28042026\n Iscrizioni entro il 24 Aprile al link CONFERENZA REGIONALE DEI CONSIGLI COMUNALI | UDINE 28 APRILE 2026
URL:https://anci.fvg.it/evento/conferenza-regionale-anci-fvg-dei-presidenti-dei-consigli-comunali/
LOCATION:Salone del Parlamento del Castello\, Piazzale Patria del Friuli 1 (Piazzale del Castello)\, Udine\, 33100\, Italy
CATEGORIES:Appuntamenti ANCI FVG
ATTACH;FMTTYPE=image/jpeg:https://anci.fvg.it/wp-content/uploads/2026/04/sala-consiglio.jpg
END:VEVENT
BEGIN:VEVENT
DTSTART;TZID=Europe/Rome:20260515T090000
DTEND;TZID=Europe/Rome:20260517T143000
DTSTAMP:20260423T131346
CREATED:20260403T082654Z
LAST-MODIFIED:20260403T084858Z
UID:63226-1778835600-1779028200@anci.fvg.it
SUMMARY:Spring Camp 2026: l’alta formazione per Amministratori sul cambiamento climatico
DESCRIPTION: Torna anche nel 2026 lo Spring Camp\, il laboratorio formativo residenziale di II livello di ComPA FVG\, riservato agli Amministratori e alle Amministratrici della Regione Friuli Venezia Giulia facenti parte della Smart Community per lo sviluppo locale\, volto a favorire l’approfondimento e il confronto su temi di particolare rilevanza e interesse per lo sviluppo locale.  In continuità con le esperienze precedenti\, il laboratorio formativo prevederà la partecipazione di 18 amministratori locali\, 3 funzionari della PA con competenze tecniche e giuridiche e 3 stakeholder\, rappresentanti della business community e della società civile regionale. Nell’ottica della condivisione e del rafforzamento di un linguaggio e un approccio comuni in tema di sviluppo locale\, nel corso dei tre giorni di attività gli Amministratori locali potranno: \n\nComprendere la differenza tra “Forecast” e “Foresight” e saper pensare ai futuri piuttosto che al futuro;\nCapire la funzione dei megatrend come strumento per immaginare i futuri possibili di medio-lungo termine;\nComprendere e utilizzare metodi e strumenti di Foresight per sviluppare scenari anticipanti applicati ai temi della mitigazione e dell’adattamento ai cambiamenti climatici su scala locale;\nSperimentare laboratorialmente l’importanza di fare esercizi di futuro in una logica partecipativa Pubblico-Privato con stakeholder significativi.\nFare rete con gli altri Amministratori\, i tecnici della PA e gli stakeholder presenti\, grazie alla formula “residenziale” che si rivela vincente nello scambio produttivo di buone pratiche.\n\n\n\n   15 – 17 Maggio 2026\n CESFAM a Paluzza\n  Consulta il programma\n Iscrizioni entro il 19 Aprile qui 
URL:https://anci.fvg.it/evento/spring-camp-2026-lalta-formazione-per-amministratori-sul-cambiamento-climatico/
LOCATION:CeSFAM\, Piazza XXI-XXII luglio 6\, Paluzza\, Italia
CATEGORIES:Appuntamenti ANCI FVG,Formazione amministratori locali
ATTACH;FMTTYPE=image/png:https://anci.fvg.it/wp-content/uploads/2026/04/News_Spring-Camp-2026.png
END:VEVENT
END:VCALENDAR