BEGIN:VCALENDAR
VERSION:2.0
PRODID:-//Anci FVG - ECPv6.15.12.2//NONSGML v1.0//EN
CALSCALE:GREGORIAN
METHOD:PUBLISH
X-ORIGINAL-URL:https://anci.fvg.it
X-WR-CALDESC:Eventi per Anci FVG
REFRESH-INTERVAL;VALUE=DURATION:PT1H
X-Robots-Tag:noindex
X-PUBLISHED-TTL:PT1H
BEGIN:VTIMEZONE
TZID:Europe/Rome
BEGIN:DAYLIGHT
TZOFFSETFROM:+0100
TZOFFSETTO:+0200
TZNAME:CEST
DTSTART:20210328T010000
END:DAYLIGHT
BEGIN:STANDARD
TZOFFSETFROM:+0200
TZOFFSETTO:+0100
TZNAME:CET
DTSTART:20211031T010000
END:STANDARD
BEGIN:DAYLIGHT
TZOFFSETFROM:+0100
TZOFFSETTO:+0200
TZNAME:CEST
DTSTART:20220327T010000
END:DAYLIGHT
BEGIN:STANDARD
TZOFFSETFROM:+0200
TZOFFSETTO:+0100
TZNAME:CET
DTSTART:20221030T010000
END:STANDARD
BEGIN:DAYLIGHT
TZOFFSETFROM:+0100
TZOFFSETTO:+0200
TZNAME:CEST
DTSTART:20230326T010000
END:DAYLIGHT
BEGIN:STANDARD
TZOFFSETFROM:+0200
TZOFFSETTO:+0100
TZNAME:CET
DTSTART:20231029T010000
END:STANDARD
END:VTIMEZONE
BEGIN:VEVENT
DTSTART;TZID=Europe/Rome:20220202T180000
DTEND;TZID=Europe/Rome:20220202T193000
DTSTAMP:20260420T232219
CREATED:20220422T091934Z
LAST-MODIFIED:20220422T092907Z
UID:4020-1643824800-1643830200@anci.fvg.it
SUMMARY:Patrimoni culturali locali leva di sviluppo con il pnrr – secondo e ultimo incontro
DESCRIPTION:  La Regione Autonoma Friuli Venezia Giulia\, in collaborazione con ComPA FVG e con il patrocinio di Anci FVG\, organizza due giornate di studio per affrontare alcuni tra i temi di competenza delle Polizie Locali che\, in questi primi mesi dell’anno\, stanno assumendo particolare rilievo sia per la loro novità che per la loro importanza operativa. I relatori\, individuati tra quelli più competenti a livello locale e nazionale\, affronteranno temi come autotrasporto\, interventi su sinistri con veicoli elettrici\, il punto sul reato di omicidio stradale dopo dieci anni dalla sua introduzione\, novità in materia di polizia ambientale\, videosorveglianza e privacy\, il recente Decreto Legge in materia di sicurezza\, il punto sull’applicazione del Codice dei contratti nonché il preoccupante fenomeno dei suicidi tra gli operatori di Polizia Locale.Il taglio degli interventi intende essere dinamico ed orientato a fornire strumenti pratici per il lavoro che Agenti ed Ufficiali di Polizia Locale devono affrontare quotidianamente. Sarà altresì un’occasione per porre domande ai relatori e per confrontare le esperienze maturate in altre regioni e per scambiare eventuali buone pratiche adottate nei diversi territori.    16 – 17 Aprile 2026 CINECITY | Via Arcobaleno\, 12 Lignano Sabbiadoro  Consulta il programma Iscrizioni entro il 15 Aprile qui 
URL:https://anci.fvg.it/evento/patrimoni-culturali-locali-leva-di-sviluppo-con-il-pnrr-secondo-e-ultimo-incontro/
LOCATION:on line
CATEGORIES:Formazione amministratori locali
ATTACH;FMTTYPE=image/png:https://anci.fvg.it/wp-content/uploads/2022/04/Gennaio-febbraio-2022-Patrimoni-culturali-locali-leva-di-sviluppo-con-il-PNRR_imagefull.png
ORGANIZER;CN="ANCI FVG":MAILTO:info@anci.fvg.it
END:VEVENT
BEGIN:VEVENT
DTSTART;TZID=Europe/Rome:20220221T180000
DTEND;TZID=Europe/Rome:20220221T200000
DTSTAMP:20260420T232220
CREATED:20220422T091633Z
LAST-MODIFIED:20220422T091904Z
UID:4011-1645466400-1645473600@anci.fvg.it
SUMMARY:Il valore dei dati e lo scambio pubblico-privato per lo sviluppo
DESCRIPTION:  La Regione Autonoma Friuli Venezia Giulia\, in collaborazione con ComPA FVG e con il patrocinio di Anci FVG\, organizza due giornate di studio per affrontare alcuni tra i temi di competenza delle Polizie Locali che\, in questi primi mesi dell’anno\, stanno assumendo particolare rilievo sia per la loro novità che per la loro importanza operativa. I relatori\, individuati tra quelli più competenti a livello locale e nazionale\, affronteranno temi come autotrasporto\, interventi su sinistri con veicoli elettrici\, il punto sul reato di omicidio stradale dopo dieci anni dalla sua introduzione\, novità in materia di polizia ambientale\, videosorveglianza e privacy\, il recente Decreto Legge in materia di sicurezza\, il punto sull’applicazione del Codice dei contratti nonché il preoccupante fenomeno dei suicidi tra gli operatori di Polizia Locale.Il taglio degli interventi intende essere dinamico ed orientato a fornire strumenti pratici per il lavoro che Agenti ed Ufficiali di Polizia Locale devono affrontare quotidianamente. Sarà altresì un’occasione per porre domande ai relatori e per confrontare le esperienze maturate in altre regioni e per scambiare eventuali buone pratiche adottate nei diversi territori.    16 – 17 Aprile 2026 CINECITY | Via Arcobaleno\, 12 Lignano Sabbiadoro  Consulta il programma Iscrizioni entro il 15 Aprile qui 
URL:https://anci.fvg.it/evento/il-valore-dei-dati-e-lo-scambio-pubblico-privato-per-lo-sviluppo/
LOCATION:on line
CATEGORIES:Formazione amministratori locali
ORGANIZER;CN="ANCI FVG":MAILTO:info@anci.fvg.it
END:VEVENT
BEGIN:VEVENT
DTSTART;TZID=Europe/Rome:20220222T180000
DTEND;TZID=Europe/Rome:20220222T193000
DTSTAMP:20260420T232220
CREATED:20220422T090934Z
LAST-MODIFIED:20220422T091120Z
UID:3994-1645552800-1645558200@anci.fvg.it
SUMMARY:Accesso all’energia\, fonti rinnovabili e comunità energetiche locali – primo incontro
DESCRIPTION:  La Regione Autonoma Friuli Venezia Giulia\, in collaborazione con ComPA FVG e con il patrocinio di Anci FVG\, organizza due giornate di studio per affrontare alcuni tra i temi di competenza delle Polizie Locali che\, in questi primi mesi dell’anno\, stanno assumendo particolare rilievo sia per la loro novità che per la loro importanza operativa. I relatori\, individuati tra quelli più competenti a livello locale e nazionale\, affronteranno temi come autotrasporto\, interventi su sinistri con veicoli elettrici\, il punto sul reato di omicidio stradale dopo dieci anni dalla sua introduzione\, novità in materia di polizia ambientale\, videosorveglianza e privacy\, il recente Decreto Legge in materia di sicurezza\, il punto sull’applicazione del Codice dei contratti nonché il preoccupante fenomeno dei suicidi tra gli operatori di Polizia Locale.Il taglio degli interventi intende essere dinamico ed orientato a fornire strumenti pratici per il lavoro che Agenti ed Ufficiali di Polizia Locale devono affrontare quotidianamente. Sarà altresì un’occasione per porre domande ai relatori e per confrontare le esperienze maturate in altre regioni e per scambiare eventuali buone pratiche adottate nei diversi territori.    16 – 17 Aprile 2026 CINECITY | Via Arcobaleno\, 12 Lignano Sabbiadoro  Consulta il programma Iscrizioni entro il 15 Aprile qui 
URL:https://anci.fvg.it/evento/accesso-allenergia-fonti-rinnovabili-e-comunita-energetiche-locali-primo-incontro/
LOCATION:on line
CATEGORIES:Formazione amministratori locali
ORGANIZER;CN="ANCI FVG":MAILTO:info@anci.fvg.it
END:VEVENT
BEGIN:VEVENT
DTSTART;TZID=Europe/Rome:20220222T180000
DTEND;TZID=Europe/Rome:20220222T193000
DTSTAMP:20260420T232220
CREATED:20220422T091225Z
LAST-MODIFIED:20220422T091557Z
UID:3997-1645552800-1645558200@anci.fvg.it
SUMMARY:Reti di comuni e rtd. organizzare insieme la digitalizzazione
DESCRIPTION:  La Regione Autonoma Friuli Venezia Giulia\, in collaborazione con ComPA FVG e con il patrocinio di Anci FVG\, organizza due giornate di studio per affrontare alcuni tra i temi di competenza delle Polizie Locali che\, in questi primi mesi dell’anno\, stanno assumendo particolare rilievo sia per la loro novità che per la loro importanza operativa. I relatori\, individuati tra quelli più competenti a livello locale e nazionale\, affronteranno temi come autotrasporto\, interventi su sinistri con veicoli elettrici\, il punto sul reato di omicidio stradale dopo dieci anni dalla sua introduzione\, novità in materia di polizia ambientale\, videosorveglianza e privacy\, il recente Decreto Legge in materia di sicurezza\, il punto sull’applicazione del Codice dei contratti nonché il preoccupante fenomeno dei suicidi tra gli operatori di Polizia Locale.Il taglio degli interventi intende essere dinamico ed orientato a fornire strumenti pratici per il lavoro che Agenti ed Ufficiali di Polizia Locale devono affrontare quotidianamente. Sarà altresì un’occasione per porre domande ai relatori e per confrontare le esperienze maturate in altre regioni e per scambiare eventuali buone pratiche adottate nei diversi territori.    16 – 17 Aprile 2026 CINECITY | Via Arcobaleno\, 12 Lignano Sabbiadoro  Consulta il programma Iscrizioni entro il 15 Aprile qui 
URL:https://anci.fvg.it/evento/accesso-allenergia-fonti-rinnovabili-e-comunita-energetiche-locali-primo-incontro-copy/
LOCATION:on line
CATEGORIES:Formazione amministratori locali
ORGANIZER;CN="ANCI FVG":MAILTO:info@anci.fvg.it
END:VEVENT
END:VCALENDAR