BEGIN:VCALENDAR
VERSION:2.0
PRODID:-//Anci FVG - ECPv6.15.12.2//NONSGML v1.0//EN
CALSCALE:GREGORIAN
METHOD:PUBLISH
X-WR-CALNAME:Anci FVG
X-ORIGINAL-URL:https://anci.fvg.it
X-WR-CALDESC:Eventi per Anci FVG
REFRESH-INTERVAL;VALUE=DURATION:PT1H
X-Robots-Tag:noindex
X-PUBLISHED-TTL:PT1H
BEGIN:VTIMEZONE
TZID:Europe/Rome
BEGIN:DAYLIGHT
TZOFFSETFROM:+0100
TZOFFSETTO:+0200
TZNAME:CEST
DTSTART:20170326T010000
END:DAYLIGHT
BEGIN:STANDARD
TZOFFSETFROM:+0200
TZOFFSETTO:+0100
TZNAME:CET
DTSTART:20171029T010000
END:STANDARD
BEGIN:DAYLIGHT
TZOFFSETFROM:+0100
TZOFFSETTO:+0200
TZNAME:CEST
DTSTART:20180325T010000
END:DAYLIGHT
BEGIN:STANDARD
TZOFFSETFROM:+0200
TZOFFSETTO:+0100
TZNAME:CET
DTSTART:20181028T010000
END:STANDARD
BEGIN:DAYLIGHT
TZOFFSETFROM:+0100
TZOFFSETTO:+0200
TZNAME:CEST
DTSTART:20190331T010000
END:DAYLIGHT
BEGIN:STANDARD
TZOFFSETFROM:+0200
TZOFFSETTO:+0100
TZNAME:CET
DTSTART:20191027T010000
END:STANDARD
BEGIN:DAYLIGHT
TZOFFSETFROM:+0100
TZOFFSETTO:+0200
TZNAME:CEST
DTSTART:20200329T010000
END:DAYLIGHT
BEGIN:STANDARD
TZOFFSETFROM:+0200
TZOFFSETTO:+0100
TZNAME:CET
DTSTART:20201025T010000
END:STANDARD
BEGIN:DAYLIGHT
TZOFFSETFROM:+0100
TZOFFSETTO:+0200
TZNAME:CEST
DTSTART:20210328T010000
END:DAYLIGHT
BEGIN:STANDARD
TZOFFSETFROM:+0200
TZOFFSETTO:+0100
TZNAME:CET
DTSTART:20211031T010000
END:STANDARD
END:VTIMEZONE
BEGIN:VEVENT
DTSTART;TZID=Europe/Rome:20201119T140000
DTEND;TZID=Europe/Rome:20201119T160000
DTSTAMP:20260422T043904
CREATED:20220426T122503Z
LAST-MODIFIED:20220426T123112Z
UID:4799-1605794400-1605801600@anci.fvg.it
SUMMARY:Agile\, insieme: lo smart working in pillole - terzo modulo
DESCRIPTION:DESTINATARI\nSegretari comunali\, dirigenti\, responsabili PO\, RTD dei Comuni del FVG \nDOCENTE\nAlessandro Mastromonaco \nCONTENUTI\n3° modulo: \n\nLa formazione e il cambiamento culturale (Dirigente/Responsabile/Dipendente)\nLe difficoltà e i vantaggi nell’applicazione dello Smart work\nI sistemi di valutazione delle attività dei dipendenti\nIl POLA (Piano organizzativo del lavoro agile): di cosa si tratta e come metterlo in atto?
URL:https://anci.fvg.it/evento/agile-insieme-lo-smart-working-in-pillole-terzo-modulo/
LOCATION:on line
CATEGORIES:Smart working
ATTACH;FMTTYPE=image/jpeg:https://anci.fvg.it/wp-content/uploads/2022/04/AGILE-INSIEME-LO-SMART-WORKING-IN-PILLOLE_widemedium_copertina_evento.jpg
ORGANIZER;CN="ANCI FVG":MAILTO:info@anci.fvg.it
END:VEVENT
BEGIN:VEVENT
DTSTART;TZID=Europe/Rome:20201116T140000
DTEND;TZID=Europe/Rome:20201116T160000
DTSTAMP:20260422T043904
CREATED:20220426T123129Z
LAST-MODIFIED:20220426T123720Z
UID:4810-1605535200-1605542400@anci.fvg.it
SUMMARY:Agile\, insieme: lo smart working in pillole - secondo modulo
DESCRIPTION:DESTINATARI\nSegretari comunali\, dirigenti\, responsabili PO\, RTD dei Comuni del FVG \nDOCENTE\nAlessandro Mastromonaco \nCONTENUTI\n2° modulo: \n\nRegolamentazione sullo Smart work\nAccordo di progetto individuale sullo Smart work\nInformativa su Salute e Sicurezza
URL:https://anci.fvg.it/evento/agile-insieme-lo-smart-working-in-pillole-secondo-modulo/
LOCATION:on line
CATEGORIES:Smart working
ATTACH;FMTTYPE=image/jpeg:https://anci.fvg.it/wp-content/uploads/2022/04/AGILE-INSIEME-LO-SMART-WORKING-IN-PILLOLE_widemedium_copertina_evento.jpg
ORGANIZER;CN="ANCI FVG":MAILTO:info@anci.fvg.it
END:VEVENT
BEGIN:VEVENT
DTSTART;TZID=Europe/Rome:20201111T140000
DTEND;TZID=Europe/Rome:20201111T160000
DTSTAMP:20260422T043904
CREATED:20220426T123304Z
LAST-MODIFIED:20220426T123453Z
UID:4815-1605103200-1605110400@anci.fvg.it
SUMMARY:Agile\, insieme: lo smart working in pillole - primo modulo
DESCRIPTION:DESTINATARI\nSegretari comunali\, dirigenti\, responsabili PO\, RTD dei Comuni del FVG \nDOCENTE\nAlessandro Mastromonaco \nCONTENUTI\n1° modulo: \n\nIntroduzione al Lavoro Agile: il Telelavoro e Lavoro Agile\nLa normativa vigente sul Lavoro Agile – ordinaria e ai tempi del Covid 19\n(matrice sulla normativa e differenze sugli obblighi/adempimenti in ambito normativo)\nPanoramica sulla situazione nazionale
URL:https://anci.fvg.it/evento/agile-insieme-lo-smart-working-in-pillole-primo-modulo/
LOCATION:on line
CATEGORIES:Smart working
ATTACH;FMTTYPE=image/jpeg:https://anci.fvg.it/wp-content/uploads/2022/04/AGILE-INSIEME-LO-SMART-WORKING-IN-PILLOLE_widemedium_copertina_evento.jpg
ORGANIZER;CN="ANCI FVG":MAILTO:info@anci.fvg.it
END:VEVENT
BEGIN:VEVENT
DTSTART;TZID=Europe/Rome:20201105T150000
DTEND;TZID=Europe/Rome:20201105T170000
DTSTAMP:20260422T043904
CREATED:20220426T123803Z
LAST-MODIFIED:20220426T123911Z
UID:4829-1604588400-1604595600@anci.fvg.it
SUMMARY:Agile\, insieme: lo smart working in pillole
DESCRIPTION:DESTINATARI\nSegretari comunali\, dirigenti\, responsabili PO\, RTD dei Comuni del FVG \nDOCENTI\nMarcella Chiesi e Maura De Bon \nCONTENUTI\n\nLe principali differenze tra l’Home Working e lo Smart Working\nL’esperienza fatta con l’Home Working: luci ed ombre\nCome saper organizzare il vero Smart Working e perché conviene portare le amministrazioni ad essere smart\nGli otto assi dello Smart Working\nCogliere l’emergenza per innovare la managerialità e lo stile di leadership\nI costi e i rischi di chi subisce\, rimane passivo rispetto al futuro che è già presente\nIl progetto di accompagnamento di Anci FVG\n\n 
URL:https://anci.fvg.it/evento/agile-insieme-lo-smart-working-in-pillole/
LOCATION:on line
CATEGORIES:Smart working
ATTACH;FMTTYPE=image/jpeg:https://anci.fvg.it/wp-content/uploads/2022/04/AGILE-INSIEME-LO-SMART-WORKING-IN-PILLOLE_widemedium_copertina_evento.jpg
ORGANIZER;CN="ANCI FVG":MAILTO:info@anci.fvg.it
END:VEVENT
BEGIN:VEVENT
DTSTART;TZID=Europe/Rome:20200917T170000
DTEND;TZID=Europe/Rome:20200917T190000
DTSTAMP:20260422T043904
CREATED:20220426T123946Z
LAST-MODIFIED:20220426T124255Z
UID:4834-1600362000-1600369200@anci.fvg.it
SUMMARY:Agile\, insieme: lo smart working in pillole
DESCRIPTION:Durante il difficile periodo affrontato causa emergenza Covid-19\, la PA ha saputo dimostrare una forte capacità di resilienza. Non si è fermata davanti alle difficoltà ma ha rappresentato un punto di riferimento per il territorio\, mantenendo attivi i suoi servizi e garantendo la sicurezza per i suoi collaboratori. \nLa strategia di successo di questo adattamento è stato il lavoro agile. Conosciuto anche come “smart working”\, è una nuova e innovativa modalità che porta il lavoro d’ufficio verso nuove dimensioni: un percorso di cambiamento culturale\, organizzativo\, di competenze e di abitudini che si fonda su un rapporto maturo e di fiducia tra le persone. Caratterizzato dal raggiungimento degli obiettivi\, rappresenta un cambiamento epocale che guarda al miglioramento e all’innovazione dei servizi per tutti noi\, cittadini\, famiglie\, imprese e professionisti. \nSe non ora\, quando? \nÈ a vantaggio di tutti: amministratori\, personale\, cittadini. \nÈ obbligatorio\, perché la normativa lo richiede. \nÈ efficiente e sostenibile\, perché costruito su misura nel rispetto delle peculiarità di ogni realtà. \nÈ realizzabile\, perché l’abbiamo già messo in pratica. \nQuesta evoluzione però non va subita\, ma scelta. Tutti possiamo contribuire a questo cambiamento che offre opportunità da non lasciarci sfuggire. \nVieni a scoprire i vantaggi che offre il lavoro agile nell’incontro del 17 settembre 2020 e ti guideremo nella complessità della sua realizzazione. \n			\n						Scarica il programma in formato pdf >>>
URL:https://anci.fvg.it/evento/agile-insieme-lo-smart-working-in-pillole-2/
LOCATION:on line
CATEGORIES:Smart working
ATTACH;FMTTYPE=image/jpeg:https://anci.fvg.it/wp-content/uploads/2022/04/AGILE-INSIEME-LO-SMART-WORKING-IN-PILLOLE_widemedium_copertina_evento.jpg
ORGANIZER;CN="ANCI FVG":MAILTO:info@anci.fvg.it
END:VEVENT
BEGIN:VEVENT
DTSTART;VALUE=DATE:20190705
DTEND;VALUE=DATE:20190707
DTSTAMP:20260422T043904
CREATED:20220422T143838Z
LAST-MODIFIED:20220422T145311Z
UID:4216-1562284800-1562457599@anci.fvg.it
SUMMARY:Visita studio ai distretti del commercio di Bergamo e San Pellegrino Terme
DESCRIPTION:Photo gallery da popolare\n							\n														\n							\n														\n							\n														\n							\n														\n							\n														\n							\n														\n							\n														\n							\n														 \nUna ventina di partecipanti alle precedenti edizioni della Summer School per amministratori locali\, provenienti non solo dalla nostra Regione ma anche da Veneto e Trentino Alto Adige\, hanno avuto l’opportunità di vivere un educational tour di studio sui distretti del commercio nelle realtà di Bergamo e San Pellegrino Terme. \nNel corso della due giorni di studio il Sindaco di Bergamo\, Giorgio Gori\, il Presidente del Duc\, Nicola Viscardi e Roberto Ghidotti\, responsabile dei Distretti e territorio dell’Ascom di Bergamo ci hanno raccontato l’esperienza bergamasca dei Distretti\, in particolare l’evoluzione dei distretti del commercio in ambito urbano e il ruolo svolto dal pubblico e dal privato all’interno dell’organismo di governance\, fornendoci strumenti concettuali e tanti spunti pratici per maturare una visione strategica delle politiche di sviluppo del territorio anche nella nostra Regione. \nSi è parlato\, fra gli altri\, della rete di relazioni e delle strategie messe in atto collaborando in modo sinergico con i commercianti\, del valore differenziante degli acquisti\, dato dal commercio di vicinato rispetto alla grande distribuzione\, del reperimento di risorse e dell’importanza strategica della stesura di programmi che implichino\, a monte\, lo studio e la conoscenza del territorio. \nSabato mattina abbiamo proseguito la visita nel distretto diffuso di San Pellegrino Terme per incontrare il sindaco Vittorio Milesi\, che con Roberto Ghidotti\, responsabile dei Distretti e territorio Ascom Bergamo\, Michele Pesenti\, presidente di Visit Brembo e Oliviero Cresta\, manager dei distretti\, ci ha spiegato l’evoluzione dei Distretti Intercomunali Diffusi e le sfide\, i benefici e le sinergie che hanno portato ad un’aggregazione d’area vasta sul modello di Visit Brembo che oggi racchiude 37 enti ed organizzazioni maggiormente rappresentative.  Abbiamo fatto il punto sulle ricadute positive che si riverberano sull’intero territorio della Val Brembana\, visitando anche il Casinò di San Pellegrino Terme\, sorto all’inizio del ventesimo secolo e funzionante come casa da gioco solo fino al 1917. La struttura del Casinò Municipale ospita oggi manifestazioni culturali\, oltre a meeting e congressi e insieme alla struttura dell’ex Grand Hotel\, è al centro di uno studio per indirizzarne e destinarne l’utilizzo a percorsi turistici sempre più attrattivi.
URL:https://anci.fvg.it/evento/visita-studio-ai-distretti-del-commercio-di-bergamo-e-san-pellegrino-terme/
LOCATION:bergamo\, Italia
CATEGORIES:Seminari tematici e visite studio
ORGANIZER;CN="ANCI FVG":MAILTO:info@anci.fvg.it
END:VEVENT
BEGIN:VEVENT
DTSTART;VALUE=DATE:20190301
DTEND;VALUE=DATE:20190303
DTSTAMP:20260422T043904
CREATED:20220422T151050Z
LAST-MODIFIED:20220422T151436Z
UID:4233-1551398400-1551571199@anci.fvg.it
SUMMARY:Ripensare il commercio per trasformare i centri urbani e consentirne la rinascita Lignano
DESCRIPTION:Photo gallery da popolare\n\n\n\n\n\n\n\n\n\n\n\n\n\n\n\n \nNelle giornate dell’1 e 2 marzo 2019 AICCRE FVG\, ANCI FVG\, in collaborazione con OECD sede di Trento\, hanno organizzato a Lignano Sabbiadoro una tappa di formazione residenziale per 17 amministratori locali provenienti da 15 Comuni del Friuli Venezia Giulia e 1 consigliere dal Veneto con l’obiettivo di comprendere quali politiche si possono attuare per rilanciare il commercio locale al dettaglio. \nGli amministratori convenuti a Lignano erano tutti accomunati dall’esperienza pregressa della “Summer School sulle strategie di sviluppo locale e la progettazione europea”. \nDensi di contenuto e spunti pratici sono risultati gli interventi del prof. Alberto Bramanti della Bocconi di Milano\, dell’arch. Elena Franco di Torino e dell’Ing. Paolo Rosso di OECD di Trento a cui hanno corrisposto i partecipanti con proficui lavori di gruppo per discutere delle situazioni emergenti dai singoli territori.
URL:https://anci.fvg.it/evento/ripensare-il-commercio-per-trasformare-i-centri-urbani-e-consentirne-la-rinascita-lignano/
LOCATION:lignano sabbiadoro
CATEGORIES:Seminari tematici e visite studio
ORGANIZER;CN="ANCI FVG":MAILTO:info@anci.fvg.it
END:VEVENT
BEGIN:VEVENT
DTSTART;VALUE=DATE:20180629
DTEND;VALUE=DATE:20180701
DTSTAMP:20260422T043904
CREATED:20220422T151515Z
LAST-MODIFIED:20220422T151945Z
UID:4241-1530230400-1530403199@anci.fvg.it
SUMMARY:Visita studio in Val di Sole
DESCRIPTION:Photo gallery da popolare\n							\n														\n							\n														\n							\n														\n							\n														\n							\n														\n							\n														\n							\n														\n							\n														 \nUna visita studio riservata ai giovani amministratori comunali che hanno preso parte alla prima edizione della Summer School e agli amministratori comunali della Regione invitati per il loro impegno in politiche turistiche di area vasta. \nIl cambio di paradigma verso un turismo incentrato sempre più sulla sostenibilità e sull’esperienza che il turista vive in prima persona\, a discapito dei tipici prodotti e pacchetti preconfezionati\, ha portato ad ideare una study visit capace di offrire degli spunti e delle idee da attuare nel nostro territorio. \nUn’opportunità di confronto con un contesto che si sta consolidando sempre più in tema di sviluppo turistico integrato e sostenibile\, ovvero la Val di Sole\, una realtà intercomunale formata da 13 comuni organizzati nella Comunità di Valle. \nImmergersi in un contesto turistico ben avviato per comprenderne gli elementi costitutivi diventa quindi una chiave di lettura strategica per pensare a proposte e novità da introdurre e riportare nel proprio ambiente.  \nAlla formazione tradizionale è stato dunque preferito un metodo innovativo capace di fa vivere il territorio. Al dialogo diretto con i protagonisti della realtà locale si è infatti affiancata anche una tourist experience che ha permesso di accrescere e rafforzare il team building tra gli amministratori coinvolti e al contempo di sperimentare le attività turistiche proposte. \nPer scoprire di più leggi il programma della visita di studio: \nStudy visit Turismo e Sviluppo Locale programma \nInoltre puoi leggere il report con le considerazioni emerse dagli stessi partecipanti: \nReport Study Visit in Val di Sole
URL:https://anci.fvg.it/evento/visita-studio-in-val-di-sole/
LOCATION:val di sole
CATEGORIES:Seminari tematici e visite studio
ORGANIZER;CN="ANCI FVG":MAILTO:info@anci.fvg.it
END:VEVENT
END:VCALENDAR