BEGIN:VCALENDAR
VERSION:2.0
PRODID:-//Anci FVG - ECPv6.15.12.2//NONSGML v1.0//EN
CALSCALE:GREGORIAN
METHOD:PUBLISH
X-ORIGINAL-URL:https://anci.fvg.it
X-WR-CALDESC:Eventi per Anci FVG
REFRESH-INTERVAL;VALUE=DURATION:PT1H
X-Robots-Tag:noindex
X-PUBLISHED-TTL:PT1H
BEGIN:VTIMEZONE
TZID:Europe/Rome
BEGIN:DAYLIGHT
TZOFFSETFROM:+0100
TZOFFSETTO:+0200
TZNAME:CEST
DTSTART:20250330T010000
END:DAYLIGHT
BEGIN:STANDARD
TZOFFSETFROM:+0200
TZOFFSETTO:+0100
TZNAME:CET
DTSTART:20251026T010000
END:STANDARD
BEGIN:DAYLIGHT
TZOFFSETFROM:+0100
TZOFFSETTO:+0200
TZNAME:CEST
DTSTART:20260329T010000
END:DAYLIGHT
BEGIN:STANDARD
TZOFFSETFROM:+0200
TZOFFSETTO:+0100
TZNAME:CET
DTSTART:20261025T010000
END:STANDARD
BEGIN:DAYLIGHT
TZOFFSETFROM:+0100
TZOFFSETTO:+0200
TZNAME:CEST
DTSTART:20270328T010000
END:DAYLIGHT
BEGIN:STANDARD
TZOFFSETFROM:+0200
TZOFFSETTO:+0100
TZNAME:CET
DTSTART:20271031T010000
END:STANDARD
END:VTIMEZONE
BEGIN:VEVENT
DTSTART;TZID=Europe/Rome:20260416T083000
DTEND;TZID=Europe/Rome:20260417T133000
DTSTAMP:20260422T155354
CREATED:20260407T093516Z
LAST-MODIFIED:20260407T094414Z
UID:63318-1776328200-1776432600@anci.fvg.it
SUMMARY:1° Convegno della Polizia locale del Friuli Venezia Giulia
DESCRIPTION:Presentazione della 3^ edizione del Rapporto triennale “I diritti dell’infanzia e dell’adolescenza in Italia – I dati regione per regione 2024” 								\n				\n					\n		\n					\n		\n				\n						\n					\n			\n						\n						\n					\n			\n						\n				\n							\n			\n						\n		\n						\n				\n					\n		\n				\n			\n						\n				\n									Consulta il programma dei lavori  								\n				\n					\n		\n					\n		\n					\n		\n					\n		\n				\n						\n					\n			\n						\n						\n					\n			\n						\n				\n							\n			\n						\n		\n						\n				\n					\n		\n				\n			\n						\n				\n									ISCRIZIONI QUI SCARICA IL RAPPORTO 
URL:https://anci.fvg.it/evento/1-convegno-della-polizia-locale-del-friuli-venezia-giulia/
LOCATION:Cinecity\, Via Arcobaleno 12\, Lignano Sabbiadoro\, Italy
CATEGORIES:Appuntamenti ANCI FVG,Formazione amministratori locali
ATTACH;FMTTYPE=image/jpeg:https://anci.fvg.it/wp-content/uploads/2026/04/polizia.jpg
END:VEVENT
BEGIN:VEVENT
DTSTART;TZID=Europe/Rome:20260417T140000
DTEND;TZID=Europe/Rome:20260418T130000
DTSTAMP:20260422T155354
CREATED:20260302T104938Z
LAST-MODIFIED:20260413T064542Z
UID:62598-1776434400-1776517200@anci.fvg.it
SUMMARY:XV Assemblea nazionale Anci Giovani
DESCRIPTION:Presentazione della 3^ edizione del Rapporto triennale “I diritti dell’infanzia e dell’adolescenza in Italia – I dati regione per regione 2024” 								\n				\n					\n		\n					\n		\n				\n						\n					\n			\n						\n						\n					\n			\n						\n				\n							\n			\n						\n		\n						\n				\n					\n		\n				\n			\n						\n				\n									Consulta il programma dei lavori  								\n				\n					\n		\n					\n		\n					\n		\n					\n		\n				\n						\n					\n			\n						\n						\n					\n			\n						\n				\n							\n			\n						\n		\n						\n				\n					\n		\n				\n			\n						\n				\n									ISCRIZIONI QUI SCARICA IL RAPPORTO 
URL:https://anci.fvg.it/evento/xv-assemblea-nazionale-anci-giovani/
LOCATION:Università degli Studi di Napoli Federico II\, Corso Protopisani 70\, Napoli\, Italy
CATEGORIES:Eventi nazionali
ATTACH;FMTTYPE=image/png:https://anci.fvg.it/wp-content/uploads/2026/03/ANCIGIOVANI_NAPOLI_BANNER.png
END:VEVENT
BEGIN:VEVENT
DTSTART;TZID=Europe/Rome:20260422T153000
DTEND;TZID=Europe/Rome:20260422T163000
DTSTAMP:20260422T155354
CREATED:20260420T102524Z
LAST-MODIFIED:20260420T102744Z
UID:63509-1776871800-1776875400@anci.fvg.it
SUMMARY:Ufficio di Presidenza Anci FVG | Mercoledì 22 Aprile
DESCRIPTION:Presentazione della 3^ edizione del Rapporto triennale “I diritti dell’infanzia e dell’adolescenza in Italia – I dati regione per regione 2024” 								\n				\n					\n		\n					\n		\n				\n						\n					\n			\n						\n						\n					\n			\n						\n				\n							\n			\n						\n		\n						\n				\n					\n		\n				\n			\n						\n				\n									Consulta il programma dei lavori  								\n				\n					\n		\n					\n		\n					\n		\n					\n		\n				\n						\n					\n			\n						\n						\n					\n			\n						\n				\n							\n			\n						\n		\n						\n				\n					\n		\n				\n			\n						\n				\n									ISCRIZIONI QUI SCARICA IL RAPPORTO 
URL:https://anci.fvg.it/evento/ufficio-di-presidenza-anci-fvg-mercoledi-22-aprile/
LOCATION:SEDE ANCI FVG\, Piazza XX Settembre\, 2\, Udine
CATEGORIES:Appuntamenti ANCI FVG
ATTACH;FMTTYPE=image/png:https://anci.fvg.it/wp-content/uploads/2025/01/thumbnail_anci_flavicon1000.png
ORGANIZER;CN="ANCI FVG":MAILTO:info@anci.fvg.it
END:VEVENT
BEGIN:VEVENT
DTSTART;TZID=Europe/Rome:20260428T160000
DTEND;TZID=Europe/Rome:20260428T183000
DTSTAMP:20260422T155354
CREATED:20260420T082353Z
LAST-MODIFIED:20260420T085007Z
UID:63500-1777392000-1777401000@anci.fvg.it
SUMMARY:Conferenza regionale ANCI FVG dei Presidenti dei Consigli comunali
DESCRIPTION:Presentazione della 3^ edizione del Rapporto triennale “I diritti dell’infanzia e dell’adolescenza in Italia – I dati regione per regione 2024” 								\n				\n					\n		\n					\n		\n				\n						\n					\n			\n						\n						\n					\n			\n						\n				\n							\n			\n						\n		\n						\n				\n					\n		\n				\n			\n						\n				\n									Consulta il programma dei lavori  								\n				\n					\n		\n					\n		\n					\n		\n					\n		\n				\n						\n					\n			\n						\n						\n					\n			\n						\n				\n							\n			\n						\n		\n						\n				\n					\n		\n				\n			\n						\n				\n									ISCRIZIONI QUI SCARICA IL RAPPORTO 
URL:https://anci.fvg.it/evento/conferenza-regionale-anci-fvg-dei-presidenti-dei-consigli-comunali/
LOCATION:Salone del Parlamento del Castello\, Piazzale Patria del Friuli 1 (Piazzale del Castello)\, Udine\, 33100\, Italy
CATEGORIES:Appuntamenti ANCI FVG
ATTACH;FMTTYPE=image/jpeg:https://anci.fvg.it/wp-content/uploads/2026/04/sala-consiglio.jpg
END:VEVENT
BEGIN:VEVENT
DTSTART;TZID=Europe/Rome:20260503T100000
DTEND;TZID=Europe/Rome:20260507T180000
DTSTAMP:20260422T155354
CREATED:20260210T075807Z
LAST-MODIFIED:20260210T081145Z
UID:62008-1777802400-1778176800@anci.fvg.it
SUMMARY:50° anniversario terremoto del Friuli
DESCRIPTION:Presentazione della 3^ edizione del Rapporto triennale “I diritti dell’infanzia e dell’adolescenza in Italia – I dati regione per regione 2024” 								\n				\n					\n		\n					\n		\n				\n						\n					\n			\n						\n						\n					\n			\n						\n				\n							\n			\n						\n		\n						\n				\n					\n		\n				\n			\n						\n				\n									Consulta il programma dei lavori  								\n				\n					\n		\n					\n		\n					\n		\n					\n		\n				\n						\n					\n			\n						\n						\n					\n			\n						\n				\n							\n			\n						\n		\n						\n				\n					\n		\n				\n			\n						\n				\n									ISCRIZIONI QUI SCARICA IL RAPPORTO 
URL:https://anci.fvg.it/evento/50-anniversario-terremoto-del-friuli/
LOCATION:Evento diffuso sul territorio\, Italy
CATEGORIES:Altri organizzatori: eventi esterni di interesse degli Enti locali
ATTACH;FMTTYPE=image/png:https://anci.fvg.it/wp-content/uploads/2026/02/Terremoto_900_450.png
END:VEVENT
BEGIN:VEVENT
DTSTART;TZID=Europe/Rome:20260515T090000
DTEND;TZID=Europe/Rome:20260517T143000
DTSTAMP:20260422T155354
CREATED:20260403T082654Z
LAST-MODIFIED:20260403T084858Z
UID:63226-1778835600-1779028200@anci.fvg.it
SUMMARY:Spring Camp 2026: l’alta formazione per Amministratori sul cambiamento climatico
DESCRIPTION:Presentazione della 3^ edizione del Rapporto triennale “I diritti dell’infanzia e dell’adolescenza in Italia – I dati regione per regione 2024” 								\n				\n					\n		\n					\n		\n				\n						\n					\n			\n						\n						\n					\n			\n						\n				\n							\n			\n						\n		\n						\n				\n					\n		\n				\n			\n						\n				\n									Consulta il programma dei lavori  								\n				\n					\n		\n					\n		\n					\n		\n					\n		\n				\n						\n					\n			\n						\n						\n					\n			\n						\n				\n							\n			\n						\n		\n						\n				\n					\n		\n				\n			\n						\n				\n									ISCRIZIONI QUI SCARICA IL RAPPORTO 
URL:https://anci.fvg.it/evento/spring-camp-2026-lalta-formazione-per-amministratori-sul-cambiamento-climatico/
LOCATION:CeSFAM\, Piazza XXI-XXII luglio 6\, Paluzza\, Italia
CATEGORIES:Appuntamenti ANCI FVG,Formazione amministratori locali
ATTACH;FMTTYPE=image/png:https://anci.fvg.it/wp-content/uploads/2026/04/News_Spring-Camp-2026.png
END:VEVENT
END:VCALENDAR