BEGIN:VCALENDAR
VERSION:2.0
PRODID:-//Anci FVG - ECPv6.15.12.2//NONSGML v1.0//EN
CALSCALE:GREGORIAN
METHOD:PUBLISH
X-WR-CALNAME:Anci FVG
X-ORIGINAL-URL:https://anci.fvg.it
X-WR-CALDESC:Eventi per Anci FVG
REFRESH-INTERVAL;VALUE=DURATION:PT1H
X-Robots-Tag:noindex
X-PUBLISHED-TTL:PT1H
BEGIN:VTIMEZONE
TZID:Europe/Rome
BEGIN:DAYLIGHT
TZOFFSETFROM:+0100
TZOFFSETTO:+0200
TZNAME:CEST
DTSTART:20210328T010000
END:DAYLIGHT
BEGIN:STANDARD
TZOFFSETFROM:+0200
TZOFFSETTO:+0100
TZNAME:CET
DTSTART:20211031T010000
END:STANDARD
BEGIN:DAYLIGHT
TZOFFSETFROM:+0100
TZOFFSETTO:+0200
TZNAME:CEST
DTSTART:20220327T010000
END:DAYLIGHT
BEGIN:STANDARD
TZOFFSETFROM:+0200
TZOFFSETTO:+0100
TZNAME:CET
DTSTART:20221030T010000
END:STANDARD
BEGIN:DAYLIGHT
TZOFFSETFROM:+0100
TZOFFSETTO:+0200
TZNAME:CEST
DTSTART:20230326T010000
END:DAYLIGHT
BEGIN:STANDARD
TZOFFSETFROM:+0200
TZOFFSETTO:+0100
TZNAME:CET
DTSTART:20231029T010000
END:STANDARD
END:VTIMEZONE
BEGIN:VEVENT
DTSTART;TZID=Europe/Rome:20220504T140000
DTEND;TZID=Europe/Rome:20220504T143000
DTSTAMP:20260421T152513
CREATED:20220509T085046Z
LAST-MODIFIED:20220509T090808Z
UID:34503-1651672800-1651674600@anci.fvg.it
SUMMARY:Firma protocollo di intesa ANCI FVG - CONFCOMMERCIO FVG
DESCRIPTION:I distretti del commercio sono una delle novità introdotte dalla legge 3 del 2021\, la SviluppoImpresa. \nLa Regione\, si legge nell’articolato\, «riconosce il commercio come fattore strategico di sviluppo economico sostenibile\, di coesione e crescita sociale\, di mezzo per la valorizzazione delle risorse del territorio» e per questo «favorisce l’individuazione da parte dei Comuni\, singoli o associati in caso di attività commerciali di rilevanza socio-economica per più Comuni\, di Distretti del commercio»\, identificati «quali ambiti territoriali di aggregazione tra imprese\, formazioni sociali e soggetti interessati a livello locale». \nCon queste premesse\, Confcommercio e Anci del Friuli Venezia Giulia\, con i presidenti Giovanni Da Pozzo e Dorino Favot\, sottoscrivono un protocollo di intesa per un impegno condiviso di collaborazione e consulenza per la costituzione di questi Distretti.
URL:https://anci.fvg.it/evento/firma-protocollo-di-intesa-anci-fvg-confcommercio-fvg/
LOCATION:SEDE ANCI FVG\, Piazza XX Settembre\, 2\, Udine
CATEGORIES:Appuntamenti ANCI FVG
ORGANIZER;CN="ANCI FVG":MAILTO:info@anci.fvg.it
END:VEVENT
BEGIN:VEVENT
DTSTART;TZID=Europe/Rome:20220511T160000
DTEND;TZID=Europe/Rome:20220511T163000
DTSTAMP:20260421T152513
CREATED:20220511T144323Z
LAST-MODIFIED:20220511T144529Z
UID:34568-1652284800-1652286600@anci.fvg.it
SUMMARY:Firma protocollo d'intesa ANCI FVG - Federsanità ANCI FVG - Confcooperative FVG - Lega Coop FVG
DESCRIPTION:Per accompagnare l’attuazione del piano nazionale di resilienza e ripartenza e promuovere la collaborazione tra la cooperazione sociale e le pubbliche amministrazioni.
URL:https://anci.fvg.it/evento/firma-protocollo-dintesa-anci-fvg-federsanita-anci-fvg-confcooperative-fvg-lega-coop-fvg/
LOCATION:SEDE ANCI FVG\, Piazza XX Settembre\, 2\, Udine
END:VEVENT
BEGIN:VEVENT
DTSTART;TZID=Europe/Rome:20220513T093000
DTEND;TZID=Europe/Rome:20220513T123000
DTSTAMP:20260421T152513
CREATED:20220503T060600Z
LAST-MODIFIED:20220509T085815Z
UID:5083-1652434200-1652445000@anci.fvg.it
SUMMARY:Comunità energetiche rinnovabili: benefici e sfide
DESCRIPTION:APE FVG\, in collaborazione con ANCI FVG e con il Comune di Udine\, organizza il convegno “Comunità energetiche rinnovabili: benefici e sfide” per spiegare quali sono le opportunità concrete offerte oggi dalle CER e di quali criticità tener conto.\n\n\n\n\n\n\n\n\n\n\n\n\n\nL’evento si terrà venerdì 13 maggio 2022\, dalle 9.30\, nella Sala Ajace di Palazzo D’Aronco a Udine.\n\n\nINFORMAZIONI UTILI:\n\n\n\n\n\n\n\n\n\n\n\nISCRIZIONI\n\nLOCANDINA 13 MAGGIO 2022
URL:https://anci.fvg.it/evento/comunita-energetiche-rinnovabili-benefici-e-sfide/
LOCATION:Udine Sala Ajace
CATEGORIES:Appuntamenti ANCI FVG
ATTACH;FMTTYPE=image/png:https://anci.fvg.it/wp-content/uploads/2022/05/Immagini-nuovo-sito-19.png
END:VEVENT
BEGIN:VEVENT
DTSTART;TZID=Europe/Rome:20220516T080000
DTEND;TZID=Europe/Rome:20220531T130000
DTSTAMP:20260421T152513
CREATED:20220516T130045Z
LAST-MODIFIED:20220523T083518Z
UID:34921-1652688000-1654002000@anci.fvg.it
SUMMARY:Lavora con noi: 2 avvisi di selezione con scadenza 31 maggio
DESCRIPTION:Selezione 01-2022 – scadenza 31/05/2022\nSelezione per titoli ed esami per profilo di coordinatore junior con contratto di apprendistato della durata di 24 mesi \nSelezione 02-2022 – scadenza 31/05/2022\nSelezione per titoli ed esami per profilo di coordinatore da Gennaio 2023 \n\nAccedi alla pagina Lavora con noi
URL:https://anci.fvg.it/evento/selezioni_compa/
ATTACH;FMTTYPE=image/png:https://anci.fvg.it/wp-content/uploads/2022/05/Immagini-nuovo-sito-24-1-1-11.png
END:VEVENT
BEGIN:VEVENT
DTSTART;TZID=Europe/Rome:20220518T153000
DTEND;TZID=Europe/Rome:20220518T170000
DTSTAMP:20260421T152513
CREATED:20220516T110911Z
LAST-MODIFIED:20220516T111309Z
UID:34608-1652887800-1652893200@anci.fvg.it
SUMMARY:Ufficio di Presidenza
DESCRIPTION:
URL:https://anci.fvg.it/evento/ufficio-di-presidenza/
LOCATION:SEDE ANCI FVG\, Piazza XX Settembre\, 2\, Udine
CATEGORIES:Appuntamenti ANCI FVG
ATTACH;FMTTYPE=image/png:https://anci.fvg.it/wp-content/uploads/2022/04/logo_anci_400.png
ORGANIZER;CN="ANCI FVG":MAILTO:info@anci.fvg.it
END:VEVENT
BEGIN:VEVENT
DTSTART;TZID=Europe/Rome:20220525T150000
DTEND;TZID=Europe/Rome:20220525T160000
DTSTAMP:20260421T152513
CREATED:20220518T072458Z
LAST-MODIFIED:20220519T115732Z
UID:34685-1653490800-1653494400@anci.fvg.it
SUMMARY:PA digitale 2026\, i comuni protagonisti della transizione digitale
DESCRIPTION:Quali sono le misure del PNRR per il digitale destinate ai Comuni? Quali sono le modalità di accesso alle risorse? Come funzionano e quali sono i primi avvisi di PA digitale 2026? Quali sono gli strumenti operativi per richiedere i fondi e rendicontare i progetti?			 \n\nSono queste alcune delle domande al centro del seminario “PA Digitale 2026: i Comuni protagonisti della transizione digitale” organizzato dal Sistema integrato ANCI-COMPA FVG sulle risorse del PNRR per la digitalizzazione della PA\, in collaborazione con il Dipartimento per la trasformazione digitale della Presidenza del Consiglio dei Ministri. \nNell’evento verrà anche presentato PA digitale 2026 (https://padigitale2026.gov.it/)\, la piattaforma che consente alle amministrazioni di richiedere i fondi del PNRR dedicati alla transizione digitale\, rendicontare l’avanzamento dei progetti e ricevere assistenza. \nAgenda dei lavori\n15.00 – Saluti istituzionali a cura ANCI FVG \n15.10 – “I comuni protagonisti della transizione digitale“  \nIntervengono per il Dipartimento per la trasformazione digitale della Presidenza del Consiglio dei Ministri Luca Rigoni e Chiara Daneo (Relazioni istituzionali) e Marco Rimoldi (Area Manager) \n15.40 – Q&A \n16:00 – Conclusioni a cura di ANCI FVG e presentazione della strategia di supporto agli enti \n			\n						Iscriviti qui\n					\n										Facebook\n										Twitter\n										LinkedIn
URL:https://anci.fvg.it/evento/pa_digitale_2026/
LOCATION:25.01.2022 – Incontro consultazione su documento base degli orientamenti nazionali per i servizi educativi per l’infanzia – 27 gennaio ore 15
END:VEVENT
BEGIN:VEVENT
DTSTART;TZID=Europe/Rome:20220531T093000
DTEND;TZID=Europe/Rome:20220628T103000
DTSTAMP:20260421T152513
CREATED:20220530T104019Z
LAST-MODIFIED:20220601T120952Z
UID:35203-1653989400-1656412200@anci.fvg.it
SUMMARY:Sportello bandi PNRR PA digitale 2026
DESCRIPTION:Hai dei dubbi rispetto a quali servizi potresti finanziare con i bandi PNRR?\nRiscontri difficoltà con le procedure di accesso ai bandi?\nHai dei quesiti particolari inerenti la tua realtà che vorresti approfondire? \n\nPer dare risposte e supportare i Comuni per i bandi PNRR sulla digitalizzazione \na partire dal 31 maggio ogni MARTEDI’  DALLE 9.30 alle 10.30 \nsarà disponibile lo sportello di assistenza ANCI FVG \n			\n						ACCEDI ALLO SPORTELLO\n					 \nInoltre\, chi volesse anticipare i propri quesiti può farlo scrivendo a g.re@compa.fvg.it \nMATERIALI UTILI\n\nLa presentazione (PDF) delle misure di PA Digitale 2026\nUna pagina di tutorial su come i soggetti attuatori possono creare il proprio profilo all’interno della piattaforma PA Digitale 2026\nLa pagina delle domande frequenti sugli avvisi presentati\nLa newsletter del Dipartimento Transizione Digitale sui bandi PNRR\nLa registrazione del webinar di ANCI Nazionale con la presentazione delle misure
URL:https://anci.fvg.it/evento/sportello-bandi-pnrr-pa-digitale-2026/
LOCATION:on line
CATEGORIES:Appuntamenti ANCI FVG
ATTACH;FMTTYPE=image/png:https://anci.fvg.it/wp-content/uploads/2022/05/Immagini-nuovo-sito-27.png
ORGANIZER;CN="ANCI FVG":MAILTO:info@anci.fvg.it
END:VEVENT
END:VCALENDAR