BEGIN:VCALENDAR
VERSION:2.0
PRODID:-//Anci FVG - ECPv6.15.12.2//NONSGML v1.0//EN
CALSCALE:GREGORIAN
METHOD:PUBLISH
X-WR-CALNAME:Anci FVG
X-ORIGINAL-URL:https://anci.fvg.it
X-WR-CALDESC:Eventi per Anci FVG
REFRESH-INTERVAL;VALUE=DURATION:PT1H
X-Robots-Tag:noindex
X-PUBLISHED-TTL:PT1H
BEGIN:VTIMEZONE
TZID:Europe/Rome
BEGIN:DAYLIGHT
TZOFFSETFROM:+0100
TZOFFSETTO:+0200
TZNAME:CEST
DTSTART:20220327T010000
END:DAYLIGHT
BEGIN:STANDARD
TZOFFSETFROM:+0200
TZOFFSETTO:+0100
TZNAME:CET
DTSTART:20221030T010000
END:STANDARD
BEGIN:DAYLIGHT
TZOFFSETFROM:+0100
TZOFFSETTO:+0200
TZNAME:CEST
DTSTART:20230326T010000
END:DAYLIGHT
BEGIN:STANDARD
TZOFFSETFROM:+0200
TZOFFSETTO:+0100
TZNAME:CET
DTSTART:20231029T010000
END:STANDARD
BEGIN:DAYLIGHT
TZOFFSETFROM:+0100
TZOFFSETTO:+0200
TZNAME:CEST
DTSTART:20240331T010000
END:DAYLIGHT
BEGIN:STANDARD
TZOFFSETFROM:+0200
TZOFFSETTO:+0100
TZNAME:CET
DTSTART:20241027T010000
END:STANDARD
BEGIN:DAYLIGHT
TZOFFSETFROM:+0100
TZOFFSETTO:+0200
TZNAME:CEST
DTSTART:20250330T010000
END:DAYLIGHT
BEGIN:STANDARD
TZOFFSETFROM:+0200
TZOFFSETTO:+0100
TZNAME:CET
DTSTART:20251026T010000
END:STANDARD
END:VTIMEZONE
BEGIN:VEVENT
DTSTART;TZID=Europe/Rome:20231031T180000
DTEND;TZID=Europe/Rome:20240522T190000
DTSTAMP:20260421T133845
CREATED:20231018T081238Z
LAST-MODIFIED:20240328T102514Z
UID:44587-1698775200-1716404400@anci.fvg.it
SUMMARY:Scuola di Politica ed Etica sociale
DESCRIPTION:Dieci anni di SPES: l’edizione 2023-2024 taglia un traguardo importante\, che certifica la qualità e la rilevanza del percorso formativo socio-politico dell’Arcidiocesi di Udine\, ispirato alla dottrina sociale della Chiesa. \nPROGRAMMA COMPLETO E ISCRIZIONI QUI \n 
URL:https://anci.fvg.it/evento/scuola-di-politica-ed-etica-sociale/
LOCATION:Polo universitario Palazzo Garzolini-Di Toppo-Wasserman\, Via Gemona 92\, Udine\, Italy
CATEGORIES:Altri organizzatori: eventi esterni di interesse degli Enti locali
ATTACH;FMTTYPE=image/png:https://anci.fvg.it/wp-content/uploads/2023/10/Cattura.png
END:VEVENT
BEGIN:VEVENT
DTSTART;TZID=Europe/Rome:20231201T150000
DTEND;TZID=Europe/Rome:20231201T170000
DTSTAMP:20260421T133845
CREATED:20231123T105132Z
LAST-MODIFIED:20231128T065313Z
UID:45009-1701442800-1701450000@anci.fvg.it
SUMMARY:Appalti pubblici: lavoro e sviluppo territoriale
DESCRIPTION:LA PARTECIPAZIONE ALL’EVENTO E’ LIBERA E NON NECESSITA DI ISCRIZIONE \nLINK PER SEGUIRE I LAVORI DA REMOTO    http://www.fvg.tv/WebTV/diretta-tes.jsp
URL:https://anci.fvg.it/evento/appalti-pubblici-lavoro-e-sviluppo-territoriale/
LOCATION:Sala Tessitori\, Piazza Oberdan 5\, Trieste
CATEGORIES:Altri organizzatori: eventi esterni di interesse degli Enti locali
ATTACH;FMTTYPE=image/png:https://anci.fvg.it/wp-content/uploads/2023/11/Screenshot-2023-11-23-114608.png
END:VEVENT
BEGIN:VEVENT
DTSTART;TZID=Europe/Rome:20231204T090000
DTEND;TZID=Europe/Rome:20231204T140000
DTSTAMP:20260421T133845
CREATED:20231127T125015Z
LAST-MODIFIED:20231128T100050Z
UID:45036-1701680400-1701698400@anci.fvg.it
SUMMARY:D.lgs. 36/2023 Il Nuovo Codice dei contratti pubblici: principi generali\, nuovo sistema delle fonti e criteri interpretativo delle disposizioni. La relazione con il quadro normativo della Regione Autonoma Friuli Venezia Giulia.
DESCRIPTION:Il nuovo Codice dei contratti pubblici ha significativamente mutato l’approccio con cui le Pubbliche Amministrazioni devono affrontare il tema generale degli appalti di lavori e degli affidamenti secondo una logica non più ispirata alla sfiducia nei confronti dell’imparzialità della Pubblica Amministrazione\, ovvero nella sua incapacità nel perseguire l’interesse pubblico con la massima terzietà e capacità tecnico amministrativo\, un quadro normativo che per la prima volta vede l’introduzione di principi\, al contrario\, improntati alla fiducia\, accesso al mercato\, alla solidarietà\, all’equilibrio contrattuale e all’auto-organizzazione amministrativa. \nPer queste ragioni l’Amministrazione regionale\, dopo l’incontro del 10 ottobre u.s.\, promuove una nuova giornata di lavoro incentrata su una riflessione di Luigi Carbone\, Presidente di sezione del Consiglio di Stato\, che ha delineato la riforma del nuovo Codice. L’intervento rappresenterà l’elemento culturale decisivo per instaurare un nuovo rapporto tra pubblico e privato. \n\nPROGRAMMA\nISCRIZIONE OBBLIGATORIA iscriviti qui  fino alle ore 24.00 di domenica 3 dicembre 2023 \n\n\n\n 
URL:https://anci.fvg.it/evento/d-lgs-36-2023-il-nuovo-codice-dei-contratti-pubblici-principi-generali-nuovo-sistema-delle-fonti-e-criteri-interpretativo-delle-disposizioni-la-relazione-con-il-quadro-normativo-della-regione-auto/
LOCATION:Auditorium Antonio Comelli\, Via Cecilia Gradenigo Sabbadini\, 31\, Udine\, Italy
CATEGORIES:Altri organizzatori: eventi esterni di interesse degli Enti locali
ATTACH;FMTTYPE=image/png:https://anci.fvg.it/wp-content/uploads/2023/11/Cattura.png
END:VEVENT
BEGIN:VEVENT
DTSTART;TZID=Europe/Rome:20231204T090000
DTEND;TZID=Europe/Rome:20231204T143000
DTSTAMP:20260421T133845
CREATED:20231121T095841Z
LAST-MODIFIED:20231121T095952Z
UID:44950-1701680400-1701700200@anci.fvg.it
SUMMARY:Rpct e whistleblowing: esperienze e competenze
DESCRIPTION:“Rpct e whistleblowing: esperienze e competenze” è il titolo della nona edizione della Giornata dei Responsabili per la prevenzione della corruzione e trasparenza (RPCT) organizzata da Anac e in programma lunedì 4 dicembre al Teatro Quirino di Roma. \nDopo i saluti del presidente dell’Autorità\, Giuseppe Busia\, la prima parte dell’evento sarà incentrata sulla nuova disciplina introdotta dal decreto legislativo n. 24 del 2023 con l’obiettivo di ampliare le tutele per chi segnala illeciti\, sulle Linee guida Anac e sulla nuova piattaforma ideata dall’Autorità per raccogliere le segnalazioni esterne. \nLa seconda parte della Giornata sarà dedicata al ruolo degli RPCT\, alle loro esperienze e competenze nella gestione delle segnalazioni interne e alla collaborazione con gli enti del terzo settore nella tutela dei whistleblowers. \nModalità di partecipazione all’evento\nLa partecipazione in presenza è rivolta agli utenti già registrati con profilo di Responsabile per la Prevenzione della Corruzione e per la Trasparenza (Rpct) o di assistente Rpct. Per partecipare in presenza è necessario accedere\, esclusivamente mediante le credenziali rilasciate da Anac\, alla piattaforma predisposta per la prenotazione tramite il link ricevuto con la lettera di invito del presidente. \nGli Rpct non ancora iscritti al registro potranno effettuare la propria registrazione a questo link e\, trascorse 48 ore\, procedere con l’iscrizione all’evento. La partecipazione in presenza è soggetta ai limiti di capienza della sala e seguirà l’ordine cronologico di arrivo delle domande. L’iscrizione deve essere effettuata entro il 27 novembre 2023. \nLa partecipazione da remoto è aperta agli Rpct che non potranno partecipare in presenza e ad altri esponenti del settore pubblico coinvolti in relazione ai temi trattati. Il link per partecipare da remoto sarà pubblicato sul sito dell’Autorità: l’accesso sarà consentito ai primi 3mila che effettueranno la registrazione. Per gli utenti iscritti al Registro Rpct\, il collegamento all’evento in streaming sarà disponibile anche sulla piattaforma di e-learning di Anac a questo link. \nIl programma\n9\,00-10\,00\nRegistrazione dei partecipanti \n10\,00 -10\,15\nApertura dei lavori\nGiuseppe Busia\, Presidente ANAC \nIntroduzione ai lavori\, Cons. Paolo Giacomazzo \n10\,15- 10\,40\nIl Whistleblower: racconto di un’esperienza\nRaphael Rossi\, Whistleblower\nValentina Donini\, Docente SNA \n10\,40 – 11\,00\nLe novità legislative e le Linee Guida dell’Anac\nAntonia Magnotti\, Dirigente Ufficio vigilanza segnalazioni dei Whistleblowers \n11\,00- 11\,20\nLa nuova piattaforma dell’Anac\nVincenzo Bonetti\, Dirigente Ufficio servizi informatici interni\nEmanuele Gabrielli\, Funzionario Ufficio servizi informatici interni \n11\,20- 12\,00 Dibattito \n12\,00 – 12\,30 Coffee break \n12\,30 – 13\,00\nRPCT ed enti del terzo settore: strumenti di confronto e prospettive di collaborazione\nModera Consuelo del Balzo\, Consigliere ANAC\nGiovanni Savini\, RPCT del Ministero delle Imprese e del Made in Italy\nMichela Lorenzini\, RPCT della Trentino Sviluppo S.p.A.\nGiorgio Fraschini\, Transparency International Italia\nLeonardo Ferrante\, Associazione Libera contro le mafie \n13\,00 – 13\,15\nIl monitoraggio dell’Anac \nElisabetta Midena\, Dirigente Ufficio regolazione anticorruzione\, trasparenza e PNA \n13\,15 – 13\, 45\nWhistleblowing: ruolo e competenze del RPCT\nModera Laura Valli\, Consigliere ANAC\nAgnese Morelli\, Presidente Associazione Italiana Integrità del Sistema Salute\nValeria Castracane\, Dirigente – UdM PNRR – Dipartimento per la trasformazione digitale – PCM\nGiuseppina Cruso\, RPCT Comune di Pistoia\nMaurizio Ricciardelli\, RPCT Regione Emilia Romagna \n13\,45 – 14.15 Dibattito \n14\,30 –  Chiusura dei lavori
URL:https://anci.fvg.it/evento/rpct-e-whistleblowing-esperienze-e-competenze/
LOCATION:on line
CATEGORIES:Altri organizzatori: eventi esterni di interesse degli Enti locali
ATTACH;FMTTYPE=image/jpeg:https://anci.fvg.it/wp-content/uploads/2023/11/Giornata-RPCT-Whb-programma-completo.jpg
END:VEVENT
BEGIN:VEVENT
DTSTART;TZID=Europe/Rome:20231206T120000
DTEND;TZID=Europe/Rome:20231206T133000
DTSTAMP:20260421T133845
CREATED:20231204T094032Z
LAST-MODIFIED:20231204T094033Z
UID:45085-1701864000-1701869400@anci.fvg.it
SUMMARY:Contributi economici alle organizzazioni di volontariato di Protezione Civile: Le novità introdotte dal Decreto n. 1472/2023
DESCRIPTION:Entro il 31 dicembre 2023 i Gruppi Comunali di Protezione civile e le Ass. di volontariato possono trasmettere\, in formato digitale\, una istanza per ottenere contributi economici secondo le modalità previste dal Decreto n. 1472/2023. \nL’incontro mira a illustrare le novità introdotte per il triennio 2023/2025\, gli adempimenti formali e i contenuti dei progetti da trasmettere al Dipartimento nazionale di Protezione civile e con particolare riferimento alla nuova misura cd. “Mista” (2-3)\, per la concessione di contributi per attività di preparazione tecnica e formazione dei volontari\, attività addestrative e di diffusione della cultura della protezione civile mediante la formazione e l’informazione alla popolazione. \nPROGRAMMA \nCriteri 2023-2025\, principali elementi di novità – Modalità di accesso alla nuova misura “mista” a supporto della formazione nella pianificazione comunale di protezione civile \nAntonio Ragonesi |Resp. Area Sicurezza\, legalità\, Protezione Civile\, ANCI \nIndicazioni e indirizzi di priorità per la progettazione della quota locale \nLaura Albani | Resp. Dipartimento Protezione Civile\, ANCI \nRisposte ai quesiti \nPARTECIPA CLICCANDO QUI
URL:https://anci.fvg.it/evento/contributi-economici-alle-organizzazioni-di-volontariato-di-protezione-civile-le-novita-introdotte-dal-decreto-n-1472-2023/
LOCATION:online
CATEGORIES:Eventi nazionali
ATTACH;FMTTYPE=image/png:https://anci.fvg.it/wp-content/uploads/2023/12/Cattura.png
END:VEVENT
BEGIN:VEVENT
DTSTART;TZID=Europe/Rome:20231212T113000
DTEND;TZID=Europe/Rome:20231212T123000
DTSTAMP:20260421T133845
CREATED:20231211T095322Z
LAST-MODIFIED:20231211T100613Z
UID:45221-1702380600-1702384200@anci.fvg.it
SUMMARY:PNRR: Webinar Sport e inclusione sociale\, terza linea di intervento: istruzioni per l’utilizzo del sistema informatico Regis
DESCRIPTION:Il 12 dicembre alle ore 11.30 Anci in collaborazione con il Dipartimento per lo sport e al Ministero dell’Economia e delle Finanze organizza  il webinar “Pnrr Sport e inclusione sociale\, terza Linea di Intervento: istruzioni per l’utilizzo del sistema informatico Regis”. \nIl webinar è rivolto agli Enti attuatori della Terza Linea del PNRR\, nell’ambito della Missione 5\, Investimento 3.1 ‘Sport e Inclusione sociale’\, finalizzata alla realizzazione di parchi e percorsi attrezzati con l’applicazione di nuove tecnologie\, per promuovere la pratica sportiva libera e destinate unicamente ai Comuni delle Regioni del Mezzogiorno con popolazione residente fino a 10.000 abitanti sprovvisti di playground pubblici\, già individuati dal Dipartimento. \nDurante il webinar\, verranno illustrate\, con esempi pratici\, le modalità di rendicontazione su Regis\, la cui implementazione è necessaria per l’erogazione del finanziamento concesso. \nPer iscriverti e partecipare CLICCA QUI  \nPer maggiori informazioni vai al sito ANCI CLICCA QUI
URL:https://anci.fvg.it/evento/pnrr-webinar-sport-e-inclusione-sociale-terza-linea-di-intervento-istruzioni-per-lutilizzo-del-sistema-informatico-regis/
LOCATION:online
CATEGORIES:Eventi nazionali
ATTACH;FMTTYPE=image/png:https://anci.fvg.it/wp-content/uploads/2023/12/Cattura-1.png
END:VEVENT
BEGIN:VEVENT
DTSTART;TZID=Europe/Rome:20231219T143000
DTEND;TZID=Europe/Rome:20231219T163000
DTSTAMP:20260421T133845
CREATED:20231215T072815Z
LAST-MODIFIED:20231215T082722Z
UID:45288-1702996200-1703003400@anci.fvg.it
SUMMARY:Assegno di inclusione e supporto per la formazione e il lavoro: le nuove  misure di inclusione sociale e lavorativa
DESCRIPTION:Il webinar\, dedicato alla presentazione delle due misure dell’Assegno di inclusione e del Supporto per la formazione e il lavoro\, apre un ciclo di incontri organizzato da Anci in collaborazione con il Ministero del lavoro e delle politiche sociali\, con il supporto della Banca Mondiale\, sulle novità introdotte dal Capo I del Dl. 48 del 2023 modificato dalla Legge 85 del 3 luglio 2023\, riguardante le nuove misure di inclusione sociale e lavorativa. \nGli incontri\, indirizzati principalmente al mondo dei Comuni\, ma aperti alla partecipazione di altri attori coinvolti nell’attuazione delle due misure\, riguarderanno non solo le previsioni del DL Lavoro ma anche i decreti attuativi\, con particolare riguardo a quelli relativi all’Assegno di inclusione che avrà avvio il 1 gennaio 2024. \nISCRIZIONI QUI 
URL:https://anci.fvg.it/evento/inclusione/
LOCATION:online
CATEGORIES:Eventi nazionali
ATTACH;FMTTYPE=image/png:https://anci.fvg.it/wp-content/uploads/2023/12/19.png
END:VEVENT
BEGIN:VEVENT
DTSTART;TZID=Europe/Rome:20231220T143000
DTEND;TZID=Europe/Rome:20231220T163000
DTSTAMP:20260421T133845
CREATED:20231215T073914Z
LAST-MODIFIED:20231215T082751Z
UID:45292-1703082600-1703089800@anci.fvg.it
SUMMARY:La presentazione della domanda per l’assegno di inclusione
DESCRIPTION:Il webinar\, secondo del ciclo di incontri organizzato da Anci in collaborazione con il Ministero del lavoro e delle politiche sociali\, con il supporto della Banca Mondiale\, sulle novità introdotte dal Decreto lavoro 2023\, affronterà nel dettaglio la presentazione della domanda per l’Assegno di inclusione da parte dei beneficiari.\nL’incontro\, indirizzato al segretariato sociale dei Comuni e degli ATS è aperto alla partecipazione dei Caf\, presso i quali sarà possibile presentare la domanda\, previa convenzione con l’INPS. \nISCRIZIONI QUI
URL:https://anci.fvg.it/evento/la-presentazione-della-domanda-per-lassegno-di-inclusione/
CATEGORIES:Eventi nazionali
ATTACH;FMTTYPE=image/png:https://anci.fvg.it/wp-content/uploads/2023/12/20.png
END:VEVENT
BEGIN:VEVENT
DTSTART;TZID=Europe/Rome:20231220T150000
DTEND;TZID=Europe/Rome:20231220T170000
DTSTAMP:20260421T133845
CREATED:20231215T095750Z
LAST-MODIFIED:20231215T100515Z
UID:45312-1703084400-1703091600@anci.fvg.it
SUMMARY:Consiglio direttivo ANCI FVG
DESCRIPTION:Il Consiglio direttivo è convocato per mercoledì 20 dicembre 2023 alle ore 15\,00 in Sala Pasolini presso la sede della Regione di Udine con l’o.d.g. che segue: \n1) Comunicazioni del Presidente;\n2) Adempimenti statutari relativi all’integrazione degli organi di Anci FVG;\n3) Convenzione quadro tra le parti Anci FVG\, Informest\, ComPA FVG;\n4) Programma attività per l’anno 2024;\n5) Evoluzione del sistema Anci ComPA FVG: aggiornamenti;\n6) Varie ed eventuali.
URL:https://anci.fvg.it/evento/consiglio-direttivo-20-dicembre/
LOCATION:Sala Pasolini\, Via Sabbadini 31\, Udine
CATEGORIES:Appuntamenti ANCI FVG
ATTACH;FMTTYPE=image/png:https://anci.fvg.it/wp-content/uploads/2023/03/banner.png
ORGANIZER;CN="ANCI FVG":MAILTO:info@anci.fvg.it
END:VEVENT
BEGIN:VEVENT
DTSTART;TZID=Europe/Rome:20231221T150000
DTEND;TZID=Europe/Rome:20231221T170000
DTSTAMP:20260421T133845
CREATED:20231214T121504Z
LAST-MODIFIED:20231219T073232Z
UID:45280-1703170800-1703178000@anci.fvg.it
SUMMARY:Pnrr edilizia scolastica: istruzioni per uso del sistema informativo Regis
DESCRIPTION:ATTENZIONE! \nVARIAZIONE DATA | Il webinar “Pnrr edilizia scolastica: istruzioni per l’utilizzo del sistema informativo Regis” in programma inizialmente per lunedì 18 dicembre è posticipato a giovedì 21 dicembre alle ore 15:00. \n  \nAppuntamento lunedì 18 dicembre alle ore 11.00 con il webinar “Pnrr edilizia scolastica: istruzioni per l’utilizzo del sistema informativo Regis” organizzato da Anci con la partecipazione del Ministero dell’Istruzione e del Merito e del MEF-RGS. \nPROGRAMMA E ISCRIZIONI QUI 
URL:https://anci.fvg.it/evento/pnrr-edilizia-scolastica-istruzioni-per-uso-del-sistema-informativo-regis/
LOCATION:online
CATEGORIES:Eventi nazionali
ATTACH;FMTTYPE=image/png:https://anci.fvg.it/wp-content/uploads/2023/12/Screenshot-2023-12-14-131056.png
END:VEVENT
END:VCALENDAR