BEGIN:VCALENDAR
VERSION:2.0
PRODID:-//Anci FVG - ECPv6.15.12.2//NONSGML v1.0//EN
CALSCALE:GREGORIAN
METHOD:PUBLISH
X-ORIGINAL-URL:https://anci.fvg.it
X-WR-CALDESC:Eventi per Anci FVG
REFRESH-INTERVAL;VALUE=DURATION:PT1H
X-Robots-Tag:noindex
X-PUBLISHED-TTL:PT1H
BEGIN:VTIMEZONE
TZID:Europe/Rome
BEGIN:DAYLIGHT
TZOFFSETFROM:+0100
TZOFFSETTO:+0200
TZNAME:CEST
DTSTART:20220327T010000
END:DAYLIGHT
BEGIN:STANDARD
TZOFFSETFROM:+0200
TZOFFSETTO:+0100
TZNAME:CET
DTSTART:20221030T010000
END:STANDARD
BEGIN:DAYLIGHT
TZOFFSETFROM:+0100
TZOFFSETTO:+0200
TZNAME:CEST
DTSTART:20230326T010000
END:DAYLIGHT
BEGIN:STANDARD
TZOFFSETFROM:+0200
TZOFFSETTO:+0100
TZNAME:CET
DTSTART:20231029T010000
END:STANDARD
BEGIN:DAYLIGHT
TZOFFSETFROM:+0100
TZOFFSETTO:+0200
TZNAME:CEST
DTSTART:20240331T010000
END:DAYLIGHT
BEGIN:STANDARD
TZOFFSETFROM:+0200
TZOFFSETTO:+0100
TZNAME:CET
DTSTART:20241027T010000
END:STANDARD
BEGIN:DAYLIGHT
TZOFFSETFROM:+0100
TZOFFSETTO:+0200
TZNAME:CEST
DTSTART:20250330T010000
END:DAYLIGHT
BEGIN:STANDARD
TZOFFSETFROM:+0200
TZOFFSETTO:+0100
TZNAME:CET
DTSTART:20251026T010000
END:STANDARD
END:VTIMEZONE
BEGIN:VEVENT
DTSTART;TZID=Europe/Rome:20231031T180000
DTEND;TZID=Europe/Rome:20240522T190000
DTSTAMP:20260421T164558
CREATED:20231018T081238Z
LAST-MODIFIED:20240328T102514Z
UID:44587-1698775200-1716404400@anci.fvg.it
SUMMARY:Scuola di Politica ed Etica sociale
DESCRIPTION:Dieci anni di SPES: l’edizione 2023-2024 taglia un traguardo importante\, che certifica la qualità e la rilevanza del percorso formativo socio-politico dell’Arcidiocesi di Udine\, ispirato alla dottrina sociale della Chiesa. \nPROGRAMMA COMPLETO E ISCRIZIONI QUI \n 
URL:https://anci.fvg.it/evento/scuola-di-politica-ed-etica-sociale/
LOCATION:Polo universitario Palazzo Garzolini-Di Toppo-Wasserman\, Via Gemona 92\, Udine\, Italy
CATEGORIES:Altri organizzatori: eventi esterni di interesse degli Enti locali
ATTACH;FMTTYPE=image/png:https://anci.fvg.it/wp-content/uploads/2023/10/Cattura.png
END:VEVENT
BEGIN:VEVENT
DTSTART;TZID=Europe/Rome:20240205T100000
DTEND;TZID=Europe/Rome:20240205T120000
DTSTAMP:20260421T164558
CREATED:20240125T171250Z
LAST-MODIFIED:20240129T084546Z
UID:45820-1707127200-1707134400@anci.fvg.it
SUMMARY:Lo stato della parità di genere in Friuli Venezia Giulia
DESCRIPTION:Il 5 febbraio p.v.\, la Consigliera di Parità della Regione Friuli Venezia Giulia\, Avvocato Anna Limpido\, relazionerà sullo stato della Parità di Genere in Regione. \nSulla scorta dei più recenti dati acquisiti dall’ultima rilevazione biennale delle aziende con oltre 50 dipendenti\, dell’Inps e dell’Osservatorio Regionale del Lavoro\, la Consigliera\, pubblico ufficiale di più alto riferimento sul tema parità di genere\, esporrà le Sue considerazioni in un excursus volto al futuro\, a suggerimenti e valutazioni condivise e comparate con Consigliere di Parità di altre Regioni (per il Nord Italia\, la Liguria\, per il centro Italia\, l’Emilia Romagna e per il Sud Italia\, la Basilicata). \nAll’evento istituzionale in locandina\, sarà possibile assistere in presenza o da remoto.\nPer partecipare da remoto cliccare sul seguente link https://www.youtube.com/@FVGConvegniConferenze \n 
URL:https://anci.fvg.it/evento/lo-stato-della-parita-di-genere-in-friuli-venezia-giulia/
LOCATION:REGIONE FVG\, Corso Italia 61\, Gorizia
CATEGORIES:Altri organizzatori: eventi esterni di interesse degli Enti locali
ATTACH;FMTTYPE=image/png:https://anci.fvg.it/wp-content/uploads/2024/01/5.png
END:VEVENT
BEGIN:VEVENT
DTSTART;TZID=Europe/Rome:20240208T080000
DTEND;TZID=Europe/Rome:20240209T170000
DTSTAMP:20260421T164558
CREATED:20231215T165057Z
LAST-MODIFIED:20240126T162854Z
UID:45323-1707379200-1707498000@anci.fvg.it
SUMMARY:XIII Assemblea dei giovani amministratori ANCI
DESCRIPTION:Sarà Montecatini Terme l’8 e 9 febbraio 2024 ad accogliere i giovani amministratori locali provenienti da tutta Italia in occasione della XIII Assemblea nazionale di Anci Giovani (scarica il programma). Il tradizionale appuntamento annuale coinvolge i giovani sindaci\, assessori\, consiglieri comunali under 36 e rappresentanti del mondo istituzionale in un confronto aperto e partecipato sulle questioni che riguardano da vicino i cittadini\, i Comuni e i giovani amministratori. \nQui per iscriversi \nProgramma \nScarica la procedura per il rimborso spese di viaggio e/o alloggio \nRichiesta di rimborso e dichiarazione sostitutiva di atto notorio \nIl contributo delle Anci regionali \nInformazioni logistiche \nScheda prenotazioni alberghiere \nPer ulteriori informazioni organizzative e supporto alle iscrizioni è a disposizione la segreteria organizzativa di Ancicomunicare: tel. 06 68009-275/284/290/385   mail: eventi@anci.it \n  \n#AnciGiovani24\, gli avvisi per i laboratori tematici dell’assemblea di Montecatini Terme\nI laboratori riguarderanno la comunicazione nelle amministrazioni pubbliche e i fondi europei per lo sviluppo dei Comuni \nPubblichiamo gli Avvisi di selezione per la partecipazione ai laboratori tematici giornalieri previsti a Montecatini Terme in occasione della XIII^ Assemblea nazionale Anci Giovani. I laboratori riguarderanno il primo la comunicazione nelle amministrazioni pubbliche\, il secondo i fondi europei per lo sviluppo dei Comuni.  \n 
URL:https://anci.fvg.it/evento/xiii-assemblea-dei-giovani-amministratori-anci/
LOCATION:Montecatini Terme
CATEGORIES:Eventi nazionali
ATTACH;FMTTYPE=image/png:https://anci.fvg.it/wp-content/uploads/2024/01/Popup-1-e1706600857538.png
END:VEVENT
BEGIN:VEVENT
DTSTART;TZID=Europe/Rome:20240208T103000
DTEND;TZID=Europe/Rome:20240208T130000
DTSTAMP:20260421T164558
CREATED:20240202T093330Z
LAST-MODIFIED:20240215T105347Z
UID:45905-1707388200-1707397200@anci.fvg.it
SUMMARY:Assegno di inclusione: accesso alla misura delle persone in condizione di svantaggio
DESCRIPTION:Il webinar\, terzo di un ciclo di incontri dedicati all’ADI\, organizzato da ANCI in collaborazione con il Ministero del Lavoro e delle Politiche Sociali\, con il supporto della Banca Mondiale\, riguarderà le previsioni contenute nei decreti attuativi della misura (decreto 160 del 13 dicembre 2023 e Linee di indirizzo del 29 dicembre 2023). \nVerranno affrontati i temi relativi alla definizione delle categorie di soggetti in condizione di svantaggio e inseriti in un programma di cura e assistenza dei servizi sociosanitari territoriali certificati dalla pubblica Amministrazione\, che potranno accedere all’ADI\, nonché illustrate le Linee di indirizzo sugli elementi fondanti la presa in carico sociale integrata e il progetto personalizzato necessari alla valutazione delle condizioni di svantaggio. \nL’incontro è indirizzato al mondo dei Comuni\, ma aperto alla partecipazione di Caf e Patronati\, in quanto attori coinvolti nell’attuazione della misura. \nPer partecipare\, è necessario registrarsi qui
URL:https://anci.fvg.it/evento/assegno-di-inclusione-accesso-alla-misura-delle-persone-in-condizione-di-svantaggio/
LOCATION:online
CATEGORIES:Eventi nazionali
ATTACH;FMTTYPE=image/png:https://anci.fvg.it/wp-content/uploads/2024/02/Screenshot-2024-02-02-103126.png
END:VEVENT
BEGIN:VEVENT
DTSTART;TZID=Europe/Rome:20240210T180000
DTEND;TZID=Europe/Rome:20240210T183000
DTSTAMP:20260421T164558
CREATED:20240202T121954Z
LAST-MODIFIED:20240202T122339Z
UID:45912-1707588000-1707589800@anci.fvg.it
SUMMARY:Inaugurazione mostra Dino Podrecca
DESCRIPTION:Dino Podrecca per ricordare l’uomo\, il pittore\, il poeta. \nInaugurazione mostra sabato 11 febbraio ore 18\,00 presso la Galleria La Loggia a Udine in Piazza Libertà. \nLa mostra ha finalità benefiche. \nNote su Dino Podrecca \nInfo\ndott. Roberto Podrecca cell. 334 8469007\n\n\n                   
URL:https://anci.fvg.it/evento/inaugurazione-mostra-dino-podrecca/
LOCATION:Piazza Libertà\, Udine
CATEGORIES:Altri organizzatori: eventi esterni di interesse degli Enti locali
ATTACH;FMTTYPE=image/png:https://anci.fvg.it/wp-content/uploads/2024/02/Screenshot-2024-02-02-131501.png
END:VEVENT
BEGIN:VEVENT
DTSTART;TZID=Europe/Rome:20240214T094500
DTEND;TZID=Europe/Rome:20240214T173000
DTSTAMP:20260421T164558
CREATED:20240129T090049Z
LAST-MODIFIED:20240129T091539Z
UID:45845-1707903900-1707931800@anci.fvg.it
SUMMARY:FUTURO ANTERIORE - Verso il sistema integrato ZeroSei
DESCRIPTION:L’evento sarà la prima occasione di formazione rivolta agli educatori delle fasce d’età 0-3 e 3-6 del territorio del Comune di Trieste\, come tale dedicata alla presentazione del nuovo sistema pedagogico integrato ZeroSei nel più ampio contesto della costituzione e del funzionamento del Coordinamento Pedagogico Territoriale di riferimento e delle azioni formative che al suo interno verranno proposte nel breve e medio periodo. \n“Futuro Anteriore – Verso il sistema integrato ZeroSei” è un evento organizzato dal Comune di Trieste – Servizio Scuole\, Educazione e Biblioteche con il supporto di ANCI-ComPA Fvg per dare ufficialmente avvio al percorso di creazione di un Sistema Pedagogico Integrato sul territorio di Trieste. \nL’evento si rivolge a tutti i soggetti che compongono la rete di riferimento educativo e le strutture per i bambini da 0 a 6 anni\, di appartenenza sia pubblica che privata\, presenti nel territorio del Comune di Trieste. \nSi tratterà di una giornata di formazione per i professionisti nel corso della quale sarà presentato cosa vuole essere il nuovo Sistema Pedagogico Integrato ZeroSei per Trieste\, partendo dal contesto normativo impostato con la L. n. 107/2015 e con il D. Lgs. n. 65/2017. \nLa giornata\, organizzata per mercoledì 14 febbraio 2024\, prevede una sessione plenaria aperta a tutti coloro che sono coinvolti in questa fascia di età\, e una sessione pomeridiana a numero chiuso dove saranno organizzati dei tavoli di lavoro tematici. \nL’evento inizia alle 9.45\, ma\, considerata l’elevata partecipazione\, si consiglia di arrivare con un congruo anticipo per permettere a tutti di prendere posto in sala in tempo utile per l’inizio dei lavori: il desk segreteria apre alle 8.30. \nPROGRAMMA \nProgramma_Futuro Anteriore_14.02 \nLa partecipazione è gratuita e dà la possibilità di ricevere un attestato di partecipazione. \nISCRIZIONI \nPer iscriversi: Futuro Anteriore \n\nPer maggiori informazioni e supporto: \nMilena Grion email: m.grion@compa.fvg.it | tel. +39 340 2617458
URL:https://anci.fvg.it/evento/futuro-anteriore-verso-il-sistema-integrato-zerosei/
LOCATION:Trieste Convention Center\, Porto Vecchio\, Trieste
CATEGORIES:Appuntamenti ANCI FVG,Seminari tematici e visite studio
ATTACH;FMTTYPE=image/png:https://anci.fvg.it/wp-content/uploads/2024/01/Cattura.png
END:VEVENT
BEGIN:VEVENT
DTSTART;TZID=Europe/Rome:20240219T150000
DTEND;TZID=Europe/Rome:20240219T170000
DTSTAMP:20260421T164558
CREATED:20240208T092735Z
LAST-MODIFIED:20240208T093024Z
UID:45945-1708354800-1708362000@anci.fvg.it
SUMMARY:IL BENESSERE EQUO E SOSTENIBILE DEI TERRITORI - Rapporto ISTAT Friuli Venezia Giulia 2023
DESCRIPTION:Il rapporto “Il Benessere equo e sostenibile dei territori – Friuli Venezia Giulia”\, diffuso dall’Istat nello scorso mese di dicembre\, rappresenta un importante strumento di lettura del Benessere equo e sostenibile della nostra regione\, fotografato attraverso una serie di indicatori raggruppati in 11 aree di interesse\, quali Istruzione e formazione\, Sicurezza\, Ambiente e altri. \nL’Amministrazione Regionale ospiterà la presentazione del rapporto in un evento organizzato dal Tavolo tecnico del Friuli Venezia Giulia\, costituito per l’attuazione del Protocollo d’intesa tra Istat\, Regioni e Province autonome\, Anci e Upi\, che ha tra le sue finalità la promozione di attività volte a sensibilizzare le amministrazioni e la cittadinanza alla rilevanza e all’utilizzo delle statistiche ufficiali. \nPROGRAMMA 19 FEBBRAIO \n\n\nLa partecipazione è libera\, previa iscrizione.\n\nPer iscriversi e avere maggiori info sull’evento cliccare qui\n\n 
URL:https://anci.fvg.it/evento/il-benessere-equo-e-sostenibile-dei-territori-rapporto-istat-friuli-venezia-giulia-2023/
LOCATION:Sala Colonne\, Riva del Mandracchio\, Trieste
CATEGORIES:Altri organizzatori: eventi esterni di interesse degli Enti locali
ATTACH;FMTTYPE=image/png:https://anci.fvg.it/wp-content/uploads/2024/02/19benessere.png
END:VEVENT
BEGIN:VEVENT
DTSTART;TZID=Europe/Rome:20240220T110000
DTEND;TZID=Europe/Rome:20240220T123000
DTSTAMP:20260421T164558
CREATED:20240215T104520Z
LAST-MODIFIED:20240215T105200Z
UID:46028-1708426800-1708432200@anci.fvg.it
SUMMARY:Fondo povertà\, le novità sull'utilizzo della quota servizi
DESCRIPTION:Martedì 20 febbraio è in programma il quarto webinar organizzato da Anci in collaborazione con il Ministero del Lavoro e delle Politiche Sociali\, con il supporto di Banca Mondiale\, che tratterà le novità introdotte dal Decreto legge n. 48 del 4 maggio 2023\, convertito dalla Legge n. 85 del 3 luglio 2023\, anche alla luce dell’entrata in vigore dell’Assegno di inclusione\, nuova misura di contrasto alla povertà attiva dal 1° gennaio 2024. \nL’articolo 6 comma 9 del Decreto Lavoro infatti prevede un’estensione nell’utilizzo del Fondo per la lotta alla povertà e all’esclusione sociale\, non solo ai beneficiari dell’Assegno di inclusione ma anche ai nuclei familiari e agli individui in simili condizioni di disagio economico. \nIn occasione dell’incontro verranno presentate le nuove linee guida della quota servizi del Fondo Povertà 2022 e 2023 e le relative procedure di rendicontazione. \nL’incontro è indirizzato a Comuni ed ATS\, con particolare riguardo ai referenti della rendicontazione delle risorse della quota servizi. \nPer partecipare è necessario iscriversi al seguente link.\nVi informiamo che tutti i webinar realizzati dal Dipartimento Welfare in collaborazione con il Ministero del lavoro possono essere rivisti sul sito dell’Anci e su www.fondiwelfare.it dove troverete anche il materiale didattico.
URL:https://anci.fvg.it/evento/fondo-poverta/
LOCATION:online
CATEGORIES:Eventi nazionali
ATTACH;FMTTYPE=image/png:https://anci.fvg.it/wp-content/uploads/2024/02/fondo_poverta.png
END:VEVENT
BEGIN:VEVENT
DTSTART;TZID=Europe/Rome:20240222T150000
DTEND;TZID=Europe/Rome:20240222T170000
DTSTAMP:20260421T164558
CREATED:20240215T085120Z
LAST-MODIFIED:20240215T085203Z
UID:46009-1708614000-1708621200@anci.fvg.it
SUMMARY:Consiglio nazionale
DESCRIPTION:Il 22 febbraio a Roma – alle ore 15.00 presso la sede di Via dei Prefetti – riunione del Consiglio nazionale dell’Anci.  \nTra i punti all’ordine del giorno la relazione del presidente Antonio Decaro su tematiche di carattere generale\, il bilancio di previsione Anci 2024-2026 e il programma triennale degli acquisti di forniture e servizi. \nI membri del Consiglio nazionale impossibilitati a partecipare in presenza potranno seguire i lavori collegandosi in video conferenza.
URL:https://anci.fvg.it/evento/consiglio-nazionale-2/
LOCATION:Via dei Prefetti\, 46 Roma
CATEGORIES:Eventi nazionali
ATTACH;FMTTYPE=image/jpeg:https://anci.fvg.it/wp-content/uploads/2024/02/IMG_0577.jpg
END:VEVENT
BEGIN:VEVENT
DTSTART;TZID=Europe/Rome:20240228T100000
DTEND;TZID=Europe/Rome:20240228T120000
DTSTAMP:20260421T164558
CREATED:20240221T111117Z
LAST-MODIFIED:20240221T111457Z
UID:46101-1709114400-1709121600@anci.fvg.it
SUMMARY:Pnrr Sport e inclusione sociale
DESCRIPTION:Mercoledì 28 febbraio alle ore 10 si terrà il webinar “PNRR Sport e Inclusione sociale. Prima e seconda Linea di intervento: istruzioni per caricamento dati su ReGiS\, gestione delle spese e rendicontazione” organizzato da Anci insieme al Dipartimento per lo Sport e al Ministero dell’Economia e Finanza. \nIl webinar è rivolto agli Enti attuatori della prima e seconda Linea di intervento – Cluster 1\, 2 e 3 del PNRR\, nell’ambito della Missione 5\, Componente 2\, Investimento 3.1 ‘Sport e Inclusione sociale’\, per incrementare l’inclusione e l’integrazione sociale attraverso la costruzione o la rigenerazione di impianti sportivi che favoriscano il recupero di aree urbane. Durante il webinar verranno illustrate le procedure per l’implementazione delle diverse sezioni ReGiS e in particolare per la gestione delle spese e le modalità di rendicontazione. \nProgramma \nLink per iscriversi \nElenco dei Comuni a cui è rivolto il webinar
URL:https://anci.fvg.it/evento/pnrr-sport-e-inclusione-sociale/
LOCATION:online
CATEGORIES:Eventi nazionali
ATTACH;FMTTYPE=image/png:https://anci.fvg.it/wp-content/uploads/2024/02/Cattura.png
END:VEVENT
END:VCALENDAR