BEGIN:VCALENDAR
VERSION:2.0
PRODID:-//Anci FVG - ECPv6.15.12.2//NONSGML v1.0//EN
CALSCALE:GREGORIAN
METHOD:PUBLISH
X-ORIGINAL-URL:https://anci.fvg.it
X-WR-CALDESC:Eventi per Anci FVG
REFRESH-INTERVAL;VALUE=DURATION:PT1H
X-Robots-Tag:noindex
X-PUBLISHED-TTL:PT1H
BEGIN:VTIMEZONE
TZID:Europe/Rome
BEGIN:DAYLIGHT
TZOFFSETFROM:+0100
TZOFFSETTO:+0200
TZNAME:CEST
DTSTART:20230326T010000
END:DAYLIGHT
BEGIN:STANDARD
TZOFFSETFROM:+0200
TZOFFSETTO:+0100
TZNAME:CET
DTSTART:20231029T010000
END:STANDARD
BEGIN:DAYLIGHT
TZOFFSETFROM:+0100
TZOFFSETTO:+0200
TZNAME:CEST
DTSTART:20240331T010000
END:DAYLIGHT
BEGIN:STANDARD
TZOFFSETFROM:+0200
TZOFFSETTO:+0100
TZNAME:CET
DTSTART:20241027T010000
END:STANDARD
BEGIN:DAYLIGHT
TZOFFSETFROM:+0100
TZOFFSETTO:+0200
TZNAME:CEST
DTSTART:20250330T010000
END:DAYLIGHT
BEGIN:STANDARD
TZOFFSETFROM:+0200
TZOFFSETTO:+0100
TZNAME:CET
DTSTART:20251026T010000
END:STANDARD
END:VTIMEZONE
BEGIN:VEVENT
DTSTART;TZID=Europe/Rome:20240704T100000
DTEND;TZID=Europe/Rome:20240705T160000
DTSTAMP:20260422T005759
CREATED:20240502T075456Z
LAST-MODIFIED:20240621T083717Z
UID:47534-1720087200-1720195200@anci.fvg.it
SUMMARY:Missione Italia 2024
DESCRIPTION:Il PNRR di Comuni e Città è in piena fase attuativa. I cantieri sono aperti e in molti casi le opere sono state inaugurate\, consegnando alle comunità territoriali nuovi servizi e infrastrutture. \nFin dal 2022 ANCI ha organizzato un appuntamento annuale denominato “Missione Italia” per fare il punto sullo stato di attuazione del Piano e per promuovere un confronto tra Amministratori locali\, Governo e operatori economici. \nL’appuntamento annuale di ANCI sul PNRR di Comuni e Città torna il 4 e 5 luglio a Roma\, presso le Corsie Sistine di Santo Spirito in Sassia (Borgo Santo Spirito\, 2)\, con una due giorni focalizzata sulla dimensione tecnica e procedurale del PNRR\, puntando a offrire un supporto concreto alle Amministrazioni tramite la presentazione e l’approfondimento di criticità\, soluzioni\, buone pratiche. \nSaranno due giorni di dialogo tra istituzioni\, sindaci ed esperti Anci sul palco della plenaria e uno spazio aperto di iperconnessione su focus di approfondimento condivisi nelle isole di co-working\, ognuna dedicata a una Missione del PNRR. \nAll’evento possono partecipare non solo amministratori ma anche funzionari\, tecnici e collaboratori/consulenti degli enti locali. \nIn relazione alla fase attuale del Piano e con l’obiettivo di rendere il confronto\, e l’evento nel suo complesso\, maggiormente improntato all’operatività\, nel programma di questa Terza edizione (leggi il programma) sarà riservato ampio spazio alle più alte figure tecniche delle Istituzioni del Paese. \n\nClicca qui per il form di iscrizione\nScarica l’invito whatsapp\nScarica le note organizzative\nRichiesta Rimborso Piccoli Comuni \nProcedura rimborso Piccoli Comuni 
URL:https://anci.fvg.it/evento/save-the-date-missione-italia-2024/
LOCATION:Santo Spirito in Sassia\, Borgo Santo Spirito 2\, Roma
CATEGORIES:Eventi nazionali
ATTACH;FMTTYPE=image/jpeg:https://anci.fvg.it/wp-content/uploads/2024/05/missione_italia.jpg
END:VEVENT
BEGIN:VEVENT
DTSTART;TZID=Europe/Rome:20240711T103000
DTEND;TZID=Europe/Rome:20240711T113000
DTSTAMP:20260422T005759
CREATED:20240705T063751Z
LAST-MODIFIED:20240705T063902Z
UID:49079-1720693800-1720697400@anci.fvg.it
SUMMARY:“Assegno di Inclusione: Linee di indirizzo aggiornate sulla presa in carico e il progetto personalizzato per le persone in condizioni di svantaggio”
DESCRIPTION:Il webinar “Assegno di Inclusione: Linee di indirizzo aggiornate sulla presa in carico e il progetto personalizzato per le persone in condizioni di svantaggio” in programma l’11 luglio dalle 10:30 alle 12:30\, ottavo di un ciclo di incontri dedicati all’ADI\, organizzati da Anci in collaborazione con il Ministero del Lavoro e delle politiche sociali e con il supporto della Banca Mondiale\, è dedicato alla presentazione del Decreto n. 104/2024\, che approva le Linee di indirizzo aggiornate sugli elementi fondanti la presa in carico e il progetto personalizzato rivolti alle persone in condizioni di svantaggio che aggiornano e integrano le precedenti Linee di indirizzo\, approvate con DM n. 160 del 29 dicembre 2023. \nAl fine di garantire la corretta collocazione degli interessati all’interno di una o più categorie svantaggiate tra quelle indicate ai sensi dell’articolo 3\, commi 5 e 6\, del decreto ministeriale 154 del 13 dicembre 2023\, verranno presentate le novità contenute nelle Linee di indirizzo. \nL’incontro è indirizzato al mondo dei Comuni\, ma aperto alla partecipazione di Caf e Patronati\, in quanto attori coinvolti nell’attuazione della misura. \nISCRIVITI QUI
URL:https://anci.fvg.it/evento/assegno-di-inclusione-linee-di-indirizzo-aggiornate-sulla-presa-in-carico-e-il-progetto-personalizzato-per-le-persone-in-condizioni-di-svantaggio/
LOCATION:online
CATEGORIES:Eventi nazionali,Webinar
ATTACH;FMTTYPE=image/jpeg:https://anci.fvg.it/wp-content/uploads/2024/07/11luglio.jpg
END:VEVENT
END:VCALENDAR