BEGIN:VCALENDAR
VERSION:2.0
PRODID:-//Anci FVG - ECPv6.15.12.2//NONSGML v1.0//EN
CALSCALE:GREGORIAN
METHOD:PUBLISH
X-WR-CALNAME:Anci FVG
X-ORIGINAL-URL:https://anci.fvg.it
X-WR-CALDESC:Eventi per Anci FVG
REFRESH-INTERVAL;VALUE=DURATION:PT1H
X-Robots-Tag:noindex
X-PUBLISHED-TTL:PT1H
BEGIN:VTIMEZONE
TZID:Europe/Rome
BEGIN:DAYLIGHT
TZOFFSETFROM:+0100
TZOFFSETTO:+0200
TZNAME:CEST
DTSTART:20230326T010000
END:DAYLIGHT
BEGIN:STANDARD
TZOFFSETFROM:+0200
TZOFFSETTO:+0100
TZNAME:CET
DTSTART:20231029T010000
END:STANDARD
BEGIN:DAYLIGHT
TZOFFSETFROM:+0100
TZOFFSETTO:+0200
TZNAME:CEST
DTSTART:20240331T010000
END:DAYLIGHT
BEGIN:STANDARD
TZOFFSETFROM:+0200
TZOFFSETTO:+0100
TZNAME:CET
DTSTART:20241027T010000
END:STANDARD
BEGIN:DAYLIGHT
TZOFFSETFROM:+0100
TZOFFSETTO:+0200
TZNAME:CEST
DTSTART:20250330T010000
END:DAYLIGHT
BEGIN:STANDARD
TZOFFSETFROM:+0200
TZOFFSETTO:+0100
TZNAME:CET
DTSTART:20251026T010000
END:STANDARD
END:VTIMEZONE
BEGIN:VEVENT
DTSTART;TZID=Europe/Rome:20240825T160000
DTEND;TZID=Europe/Rome:20240830T170000
DTSTAMP:20260422T023249
CREATED:20240510T080416Z
LAST-MODIFIED:20240510T080846Z
UID:47770-1724601600-1725037200@anci.fvg.it
SUMMARY:Summer Camp per Amministratori locali
DESCRIPTION:Come ogni anno\, dal 2017 ad oggi\, ANCI FVG assieme alla sua Fondazione COMPA FVG e altri partner di progetto propone un’importante opportunità formativa rivolta agli Amministratori della nostra Regione:  il Summer Camp in “Strategie di sviluppo locale sostenibile”. \n\n \n Si tratta di un percorso di apprendimento e di scambio di esperienze tra Amministratori locali finalizzato ad acquisire conoscenza e dimestichezza nella pianificazione e nella programmazione strategica: un’esperienza formativa qualificata sia per i contenuti (di tipo strategico)\, il metodo didattico (non solo lezioni ma applicazione pratica tramite il projec work) che per la modalità di partecipazione (residenzialità). \nSono aperte le iscrizioni all’edizione 2024 in programma dal 25 al 30 agosto\, presso il CESFAM di Paluzza \n\nLe spese di partecipazione per i 21 posti per gli Amministratori sono coperte da altrettante borse di studio finanziate dal fondo regionale NextPA. \nDi seguito il link >> Summer Camp su strategie di sviluppo locale sostenibile – Anci FVG dove approfondire\, scaricare il bando\, il programma ed effettuare l’iscrizione. L’iscrizione è disponibile online e si può effettuare direttamente anche cliccando qui. \nTenendo conto che nell’anno in corso si svolgono le elezioni comunali che vedranno il rinnovo delle cariche di più della metà delle amministrazioni\, il bando prevede due distinti termini di presentazione delle domande di candidatura al Summer Camp 2024: \na) Per gli amministratori dei Comuni non coinvolti da elezioni locali nell’anno in corso\, il termine di presentazione della candidatura è fissato alle ore 24:00 di venerdì 7 giugno. Saranno ammessi 12 amministratori. \nb) Per gli amministratori dei Comuni coinvolti da elezioni locali nell’anno in corso\, il termine perentorio di presentazione della candidatura è fissato alle ore 24:00 di venerdì 19 luglio. Saranno ammessi 9 amministratori. \nL’invito è di cogliere le imperdibili opportunità offerte dal Summer Camp 2024 organizzata da ANCI FVG con la sua fondazione COMPA FVG e in collaborazione con Informest e Cantiere Friuli (Università di Udine). \n 
URL:https://anci.fvg.it/evento/47770/
LOCATION:CeSFAM\, Piazza XXI-XXII luglio 6\, Paluzza\, Italia
CATEGORIES:Appuntamenti ANCI FVG,Formazione amministratori locali,Seminari tematici e visite studio
ATTACH;FMTTYPE=image/jpeg:https://anci.fvg.it/wp-content/uploads/2024/05/summer-2024-1.jpg
END:VEVENT
END:VCALENDAR