BEGIN:VCALENDAR
VERSION:2.0
PRODID:-//Anci FVG - ECPv6.15.12.2//NONSGML v1.0//EN
CALSCALE:GREGORIAN
METHOD:PUBLISH
X-ORIGINAL-URL:https://anci.fvg.it
X-WR-CALDESC:Eventi per Anci FVG
REFRESH-INTERVAL;VALUE=DURATION:PT1H
X-Robots-Tag:noindex
X-PUBLISHED-TTL:PT1H
BEGIN:VTIMEZONE
TZID:Europe/Rome
BEGIN:DAYLIGHT
TZOFFSETFROM:+0100
TZOFFSETTO:+0200
TZNAME:CEST
DTSTART:20230326T010000
END:DAYLIGHT
BEGIN:STANDARD
TZOFFSETFROM:+0200
TZOFFSETTO:+0100
TZNAME:CET
DTSTART:20231029T010000
END:STANDARD
BEGIN:DAYLIGHT
TZOFFSETFROM:+0100
TZOFFSETTO:+0200
TZNAME:CEST
DTSTART:20240331T010000
END:DAYLIGHT
BEGIN:STANDARD
TZOFFSETFROM:+0200
TZOFFSETTO:+0100
TZNAME:CET
DTSTART:20241027T010000
END:STANDARD
BEGIN:DAYLIGHT
TZOFFSETFROM:+0100
TZOFFSETTO:+0200
TZNAME:CEST
DTSTART:20250330T010000
END:DAYLIGHT
BEGIN:STANDARD
TZOFFSETFROM:+0200
TZOFFSETTO:+0100
TZNAME:CET
DTSTART:20251026T010000
END:STANDARD
END:VTIMEZONE
BEGIN:VEVENT
DTSTART;TZID=Europe/Rome:20240921T090000
DTEND;TZID=Europe/Rome:20241026T130000
DTSTAMP:20260422T055433
CREATED:20240903T123741Z
LAST-MODIFIED:20240903T133611Z
UID:49650-1726909200-1729947600@anci.fvg.it
SUMMARY:CAPIRE E FARE BUONA AMMINISTRAZIONE LOCALE - Percorso formativo per amministratori locali neo eletti
DESCRIPTION:ANCI FVG ha il piacere di presentare la nuova edizione del percorso formativo per neoamministratori 2024 “Capire e fare buona amministrazione locale”. Con la collaborazione della Fondazione ComPA FVG\, si intende offrire l’opportunità agli amministratori neoeletti di acquisire le competenze chiave di base per assumere con maggiore consapevolezza il ruolo\, nobile e complesso\, di rappresentanza e di governo dell’Ente locale. Il percorso di apprendimento prevede il contributo di esperti di diversa estrazione e provenienza\, in un’articolazione varia che passa da appuntamenti teorico-metodologici a laboratoriali. Un’opportunità pensata non solo per acquisire competenze ma per poter allargare la rete di relazioni professionali\, crescendo nella condivisione di esperienze e nel confronto fra pari. \nPROGRAMMA\nPercorso neoeletti_2024 \n\nISCRIZIONE\nL’iscrizione al percorso è gratuita grazie al finanziamento del programma regionale nextPA. \nLa procedura per l’iscrizione è esclusivamente online accedendo al link Corso 124F011 – ComPA FVG entro e non oltre giovedì 19 settembre alle ore 17:00. \n\nCONTATTI\nCaraceni Sara – s.caraceni@compa.fvg.it\nGhiani Gianni – g.ghiani@compa.fvg.it\nGiannelli Giulio – g.giannelli@compa.fvg.it\nMaran Elisabetta – e.maran@compa.fvg.it\nMontefiori Lucia – l.montefiori@compa.fvg.it\nMuzzin Alessia – a.muzzin@compa.fvg.it
URL:https://anci.fvg.it/evento/capire-e-fare-buona-amministrazione-locale-percorso-formativo-per-amministratori-locali-neo-eletti/
LOCATION:Sala convegni parrocchiale\, Via Lequio 2\, Tolmezzo\, Italia
CATEGORIES:Appuntamenti ANCI FVG,Formazione amministratori locali
ATTACH;FMTTYPE=image/png:https://anci.fvg.it/wp-content/uploads/2024/09/banner-per-neo-eletti-secondo-tentativo.png
END:VEVENT
BEGIN:VEVENT
DTSTART;TZID=Europe/Rome:20241009T153000
DTEND;TZID=Europe/Rome:20241009T180000
DTSTAMP:20260422T055433
CREATED:20240902T093216Z
LAST-MODIFIED:20240927T103526Z
UID:49614-1728487800-1728496800@anci.fvg.it
SUMMARY:Assemblea congressuale regionale e precongressuale nazionale
DESCRIPTION:L’Assemblea congressuale regionale per l’elezione del Presidente e dei nuovi organismi dell’ANCI Friuli Venezia Giulia e l’Assemblea precongressuale nazionale per l’elezione dei delegati regionali e consiglieri nazionali ANCI FVG al XX congresso nazionale di Torino si terrà mercoledì 9 ottobre alle ore 15\,30 nel Salone del Parlamento del Castello di Udine. \n\nLa convocazione spedita ai Sindaci del Friuli Venezia Giulia contiene le modalità per partecipare ai lavori. \n\n\n\n\n \n 
URL:https://anci.fvg.it/evento/assemblea-congressuale-regionale-e-precongressuale-nazionale/
LOCATION:Salone del Parlamento del Castello\, Piazzale Patria del Friuli 1 (Piazzale del Castello)\, Udine\, 33100\, Italy
CATEGORIES:Appuntamenti ANCI FVG
ATTACH;FMTTYPE=image/jpeg:https://anci.fvg.it/wp-content/uploads/2024/09/ancifvg_2024_assembleacongressuale_e_precongressuale_0910.jpg
END:VEVENT
BEGIN:VEVENT
DTSTART;TZID=Europe/Rome:20241023T100000
DTEND;TZID=Europe/Rome:20241023T120000
DTSTAMP:20260422T055433
CREATED:20241016T160712Z
LAST-MODIFIED:20241016T165124Z
UID:50898-1729677600-1729684800@anci.fvg.it
SUMMARY:Innovalp 2024-25 "Montagne Produttive"
DESCRIPTION:Comincerà a Maniago\, mercoledì 23 ottobre 2024\, il viaggio alpino ed appenninico di Innovalp\, il percorso creato dalla Cooperativa Cramars. \nInnovalp nato come “festival di idee nel 2017” si è progressivamente trasformato in un format stabile di riflessione ed approfondimento delle strategie per lo sviluppo armonico delle Terre Alte. \nIl tema dell’edizione 2024-’25 è “Montagne Produttive” e si propone di indagare la vitale dimensione produttiva dei contesti alpini e appenninici e di costruire visioni strategiche capaci di valorizzare la funzione fondamentale delle imprese\, delle filiere e degli hub di innovazione\, rafforzando le relazioni con le comunità locali per promuovere il benessere e l’attrattività. \nL’iniziativa che prenderà ufficialmente il via a Maniago\, con l’Open Talk ECOSISTEMI PRODUTTIVI E SISTEMI TERRITORIALI\, dopo un tour alpino e appenninico culminerà con la Scuola Estiva che si terrà nel luglio 2025\, ospite di una comunità nella montagna friulana. \nL’appuntamento di Maniago si terrà nell’Aula Magna dell’Istituto d’istruzione superiore “Evangelista Torricelli”\, a partire dalle ore 10.00 fino alle 12.00\, è sarà dedicato al welfare territoriale e alle alleanze tra territori pedemontani e valli quali fattori necessari al consolidamento del capitale sociale\, della sussidiarietà attiva e della promozione dello sviluppo locale. \nL’incontro\, al quale sarà possibile partecipare in presenza e da remoto\, vedrà coinvolti in qualità di relatori Gianfranco Bisaro (Presidente del Gruppo Bisaro Sifa)\, Massimiliano De Falco (Ricercatore i Diritto del Lavoro e Relazioni industriali presso UniUd)\, Saverio Maisto (Direttore del Consorzio NIP)\, Marco Mecchia (Vicesindaco di Vito d’Asio)\, Silvia Spattini (ADAPT)\, Alessandro Tomba (HR Director Roncadin SpA SB). \nSarà trasmesso anche in diretta streaming su ZOOM al seguente link: \nPartecipa al webinar\nID riunione: 863 0248 5361\nCodice d’accesso: 840477 \n⇒ PROGRAMMA programma Open Talk 2024\n⇒ INFO sul sito www.innovalp.it
URL:https://anci.fvg.it/evento/innovalp-2024-25-montagne-produttive/
LOCATION:Maniago
CATEGORIES:Altri organizzatori: eventi esterni di interesse degli Enti locali,Webinar
ATTACH;FMTTYPE=image/jpeg:https://anci.fvg.it/wp-content/uploads/2024/10/Montagne-Produttive-INNOVALP.jpg
END:VEVENT
BEGIN:VEVENT
DTSTART;TZID=Europe/Rome:20241024T153000
DTEND;TZID=Europe/Rome:20241024T173000
DTSTAMP:20260422T055433
CREATED:20241024T075437Z
LAST-MODIFIED:20241024T080308Z
UID:51097-1729783800-1729791000@anci.fvg.it
SUMMARY:Consiglio direttivo ANCI FVG
DESCRIPTION:Il Consiglio direttivo è convocato per giovedì 24 ottobre 2024 nella Sala Pasolini presso la Sede della Regione a Udine. \nTra i lavori dei nuovi organismi\, eletti nel corso dell’assemblea congressuale dello scorso 9 ottobre\, alcuni adempimenti statutari\, la definizione delle linee di indirizzo per la costituzione dei dipartimenti tematici in seno ad ANCI FVG e la partecipazione ai lavori dell’Assemblea nazionale ANCI di Torino. \n 
URL:https://anci.fvg.it/evento/consiglio-direttivo-24_ottobre_2024/
LOCATION:Sala Pasolini\, Via Sabbadini 31\, Udine
CATEGORIES:Appuntamenti ANCI FVG
ATTACH;FMTTYPE=image/jpeg:https://anci.fvg.it/wp-content/uploads/2024/02/ancifvg-1.jpeg
ORGANIZER;CN="ANCI FVG":MAILTO:info@anci.fvg.it
END:VEVENT
BEGIN:VEVENT
DTSTART;TZID=Europe/Rome:20241025T110000
DTEND;TZID=Europe/Rome:20241025T130000
DTSTAMP:20260422T055433
CREATED:20241021T112147Z
LAST-MODIFIED:20260316T122533Z
UID:51010-1729854000-1729861200@anci.fvg.it
SUMMARY:Presentazione del bando “Bici in Comune”
DESCRIPTION:Il webinar\, che si terrà il 25 ottobre alle ore 11\,00 sarà l’occasione per presentare il Bando “Bici in Comune”\, organizzato da Anci e Sport e Salute\, rivolto a tutti i Comuni con l’obiettivo di promuovere la bicicletta come strumento di mobilità sostenibile per migliorare la qualità della vita delle città e promuovere stili di vita sani e attivi.\nDurante il webinar\, saranno approfondite le modalità di presentazione delle progettualità\, gli interventi finanziabili e tutti gli altri aspetti operativi di interesse dei Comuni.\n\n\n\n\nBICI IN COMUNE HA L’OBIETTIVO DI\n\nIncentivare la mobilità ciclabile e l’uso della bicicletta come mezzo di trasporto sostenibile\nRiqualificare e garantire la sicurezza di piste ciclabili esistenti\nFinanziare progetti relativi all’organizzazione di eventi aggregativo-sportivi ciclistici e di attività cicloturistiche\n\nESEMPI DI PROGETTI FINANZIABILI\n\nRiqualificazione e messa in sicurezza di piste ciclabili/percorsi cicloturistici\nSegnaletica verticale/orizzontale\, illuminazione\, abbattimento barriere architettoniche\, installazione cordoli separazione\, installazione di dispositivi conta accessi sulle ciclovie\, ecc.\nPiste ciclabili inclusive per anziani e persone con disabilità\nTracciatura percorsi cicloturistici\nEventi di promozione per la bici\nInserimento di arredo urbano per bici in luoghi di aggregazione\, rastrelliere\, colonnina manutenzione\, impianto semaforico\nProgetti di “mobilità” per incentivare l’uso della bicicletta\, collegamento scuola-casa\, casa-impianto sportivo\, casa-lavoro\nProgetti di valorizzazione del territorio attraverso la bicicletta\, sport\, cultura\, enogastronomia\n\n\n\nLa piattaforma informatica per presentare le candidature sarà aperta dalle ore 12:00 del 7 novembre 2024 alle ore 12:00 del 13 gennaio 2025.\n\n\n\n⇒PROGRAMMA\n⇒ ISCRIZIONI
URL:https://anci.fvg.it/evento/presentazione-del-bando-bici-in-comune/
LOCATION:online
CATEGORIES:Appuntamenti ANCI FVG,Webinar
ATTACH;FMTTYPE=image/jpeg:https://anci.fvg.it/wp-content/uploads/2024/10/1080x1080_BICI-IN-COMUNE-scaled-2.jpg
END:VEVENT
BEGIN:VEVENT
DTSTART;TZID=Europe/Rome:20241028T083000
DTEND;TZID=Europe/Rome:20241028T143000
DTSTAMP:20260422T055433
CREATED:20241016T161441Z
LAST-MODIFIED:20241016T165252Z
UID:50904-1730104200-1730125800@anci.fvg.it
SUMMARY:Energia per il futuro: scopriamo il programma ELENA
DESCRIPTION:La Regione Autonoma Friuli Venezia Giulia\, con il supporto di Informest\, organizza un evento di informazione per le Autonomie Locali e gli stakeholder della Regione per promuovere lo strumento ELENA (European Local ENergy Assistance)\, un’iniziativa congiunta della BEI e della Commissione Europea che fornisce sovvenzioni per l’avvio di progetti di efficientamento energetico e investimenti in energie rinnovabili\, destinati agli edifici e al trasporto urbani. \nL’obiettivo dell’incontro è quello di migliorare la comprensione di ELENA\, incoraggiare l’avvio di nuovi progetti e di aiutare i promotori a concretizzare i loro investimenti. L’incontro consiste in una presentazione da parte della BEI dell’opportunità\, con un focus regionale preciso\, nonché la presentazione di due esperienze in corso di realizzazione. Si ritiene di importanza cruciale presentare dei casi studio come quello di Campi Salentina e del progetto Top Condomini a cura dell’Agenzia per l’Energia e Sviluppo Sostenibile di Modena con le quali fornire indicazioni pratiche sull’opportunità rappresentata dall’iniziativa ELENA. \nL’intento è coinvolgere i Comuni e tutti i portatori di interesse della Regione FVG ad investire nello sviluppo di infrastrutture chiave come l’illuminazione pubblica\, il trasporto pubblico sostenibile\, l’energia rinnovabile e altro ancora. \n⇒ Programma e iscrizioni
URL:https://anci.fvg.it/evento/energia-per-il-futuro-scopriamo-il-programma-elena/
LOCATION:Auditorium Antonio Comelli\, Via Cecilia Gradenigo Sabbadini\, 31\, Udine\, Italy
CATEGORIES:Altri organizzatori: eventi esterni di interesse degli Enti locali
ATTACH;FMTTYPE=image/jpeg:https://anci.fvg.it/wp-content/uploads/2024/10/elena.jpg
END:VEVENT
END:VCALENDAR