BEGIN:VCALENDAR
VERSION:2.0
PRODID:-//Anci FVG - ECPv6.15.12.2//NONSGML v1.0//EN
CALSCALE:GREGORIAN
METHOD:PUBLISH
X-ORIGINAL-URL:https://anci.fvg.it
X-WR-CALDESC:Eventi per Anci FVG
REFRESH-INTERVAL;VALUE=DURATION:PT1H
X-Robots-Tag:noindex
X-PUBLISHED-TTL:PT1H
BEGIN:VTIMEZONE
TZID:Europe/Rome
BEGIN:DAYLIGHT
TZOFFSETFROM:+0100
TZOFFSETTO:+0200
TZNAME:CEST
DTSTART:20240331T010000
END:DAYLIGHT
BEGIN:STANDARD
TZOFFSETFROM:+0200
TZOFFSETTO:+0100
TZNAME:CET
DTSTART:20241027T010000
END:STANDARD
BEGIN:DAYLIGHT
TZOFFSETFROM:+0100
TZOFFSETTO:+0200
TZNAME:CEST
DTSTART:20250330T010000
END:DAYLIGHT
BEGIN:STANDARD
TZOFFSETFROM:+0200
TZOFFSETTO:+0100
TZNAME:CET
DTSTART:20251026T010000
END:STANDARD
BEGIN:DAYLIGHT
TZOFFSETFROM:+0100
TZOFFSETTO:+0200
TZNAME:CEST
DTSTART:20260329T010000
END:DAYLIGHT
BEGIN:STANDARD
TZOFFSETFROM:+0200
TZOFFSETTO:+0100
TZNAME:CET
DTSTART:20261025T010000
END:STANDARD
END:VTIMEZONE
BEGIN:VEVENT
DTSTART;TZID=Europe/Rome:20250301T103000
DTEND;TZID=Europe/Rome:20250301T113000
DTSTAMP:20260424T175310
CREATED:20250227T090350Z
LAST-MODIFIED:20250227T090507Z
UID:53921-1740825000-1740828600@anci.fvg.it
SUMMARY:Il genere invisibile. Percorsi di toponomastica femminile
DESCRIPTION:Organizzato da Anci Veneto per le Regioni di Veneto\, Emilia Romagna e Friuli Venezia Giulia e promosso da ANCI e dal Dipartimento per la Trasformazione Digitale\, con la collaborazione di ACN e PagoPA S.p.a. l’incontro si terrà martedì 28 aprile\, dalle ore 10:00\, presso la Sala Convegni della Provincia di Padova. Nel corso dell’evento saranno approfonditi scenari\, dati ed esperienze concrete\, con particolare attenzione ai temi della sostenibilità e del futuro delle azioni di trasformazione digitale nei Comuni. Durante la mattinata sarà dato spazio agli interventi dei Comuni\, con esperienze provenienti da Veneto\, Emilia-Romagna e Friuli Venezia Giulia\, al fine di favorire il confronto tra i territori. Nel pomeriggio\, invece\, i lavori proseguiranno in due tavoli operativi tematici dedicati alla cybersecurity e a SEND e PDND. 📅  28 Aprile 2026⌚ 10:00📍 Sede della Provincia di Padova in Piazzetta Virgilio Bardella\, 2.🧩PROGRAMMA  La-trasformazione-digitale-dei-Comuni-dopo-il-pnrr✍️ Per partecipare iscriversi attraverso il link https://www.formazionecomune.it/eventi/  
URL:https://anci.fvg.it/evento/il-genere-invisibile-percorsi-di-toponomastica-femminile/
LOCATION:Biblioteca Joppi\, Via Bartolini 1\, Udine
CATEGORIES:Altri organizzatori: eventi esterni di interesse degli Enti locali
ATTACH;FMTTYPE=image/jpeg:https://anci.fvg.it/wp-content/uploads/2025/02/IMG_9201.jpg
END:VEVENT
BEGIN:VEVENT
DTSTART;TZID=Europe/Rome:20250304T093000
DTEND;TZID=Europe/Rome:20250304T123000
DTSTAMP:20260424T175310
CREATED:20250228T071647Z
LAST-MODIFIED:20250228T072848Z
UID:53974-1741080600-1741091400@anci.fvg.it
SUMMARY:Costruire al tempo del nuovo codice dei contratti pubblici e del BIM
DESCRIPTION:Organizzato da Anci Veneto per le Regioni di Veneto\, Emilia Romagna e Friuli Venezia Giulia e promosso da ANCI e dal Dipartimento per la Trasformazione Digitale\, con la collaborazione di ACN e PagoPA S.p.a. l’incontro si terrà martedì 28 aprile\, dalle ore 10:00\, presso la Sala Convegni della Provincia di Padova. Nel corso dell’evento saranno approfonditi scenari\, dati ed esperienze concrete\, con particolare attenzione ai temi della sostenibilità e del futuro delle azioni di trasformazione digitale nei Comuni. Durante la mattinata sarà dato spazio agli interventi dei Comuni\, con esperienze provenienti da Veneto\, Emilia-Romagna e Friuli Venezia Giulia\, al fine di favorire il confronto tra i territori. Nel pomeriggio\, invece\, i lavori proseguiranno in due tavoli operativi tematici dedicati alla cybersecurity e a SEND e PDND. 📅  28 Aprile 2026⌚ 10:00📍 Sede della Provincia di Padova in Piazzetta Virgilio Bardella\, 2.🧩PROGRAMMA  La-trasformazione-digitale-dei-Comuni-dopo-il-pnrr✍️ Per partecipare iscriversi attraverso il link https://www.formazionecomune.it/eventi/  
URL:https://anci.fvg.it/evento/costruire-al-tempo-del-nuovo-codice-dei-contratti-pubblici-e-del-bim/
LOCATION:Auditorium Antonio Comelli\, Via Cecilia Gradenigo Sabbadini\, 31\, Udine\, Italy
CATEGORIES:Altri organizzatori: eventi esterni di interesse degli Enti locali
ATTACH;FMTTYPE=image/jpeg:https://anci.fvg.it/wp-content/uploads/2025/02/Immagine-2025-02-28-082611.jpg
END:VEVENT
BEGIN:VEVENT
DTSTART;TZID=Europe/Rome:20250304T110000
DTEND;TZID=Europe/Rome:20250304T130000
DTSTAMP:20260424T175310
CREATED:20250225T065345Z
LAST-MODIFIED:20250227T142930Z
UID:53833-1741086000-1741093200@anci.fvg.it
SUMMARY:Riforma Disabilità: le novità del D. Lgs 62/2024 in materia di valutazione multidimensionale e progetto di vita individuale personalizzato
DESCRIPTION:Organizzato da Anci Veneto per le Regioni di Veneto\, Emilia Romagna e Friuli Venezia Giulia e promosso da ANCI e dal Dipartimento per la Trasformazione Digitale\, con la collaborazione di ACN e PagoPA S.p.a. l’incontro si terrà martedì 28 aprile\, dalle ore 10:00\, presso la Sala Convegni della Provincia di Padova. Nel corso dell’evento saranno approfonditi scenari\, dati ed esperienze concrete\, con particolare attenzione ai temi della sostenibilità e del futuro delle azioni di trasformazione digitale nei Comuni. Durante la mattinata sarà dato spazio agli interventi dei Comuni\, con esperienze provenienti da Veneto\, Emilia-Romagna e Friuli Venezia Giulia\, al fine di favorire il confronto tra i territori. Nel pomeriggio\, invece\, i lavori proseguiranno in due tavoli operativi tematici dedicati alla cybersecurity e a SEND e PDND. 📅  28 Aprile 2026⌚ 10:00📍 Sede della Provincia di Padova in Piazzetta Virgilio Bardella\, 2.🧩PROGRAMMA  La-trasformazione-digitale-dei-Comuni-dopo-il-pnrr✍️ Per partecipare iscriversi attraverso il link https://www.formazionecomune.it/eventi/  
URL:https://anci.fvg.it/evento/riforma-disabilita-le-novita-del-d-lgs-62-2024-in-materia-di-valutazione-multidimensionale-e-progetto-di-vita-individuale-personalizzato/
CATEGORIES:Eventi nazionali,Webinar
ATTACH;FMTTYPE=image/jpeg:https://anci.fvg.it/wp-content/uploads/2025/02/disabilita.jpg
END:VEVENT
BEGIN:VEVENT
DTSTART;TZID=Europe/Rome:20250307T153000
DTEND;TZID=Europe/Rome:20250307T173000
DTSTAMP:20260424T175310
CREATED:20250203T152733Z
LAST-MODIFIED:20250227T092152Z
UID:53229-1741361400-1741368600@anci.fvg.it
SUMMARY:Assemblea regionale ANCI Giovani
DESCRIPTION:Organizzato da Anci Veneto per le Regioni di Veneto\, Emilia Romagna e Friuli Venezia Giulia e promosso da ANCI e dal Dipartimento per la Trasformazione Digitale\, con la collaborazione di ACN e PagoPA S.p.a. l’incontro si terrà martedì 28 aprile\, dalle ore 10:00\, presso la Sala Convegni della Provincia di Padova. Nel corso dell’evento saranno approfonditi scenari\, dati ed esperienze concrete\, con particolare attenzione ai temi della sostenibilità e del futuro delle azioni di trasformazione digitale nei Comuni. Durante la mattinata sarà dato spazio agli interventi dei Comuni\, con esperienze provenienti da Veneto\, Emilia-Romagna e Friuli Venezia Giulia\, al fine di favorire il confronto tra i territori. Nel pomeriggio\, invece\, i lavori proseguiranno in due tavoli operativi tematici dedicati alla cybersecurity e a SEND e PDND. 📅  28 Aprile 2026⌚ 10:00📍 Sede della Provincia di Padova in Piazzetta Virgilio Bardella\, 2.🧩PROGRAMMA  La-trasformazione-digitale-dei-Comuni-dopo-il-pnrr✍️ Per partecipare iscriversi attraverso il link https://www.formazionecomune.it/eventi/  
URL:https://anci.fvg.it/evento/assemblea-regionale-anci-giovani/
LOCATION:Salone del Popolo\, Via Lionello 1\, Udine
CATEGORIES:Appuntamenti ANCI FVG
ATTACH;FMTTYPE=image/jpeg:https://anci.fvg.it/wp-content/uploads/2025/02/ancifvg_ancigiovani_7marzo2025.jpg
END:VEVENT
BEGIN:VEVENT
DTSTART;TZID=Europe/Rome:20250312T103000
DTEND;TZID=Europe/Rome:20250312T130000
DTSTAMP:20260424T175310
CREATED:20250311T072629Z
LAST-MODIFIED:20250311T073209Z
UID:54236-1741775400-1741784400@anci.fvg.it
SUMMARY:Linee guida per la definizione di modelli organizzativi omogenei degli Ambiti Territoriali Sociali
DESCRIPTION:Organizzato da Anci Veneto per le Regioni di Veneto\, Emilia Romagna e Friuli Venezia Giulia e promosso da ANCI e dal Dipartimento per la Trasformazione Digitale\, con la collaborazione di ACN e PagoPA S.p.a. l’incontro si terrà martedì 28 aprile\, dalle ore 10:00\, presso la Sala Convegni della Provincia di Padova. Nel corso dell’evento saranno approfonditi scenari\, dati ed esperienze concrete\, con particolare attenzione ai temi della sostenibilità e del futuro delle azioni di trasformazione digitale nei Comuni. Durante la mattinata sarà dato spazio agli interventi dei Comuni\, con esperienze provenienti da Veneto\, Emilia-Romagna e Friuli Venezia Giulia\, al fine di favorire il confronto tra i territori. Nel pomeriggio\, invece\, i lavori proseguiranno in due tavoli operativi tematici dedicati alla cybersecurity e a SEND e PDND. 📅  28 Aprile 2026⌚ 10:00📍 Sede della Provincia di Padova in Piazzetta Virgilio Bardella\, 2.🧩PROGRAMMA  La-trasformazione-digitale-dei-Comuni-dopo-il-pnrr✍️ Per partecipare iscriversi attraverso il link https://www.formazionecomune.it/eventi/  
URL:https://anci.fvg.it/evento/linee-guida-per-la-definizione-di-modelli-organizzativi-omogenei-degli-ambiti-territoriali-sociali/
LOCATION:online
CATEGORIES:Eventi nazionali,Webinar
ATTACH;FMTTYPE=image/jpeg:https://anci.fvg.it/wp-content/uploads/2025/03/12.jpeg
END:VEVENT
BEGIN:VEVENT
DTSTART;TZID=Europe/Rome:20250318T110000
DTEND;TZID=Europe/Rome:20250318T123000
DTSTAMP:20260424T175310
CREATED:20250311T071135Z
LAST-MODIFIED:20250311T071947Z
UID:54229-1742295600-1742301000@anci.fvg.it
SUMMARY:Pratiche essenziali per la sicurezza digitale nella Pubblica Amministrazione
DESCRIPTION:Organizzato da Anci Veneto per le Regioni di Veneto\, Emilia Romagna e Friuli Venezia Giulia e promosso da ANCI e dal Dipartimento per la Trasformazione Digitale\, con la collaborazione di ACN e PagoPA S.p.a. l’incontro si terrà martedì 28 aprile\, dalle ore 10:00\, presso la Sala Convegni della Provincia di Padova. Nel corso dell’evento saranno approfonditi scenari\, dati ed esperienze concrete\, con particolare attenzione ai temi della sostenibilità e del futuro delle azioni di trasformazione digitale nei Comuni. Durante la mattinata sarà dato spazio agli interventi dei Comuni\, con esperienze provenienti da Veneto\, Emilia-Romagna e Friuli Venezia Giulia\, al fine di favorire il confronto tra i territori. Nel pomeriggio\, invece\, i lavori proseguiranno in due tavoli operativi tematici dedicati alla cybersecurity e a SEND e PDND. 📅  28 Aprile 2026⌚ 10:00📍 Sede della Provincia di Padova in Piazzetta Virgilio Bardella\, 2.🧩PROGRAMMA  La-trasformazione-digitale-dei-Comuni-dopo-il-pnrr✍️ Per partecipare iscriversi attraverso il link https://www.formazionecomune.it/eventi/  
URL:https://anci.fvg.it/evento/pratiche-essenziali-per-la-sicurezza-digitale-nella-pubblica-amministrazione/
LOCATION:online
CATEGORIES:Eventi nazionali,Webinar
ATTACH;FMTTYPE=image/png:https://anci.fvg.it/wp-content/uploads/2025/03/corso-1-18.png
END:VEVENT
BEGIN:VEVENT
DTSTART;TZID=Europe/Rome:20250318T110000
DTEND;TZID=Europe/Rome:20250318T130000
DTSTAMP:20260424T175310
CREATED:20250314T102725Z
LAST-MODIFIED:20250314T111208Z
UID:54372-1742295600-1742302800@anci.fvg.it
SUMMARY:Il ruolo della valutazione multidimensionale nel percorso di accompagnamento dei beneficiari dell’Assegno di Inclusione (ADI)
DESCRIPTION:Organizzato da Anci Veneto per le Regioni di Veneto\, Emilia Romagna e Friuli Venezia Giulia e promosso da ANCI e dal Dipartimento per la Trasformazione Digitale\, con la collaborazione di ACN e PagoPA S.p.a. l’incontro si terrà martedì 28 aprile\, dalle ore 10:00\, presso la Sala Convegni della Provincia di Padova. Nel corso dell’evento saranno approfonditi scenari\, dati ed esperienze concrete\, con particolare attenzione ai temi della sostenibilità e del futuro delle azioni di trasformazione digitale nei Comuni. Durante la mattinata sarà dato spazio agli interventi dei Comuni\, con esperienze provenienti da Veneto\, Emilia-Romagna e Friuli Venezia Giulia\, al fine di favorire il confronto tra i territori. Nel pomeriggio\, invece\, i lavori proseguiranno in due tavoli operativi tematici dedicati alla cybersecurity e a SEND e PDND. 📅  28 Aprile 2026⌚ 10:00📍 Sede della Provincia di Padova in Piazzetta Virgilio Bardella\, 2.🧩PROGRAMMA  La-trasformazione-digitale-dei-Comuni-dopo-il-pnrr✍️ Per partecipare iscriversi attraverso il link https://www.formazionecomune.it/eventi/  
URL:https://anci.fvg.it/evento/il-ruolo-della-valutazione-multidimensionale-nel-percorso-di-accompagnamento-dei-beneficiari-dellassegno-di-inclusione-adi/
LOCATION:on line
CATEGORIES:Eventi nazionali,Webinar
ATTACH;FMTTYPE=image/jpeg:https://anci.fvg.it/wp-content/uploads/2025/03/Webinar-programma-Save-18-marzo-2025_web.jpg
END:VEVENT
BEGIN:VEVENT
DTSTART;TZID=Europe/Rome:20250319T143000
DTEND;TZID=Europe/Rome:20250319T153000
DTSTAMP:20260424T175310
CREATED:20250319T122018Z
LAST-MODIFIED:20250319T122111Z
UID:54451-1742394600-1742398200@anci.fvg.it
SUMMARY:Ufficio di Presidenza Anci FVG
DESCRIPTION:Organizzato da Anci Veneto per le Regioni di Veneto\, Emilia Romagna e Friuli Venezia Giulia e promosso da ANCI e dal Dipartimento per la Trasformazione Digitale\, con la collaborazione di ACN e PagoPA S.p.a. l’incontro si terrà martedì 28 aprile\, dalle ore 10:00\, presso la Sala Convegni della Provincia di Padova. Nel corso dell’evento saranno approfonditi scenari\, dati ed esperienze concrete\, con particolare attenzione ai temi della sostenibilità e del futuro delle azioni di trasformazione digitale nei Comuni. Durante la mattinata sarà dato spazio agli interventi dei Comuni\, con esperienze provenienti da Veneto\, Emilia-Romagna e Friuli Venezia Giulia\, al fine di favorire il confronto tra i territori. Nel pomeriggio\, invece\, i lavori proseguiranno in due tavoli operativi tematici dedicati alla cybersecurity e a SEND e PDND. 📅  28 Aprile 2026⌚ 10:00📍 Sede della Provincia di Padova in Piazzetta Virgilio Bardella\, 2.🧩PROGRAMMA  La-trasformazione-digitale-dei-Comuni-dopo-il-pnrr✍️ Per partecipare iscriversi attraverso il link https://www.formazionecomune.it/eventi/  
URL:https://anci.fvg.it/evento/ufficio-di-presidenza-ancifvg-19marzo/
LOCATION:SEDE ANCI FVG\, Piazza XX Settembre\, 2\, Udine
CATEGORIES:Appuntamenti ANCI FVG
ATTACH;FMTTYPE=image/png:https://anci.fvg.it/wp-content/uploads/2025/01/thumbnail_anci_flavicon1000.png
ORGANIZER;CN="ANCI FVG":MAILTO:info@anci.fvg.it
END:VEVENT
BEGIN:VEVENT
DTSTART;TZID=Europe/Rome:20250320T080000
DTEND;TZID=Europe/Rome:20250320T180000
DTSTAMP:20260424T175310
CREATED:20250314T070705Z
LAST-MODIFIED:20250314T134244Z
UID:54336-1742457600-1742493600@anci.fvg.it
SUMMARY:Università svelate - Giornata Nazionale delle Università
DESCRIPTION:Organizzato da Anci Veneto per le Regioni di Veneto\, Emilia Romagna e Friuli Venezia Giulia e promosso da ANCI e dal Dipartimento per la Trasformazione Digitale\, con la collaborazione di ACN e PagoPA S.p.a. l’incontro si terrà martedì 28 aprile\, dalle ore 10:00\, presso la Sala Convegni della Provincia di Padova. Nel corso dell’evento saranno approfonditi scenari\, dati ed esperienze concrete\, con particolare attenzione ai temi della sostenibilità e del futuro delle azioni di trasformazione digitale nei Comuni. Durante la mattinata sarà dato spazio agli interventi dei Comuni\, con esperienze provenienti da Veneto\, Emilia-Romagna e Friuli Venezia Giulia\, al fine di favorire il confronto tra i territori. Nel pomeriggio\, invece\, i lavori proseguiranno in due tavoli operativi tematici dedicati alla cybersecurity e a SEND e PDND. 📅  28 Aprile 2026⌚ 10:00📍 Sede della Provincia di Padova in Piazzetta Virgilio Bardella\, 2.🧩PROGRAMMA  La-trasformazione-digitale-dei-Comuni-dopo-il-pnrr✍️ Per partecipare iscriversi attraverso il link https://www.formazionecomune.it/eventi/  
URL:https://anci.fvg.it/evento/universita-svelate-giornata-nazionale-delle-universita/
LOCATION:Udine
CATEGORIES:Altri organizzatori: eventi esterni di interesse degli Enti locali
ATTACH;FMTTYPE=image/jpeg:https://anci.fvg.it/wp-content/uploads/2025/03/uniudsvelata.jpg
END:VEVENT
BEGIN:VEVENT
DTSTART;TZID=Europe/Rome:20250320T143000
DTEND;TZID=Europe/Rome:20250320T160000
DTSTAMP:20260424T175310
CREATED:20250314T101435Z
LAST-MODIFIED:20250314T111123Z
UID:54367-1742481000-1742486400@anci.fvg.it
SUMMARY:Le novità del correttivo appalti (d. lgs. n. 209/2024)
DESCRIPTION:Organizzato da Anci Veneto per le Regioni di Veneto\, Emilia Romagna e Friuli Venezia Giulia e promosso da ANCI e dal Dipartimento per la Trasformazione Digitale\, con la collaborazione di ACN e PagoPA S.p.a. l’incontro si terrà martedì 28 aprile\, dalle ore 10:00\, presso la Sala Convegni della Provincia di Padova. Nel corso dell’evento saranno approfonditi scenari\, dati ed esperienze concrete\, con particolare attenzione ai temi della sostenibilità e del futuro delle azioni di trasformazione digitale nei Comuni. Durante la mattinata sarà dato spazio agli interventi dei Comuni\, con esperienze provenienti da Veneto\, Emilia-Romagna e Friuli Venezia Giulia\, al fine di favorire il confronto tra i territori. Nel pomeriggio\, invece\, i lavori proseguiranno in due tavoli operativi tematici dedicati alla cybersecurity e a SEND e PDND. 📅  28 Aprile 2026⌚ 10:00📍 Sede della Provincia di Padova in Piazzetta Virgilio Bardella\, 2.🧩PROGRAMMA  La-trasformazione-digitale-dei-Comuni-dopo-il-pnrr✍️ Per partecipare iscriversi attraverso il link https://www.formazionecomune.it/eventi/  
URL:https://anci.fvg.it/evento/le-novita-del-correttivo-appalti-d-lgs-n-209-2024/
LOCATION:on line
CATEGORIES:Eventi nazionali,Webinar
ATTACH;FMTTYPE=image/jpeg:https://anci.fvg.it/wp-content/uploads/2025/03/Webinar-appalti-20-marzo.jpg
END:VEVENT
BEGIN:VEVENT
DTSTART;TZID=Europe/Rome:20250324T090000
DTEND;TZID=Europe/Rome:20250324T120000
DTSTAMP:20260424T175310
CREATED:20250317T085839Z
LAST-MODIFIED:20250317T092959Z
UID:54396-1742806800-1742817600@anci.fvg.it
SUMMARY:Nuovo consenso europeo in materia di sviluppo sostenibile: Agenda 2030 e Green Deal
DESCRIPTION:Organizzato da Anci Veneto per le Regioni di Veneto\, Emilia Romagna e Friuli Venezia Giulia e promosso da ANCI e dal Dipartimento per la Trasformazione Digitale\, con la collaborazione di ACN e PagoPA S.p.a. l’incontro si terrà martedì 28 aprile\, dalle ore 10:00\, presso la Sala Convegni della Provincia di Padova. Nel corso dell’evento saranno approfonditi scenari\, dati ed esperienze concrete\, con particolare attenzione ai temi della sostenibilità e del futuro delle azioni di trasformazione digitale nei Comuni. Durante la mattinata sarà dato spazio agli interventi dei Comuni\, con esperienze provenienti da Veneto\, Emilia-Romagna e Friuli Venezia Giulia\, al fine di favorire il confronto tra i territori. Nel pomeriggio\, invece\, i lavori proseguiranno in due tavoli operativi tematici dedicati alla cybersecurity e a SEND e PDND. 📅  28 Aprile 2026⌚ 10:00📍 Sede della Provincia di Padova in Piazzetta Virgilio Bardella\, 2.🧩PROGRAMMA  La-trasformazione-digitale-dei-Comuni-dopo-il-pnrr✍️ Per partecipare iscriversi attraverso il link https://www.formazionecomune.it/eventi/  
URL:https://anci.fvg.it/evento/nuovo-consenso-europeo-in-materia-di-sviluppo-sostenibile-agenda-2030-e-green-deal/
LOCATION:Sala convegni – Urban Center\,\, Corso Camillo Benso Conte di Cavour\, 2/2\, Trieste\, Italy
CATEGORIES:Altri organizzatori: eventi esterni di interesse degli Enti locali
ATTACH;FMTTYPE=image/jpeg:https://anci.fvg.it/wp-content/uploads/2025/03/Locandina-Modulo-3-24-marzo-2025.jpg
END:VEVENT
BEGIN:VEVENT
DTSTART;TZID=Europe/Rome:20250324T110000
DTEND;TZID=Europe/Rome:20250324T123000
DTSTAMP:20260424T175310
CREATED:20250319T105612Z
LAST-MODIFIED:20250324T095611Z
UID:54444-1742814000-1742819400@anci.fvg.it
SUMMARY:Linee guida per la costruzione di Reti di servizi connessi all’attuazione  dell’Assegno di Inclusione (ADI)
DESCRIPTION:Organizzato da Anci Veneto per le Regioni di Veneto\, Emilia Romagna e Friuli Venezia Giulia e promosso da ANCI e dal Dipartimento per la Trasformazione Digitale\, con la collaborazione di ACN e PagoPA S.p.a. l’incontro si terrà martedì 28 aprile\, dalle ore 10:00\, presso la Sala Convegni della Provincia di Padova. Nel corso dell’evento saranno approfonditi scenari\, dati ed esperienze concrete\, con particolare attenzione ai temi della sostenibilità e del futuro delle azioni di trasformazione digitale nei Comuni. Durante la mattinata sarà dato spazio agli interventi dei Comuni\, con esperienze provenienti da Veneto\, Emilia-Romagna e Friuli Venezia Giulia\, al fine di favorire il confronto tra i territori. Nel pomeriggio\, invece\, i lavori proseguiranno in due tavoli operativi tematici dedicati alla cybersecurity e a SEND e PDND. 📅  28 Aprile 2026⌚ 10:00📍 Sede della Provincia di Padova in Piazzetta Virgilio Bardella\, 2.🧩PROGRAMMA  La-trasformazione-digitale-dei-Comuni-dopo-il-pnrr✍️ Per partecipare iscriversi attraverso il link https://www.formazionecomune.it/eventi/  
URL:https://anci.fvg.it/evento/linee-guida-per-la-costruzione-di-reti-di-servizi-connessi-allattuazione-dellassegno-di-inclusione-adi/
LOCATION:on line
CATEGORIES:Eventi nazionali,Webinar
ATTACH;FMTTYPE=image/jpeg:https://anci.fvg.it/wp-content/uploads/2025/03/24lineeguida.jpg
END:VEVENT
BEGIN:VEVENT
DTSTART;TZID=Europe/Rome:20250325T110000
DTEND;TZID=Europe/Rome:20250325T123000
DTSTAMP:20260424T175310
CREATED:20250311T072145Z
LAST-MODIFIED:20250311T072352Z
UID:54233-1742900400-1742905800@anci.fvg.it
SUMMARY:Pratiche essenziali per la sicurezza digitale nella Pubblica Amministrazione
DESCRIPTION:Organizzato da Anci Veneto per le Regioni di Veneto\, Emilia Romagna e Friuli Venezia Giulia e promosso da ANCI e dal Dipartimento per la Trasformazione Digitale\, con la collaborazione di ACN e PagoPA S.p.a. l’incontro si terrà martedì 28 aprile\, dalle ore 10:00\, presso la Sala Convegni della Provincia di Padova. Nel corso dell’evento saranno approfonditi scenari\, dati ed esperienze concrete\, con particolare attenzione ai temi della sostenibilità e del futuro delle azioni di trasformazione digitale nei Comuni. Durante la mattinata sarà dato spazio agli interventi dei Comuni\, con esperienze provenienti da Veneto\, Emilia-Romagna e Friuli Venezia Giulia\, al fine di favorire il confronto tra i territori. Nel pomeriggio\, invece\, i lavori proseguiranno in due tavoli operativi tematici dedicati alla cybersecurity e a SEND e PDND. 📅  28 Aprile 2026⌚ 10:00📍 Sede della Provincia di Padova in Piazzetta Virgilio Bardella\, 2.🧩PROGRAMMA  La-trasformazione-digitale-dei-Comuni-dopo-il-pnrr✍️ Per partecipare iscriversi attraverso il link https://www.formazionecomune.it/eventi/  
URL:https://anci.fvg.it/evento/pratiche-essenziali-per-la-sicurezza-digitale-nella-pubblica-amministrazione-25/
LOCATION:online
CATEGORIES:Eventi nazionali,Webinar
ATTACH;FMTTYPE=image/png:https://anci.fvg.it/wp-content/uploads/2025/03/corso-1-18.png
END:VEVENT
BEGIN:VEVENT
DTSTART;TZID=Europe/Rome:20250326T110000
DTEND;TZID=Europe/Rome:20250326T123000
DTSTAMP:20260424T175310
CREATED:20250324T094414Z
LAST-MODIFIED:20250324T095452Z
UID:54479-1742986800-1742992200@anci.fvg.it
SUMMARY:Istruzioni operative sui seguiti della manifestazione di interesse per assunzioni a tempo determinato presso gli ATS per Funzionari Amministrativi\, Contabili\, Educatori socio pedagogici/pedagogisti
DESCRIPTION:Organizzato da Anci Veneto per le Regioni di Veneto\, Emilia Romagna e Friuli Venezia Giulia e promosso da ANCI e dal Dipartimento per la Trasformazione Digitale\, con la collaborazione di ACN e PagoPA S.p.a. l’incontro si terrà martedì 28 aprile\, dalle ore 10:00\, presso la Sala Convegni della Provincia di Padova. Nel corso dell’evento saranno approfonditi scenari\, dati ed esperienze concrete\, con particolare attenzione ai temi della sostenibilità e del futuro delle azioni di trasformazione digitale nei Comuni. Durante la mattinata sarà dato spazio agli interventi dei Comuni\, con esperienze provenienti da Veneto\, Emilia-Romagna e Friuli Venezia Giulia\, al fine di favorire il confronto tra i territori. Nel pomeriggio\, invece\, i lavori proseguiranno in due tavoli operativi tematici dedicati alla cybersecurity e a SEND e PDND. 📅  28 Aprile 2026⌚ 10:00📍 Sede della Provincia di Padova in Piazzetta Virgilio Bardella\, 2.🧩PROGRAMMA  La-trasformazione-digitale-dei-Comuni-dopo-il-pnrr✍️ Per partecipare iscriversi attraverso il link https://www.formazionecomune.it/eventi/  
URL:https://anci.fvg.it/evento/istruzioni-operative-sui-seguiti-della-manifestazione-di-interesse-per-assunzioni-a-tempo-determinato-presso-gli-ats-per-funzionari-amministrativi-contabili-educatori-socio-pedagogici-pedagogisti/
LOCATION:on line
CATEGORIES:Eventi nazionali,Webinar
ATTACH;FMTTYPE=image/jpeg:https://anci.fvg.it/wp-content/uploads/2025/03/Cattura.jpg
END:VEVENT
END:VCALENDAR