BEGIN:VCALENDAR
VERSION:2.0
PRODID:-//Anci FVG - ECPv6.15.12.2//NONSGML v1.0//EN
CALSCALE:GREGORIAN
METHOD:PUBLISH
X-WR-CALNAME:Anci FVG
X-ORIGINAL-URL:https://anci.fvg.it
X-WR-CALDESC:Eventi per Anci FVG
REFRESH-INTERVAL;VALUE=DURATION:PT1H
X-Robots-Tag:noindex
X-PUBLISHED-TTL:PT1H
BEGIN:VTIMEZONE
TZID:Europe/Rome
BEGIN:DAYLIGHT
TZOFFSETFROM:+0100
TZOFFSETTO:+0200
TZNAME:CEST
DTSTART:20240331T010000
END:DAYLIGHT
BEGIN:STANDARD
TZOFFSETFROM:+0200
TZOFFSETTO:+0100
TZNAME:CET
DTSTART:20241027T010000
END:STANDARD
BEGIN:DAYLIGHT
TZOFFSETFROM:+0100
TZOFFSETTO:+0200
TZNAME:CEST
DTSTART:20250330T010000
END:DAYLIGHT
BEGIN:STANDARD
TZOFFSETFROM:+0200
TZOFFSETTO:+0100
TZNAME:CET
DTSTART:20251026T010000
END:STANDARD
BEGIN:DAYLIGHT
TZOFFSETFROM:+0100
TZOFFSETTO:+0200
TZNAME:CEST
DTSTART:20260329T010000
END:DAYLIGHT
BEGIN:STANDARD
TZOFFSETFROM:+0200
TZOFFSETTO:+0100
TZNAME:CET
DTSTART:20261025T010000
END:STANDARD
END:VTIMEZONE
BEGIN:VEVENT
DTSTART;TZID=Europe/Rome:20250701T110000
DTEND;TZID=Europe/Rome:20250701T130000
DTSTAMP:20260425T010409
CREATED:20250624T121627Z
LAST-MODIFIED:20250624T123508Z
UID:56344-1751367600-1751374800@anci.fvg.it
SUMMARY:Insieme per il territorio a Pordenone
DESCRIPTION:Organizzato da Anci Veneto per le Regioni di Veneto\, Emilia Romagna e Friuli Venezia Giulia e promosso da ANCI e dal Dipartimento per la Trasformazione Digitale\, con la collaborazione di ACN e PagoPA S.p.a. l’incontro si terrà martedì 28 aprile\, dalle ore 10:00\, presso la Sala Convegni della Provincia di Padova. Nel corso dell’evento saranno approfonditi scenari\, dati ed esperienze concrete\, con particolare attenzione ai temi della sostenibilità e del futuro delle azioni di trasformazione digitale nei Comuni. Durante la mattinata sarà dato spazio agli interventi dei Comuni\, con esperienze provenienti da Veneto\, Emilia-Romagna e Friuli Venezia Giulia\, al fine di favorire il confronto tra i territori. Nel pomeriggio\, invece\, i lavori proseguiranno in due tavoli operativi tematici dedicati alla cybersecurity e a SEND e PDND. 📅  28 Aprile 2026⌚ 10:00📍 Sede della Provincia di Padova in Piazzetta Virgilio Bardella\, 2.🧩PROGRAMMA  La-trasformazione-digitale-dei-Comuni-dopo-il-pnrr✍️ Per partecipare iscriversi attraverso il link https://www.formazionecomune.it/eventi/  
URL:https://anci.fvg.it/evento/insieme-per-il-territorio-a-pordenone/
LOCATION:Sede Sport e Salute\, Viale della Libertà 75\, Pordenone
CATEGORIES:Altri organizzatori: eventi esterni di interesse degli Enti locali
ATTACH;FMTTYPE=image/jpeg:https://anci.fvg.it/wp-content/uploads/2025/06/INVITO-Insieme-per-il-Territorio-PORDENONE-01-luglio-2025.pdf.jpg
END:VEVENT
BEGIN:VEVENT
DTSTART;TZID=Europe/Rome:20250701T153000
DTEND;TZID=Europe/Rome:20250701T153000
DTSTAMP:20260425T010409
CREATED:20250619T061921Z
LAST-MODIFIED:20260316T141846Z
UID:56294-1751383800-1751383800@anci.fvg.it
SUMMARY:Codice dei Contratti Pubblici. Il punto di vista dei Comuni
DESCRIPTION:Organizzato da Anci Veneto per le Regioni di Veneto\, Emilia Romagna e Friuli Venezia Giulia e promosso da ANCI e dal Dipartimento per la Trasformazione Digitale\, con la collaborazione di ACN e PagoPA S.p.a. l’incontro si terrà martedì 28 aprile\, dalle ore 10:00\, presso la Sala Convegni della Provincia di Padova. Nel corso dell’evento saranno approfonditi scenari\, dati ed esperienze concrete\, con particolare attenzione ai temi della sostenibilità e del futuro delle azioni di trasformazione digitale nei Comuni. Durante la mattinata sarà dato spazio agli interventi dei Comuni\, con esperienze provenienti da Veneto\, Emilia-Romagna e Friuli Venezia Giulia\, al fine di favorire il confronto tra i territori. Nel pomeriggio\, invece\, i lavori proseguiranno in due tavoli operativi tematici dedicati alla cybersecurity e a SEND e PDND. 📅  28 Aprile 2026⌚ 10:00📍 Sede della Provincia di Padova in Piazzetta Virgilio Bardella\, 2.🧩PROGRAMMA  La-trasformazione-digitale-dei-Comuni-dopo-il-pnrr✍️ Per partecipare iscriversi attraverso il link https://www.formazionecomune.it/eventi/  
URL:https://anci.fvg.it/evento/codice-dei-contratti-pubblici-il-punto-di-vista-dei-comuni/
LOCATION:Via dei Prefetti\, 46 Roma
CATEGORIES:Eventi nazionali,Webinar
ATTACH;FMTTYPE=image/jpeg:https://anci.fvg.it/wp-content/uploads/2025/06/contratti-1.jpg
END:VEVENT
BEGIN:VEVENT
DTSTART;TZID=Europe/Rome:20250703T153000
DTEND;TZID=Europe/Rome:20250703T170000
DTSTAMP:20260425T010409
CREATED:20250930T103948Z
LAST-MODIFIED:20250930T104249Z
UID:57753-1751556600-1751562000@anci.fvg.it
SUMMARY:Consiglio direttivo ANCI FVG con Assessore regionale Bini
DESCRIPTION:Organizzato da Anci Veneto per le Regioni di Veneto\, Emilia Romagna e Friuli Venezia Giulia e promosso da ANCI e dal Dipartimento per la Trasformazione Digitale\, con la collaborazione di ACN e PagoPA S.p.a. l’incontro si terrà martedì 28 aprile\, dalle ore 10:00\, presso la Sala Convegni della Provincia di Padova. Nel corso dell’evento saranno approfonditi scenari\, dati ed esperienze concrete\, con particolare attenzione ai temi della sostenibilità e del futuro delle azioni di trasformazione digitale nei Comuni. Durante la mattinata sarà dato spazio agli interventi dei Comuni\, con esperienze provenienti da Veneto\, Emilia-Romagna e Friuli Venezia Giulia\, al fine di favorire il confronto tra i territori. Nel pomeriggio\, invece\, i lavori proseguiranno in due tavoli operativi tematici dedicati alla cybersecurity e a SEND e PDND. 📅  28 Aprile 2026⌚ 10:00📍 Sede della Provincia di Padova in Piazzetta Virgilio Bardella\, 2.🧩PROGRAMMA  La-trasformazione-digitale-dei-Comuni-dopo-il-pnrr✍️ Per partecipare iscriversi attraverso il link https://www.formazionecomune.it/eventi/  
URL:https://anci.fvg.it/evento/consiglio-direttivo-anci-fvg-con-assessore-regionale-bini/
LOCATION:Palazzo della Regione\, Via Sabbadini 31\, Udine\, Italy
CATEGORIES:Appuntamenti ANCI FVG
ATTACH;FMTTYPE=image/png:https://anci.fvg.it/wp-content/uploads/2025/01/thumbnail_anci_flavicon1000.png
ORGANIZER;CN="ANCI FVG":MAILTO:info@anci.fvg.it
END:VEVENT
BEGIN:VEVENT
DTSTART;TZID=Europe/Rome:20250709T110000
DTEND;TZID=Europe/Rome:20250709T130000
DTSTAMP:20260425T010409
CREATED:20250707T092807Z
LAST-MODIFIED:20250707T093601Z
UID:56554-1752058800-1752066000@anci.fvg.it
SUMMARY:Indicazioni sul bando nazionale per 3.839 assunzioni a tempo pieno e determinato negli Ambiti territoriali sociali
DESCRIPTION:Organizzato da Anci Veneto per le Regioni di Veneto\, Emilia Romagna e Friuli Venezia Giulia e promosso da ANCI e dal Dipartimento per la Trasformazione Digitale\, con la collaborazione di ACN e PagoPA S.p.a. l’incontro si terrà martedì 28 aprile\, dalle ore 10:00\, presso la Sala Convegni della Provincia di Padova. Nel corso dell’evento saranno approfonditi scenari\, dati ed esperienze concrete\, con particolare attenzione ai temi della sostenibilità e del futuro delle azioni di trasformazione digitale nei Comuni. Durante la mattinata sarà dato spazio agli interventi dei Comuni\, con esperienze provenienti da Veneto\, Emilia-Romagna e Friuli Venezia Giulia\, al fine di favorire il confronto tra i territori. Nel pomeriggio\, invece\, i lavori proseguiranno in due tavoli operativi tematici dedicati alla cybersecurity e a SEND e PDND. 📅  28 Aprile 2026⌚ 10:00📍 Sede della Provincia di Padova in Piazzetta Virgilio Bardella\, 2.🧩PROGRAMMA  La-trasformazione-digitale-dei-Comuni-dopo-il-pnrr✍️ Per partecipare iscriversi attraverso il link https://www.formazionecomune.it/eventi/  
URL:https://anci.fvg.it/evento/indicazioni-sul-bando-nazionale-per-3-839-assunzioni-a-tempo-pieno-e-determinato-negli-ambiti-territoriali-sociali/
LOCATION:online
CATEGORIES:Eventi nazionali
ATTACH;FMTTYPE=image/jpeg:https://anci.fvg.it/wp-content/uploads/2025/07/ambiti.jpg
END:VEVENT
BEGIN:VEVENT
DTSTART;TZID=Europe/Rome:20250710T100000
DTEND;TZID=Europe/Rome:20250713T200000
DTSTAMP:20260425T010409
CREATED:20250701T090214Z
LAST-MODIFIED:20250701T091242Z
UID:56473-1752141600-1752436800@anci.fvg.it
SUMMARY:TreeArt Festival edizione 2025
DESCRIPTION:Organizzato da Anci Veneto per le Regioni di Veneto\, Emilia Romagna e Friuli Venezia Giulia e promosso da ANCI e dal Dipartimento per la Trasformazione Digitale\, con la collaborazione di ACN e PagoPA S.p.a. l’incontro si terrà martedì 28 aprile\, dalle ore 10:00\, presso la Sala Convegni della Provincia di Padova. Nel corso dell’evento saranno approfonditi scenari\, dati ed esperienze concrete\, con particolare attenzione ai temi della sostenibilità e del futuro delle azioni di trasformazione digitale nei Comuni. Durante la mattinata sarà dato spazio agli interventi dei Comuni\, con esperienze provenienti da Veneto\, Emilia-Romagna e Friuli Venezia Giulia\, al fine di favorire il confronto tra i territori. Nel pomeriggio\, invece\, i lavori proseguiranno in due tavoli operativi tematici dedicati alla cybersecurity e a SEND e PDND. 📅  28 Aprile 2026⌚ 10:00📍 Sede della Provincia di Padova in Piazzetta Virgilio Bardella\, 2.🧩PROGRAMMA  La-trasformazione-digitale-dei-Comuni-dopo-il-pnrr✍️ Per partecipare iscriversi attraverso il link https://www.formazionecomune.it/eventi/  
URL:https://anci.fvg.it/evento/treeart-festival-edizione-2025/
LOCATION:Villa di Toppo Florio\, Buttrio
CATEGORIES:Altri organizzatori: eventi esterni di interesse degli Enti locali
ATTACH;FMTTYPE=image/jpeg:https://anci.fvg.it/wp-content/uploads/2025/07/tree-art-festival.jpg
END:VEVENT
BEGIN:VEVENT
DTSTART;TZID=Europe/Rome:20250713T140000
DTEND;TZID=Europe/Rome:20250719T140000
DTSTAMP:20260425T010409
CREATED:20250506T072849Z
LAST-MODIFIED:20250506T080617Z
UID:55493-1752415200-1752933600@anci.fvg.it
SUMMARY:INNOVALP – Scuola Estiva di Innovazione Sociale
DESCRIPTION:Organizzato da Anci Veneto per le Regioni di Veneto\, Emilia Romagna e Friuli Venezia Giulia e promosso da ANCI e dal Dipartimento per la Trasformazione Digitale\, con la collaborazione di ACN e PagoPA S.p.a. l’incontro si terrà martedì 28 aprile\, dalle ore 10:00\, presso la Sala Convegni della Provincia di Padova. Nel corso dell’evento saranno approfonditi scenari\, dati ed esperienze concrete\, con particolare attenzione ai temi della sostenibilità e del futuro delle azioni di trasformazione digitale nei Comuni. Durante la mattinata sarà dato spazio agli interventi dei Comuni\, con esperienze provenienti da Veneto\, Emilia-Romagna e Friuli Venezia Giulia\, al fine di favorire il confronto tra i territori. Nel pomeriggio\, invece\, i lavori proseguiranno in due tavoli operativi tematici dedicati alla cybersecurity e a SEND e PDND. 📅  28 Aprile 2026⌚ 10:00📍 Sede della Provincia di Padova in Piazzetta Virgilio Bardella\, 2.🧩PROGRAMMA  La-trasformazione-digitale-dei-Comuni-dopo-il-pnrr✍️ Per partecipare iscriversi attraverso il link https://www.formazionecomune.it/eventi/  
URL:https://anci.fvg.it/evento/innovalp-scuola-estiva-di-innovazione-sociale/
LOCATION:Moggio Udinese
CATEGORIES:Altri organizzatori: eventi esterni di interesse degli Enti locali
ATTACH;FMTTYPE=image/jpeg:https://anci.fvg.it/wp-content/uploads/2025/05/innovalp.jpg
END:VEVENT
BEGIN:VEVENT
DTSTART;TZID=Europe/Rome:20250714T143000
DTEND;TZID=Europe/Rome:20250714T163000
DTSTAMP:20260425T010409
CREATED:20250714T053255Z
LAST-MODIFIED:20250714T053851Z
UID:56662-1752503400-1752510600@anci.fvg.it
SUMMARY:Approfondimenti sulle evolutive “Gestione Spese”: illustrazione del sistema ReGiS
DESCRIPTION:Organizzato da Anci Veneto per le Regioni di Veneto\, Emilia Romagna e Friuli Venezia Giulia e promosso da ANCI e dal Dipartimento per la Trasformazione Digitale\, con la collaborazione di ACN e PagoPA S.p.a. l’incontro si terrà martedì 28 aprile\, dalle ore 10:00\, presso la Sala Convegni della Provincia di Padova. Nel corso dell’evento saranno approfonditi scenari\, dati ed esperienze concrete\, con particolare attenzione ai temi della sostenibilità e del futuro delle azioni di trasformazione digitale nei Comuni. Durante la mattinata sarà dato spazio agli interventi dei Comuni\, con esperienze provenienti da Veneto\, Emilia-Romagna e Friuli Venezia Giulia\, al fine di favorire il confronto tra i territori. Nel pomeriggio\, invece\, i lavori proseguiranno in due tavoli operativi tematici dedicati alla cybersecurity e a SEND e PDND. 📅  28 Aprile 2026⌚ 10:00📍 Sede della Provincia di Padova in Piazzetta Virgilio Bardella\, 2.🧩PROGRAMMA  La-trasformazione-digitale-dei-Comuni-dopo-il-pnrr✍️ Per partecipare iscriversi attraverso il link https://www.formazionecomune.it/eventi/  
URL:https://anci.fvg.it/evento/approfondimenti-sulle-evolutive-gestione-spese-illustrazione-del-sistema-regis/
LOCATION:online
CATEGORIES:Eventi nazionali
ATTACH;FMTTYPE=image/jpeg:https://anci.fvg.it/wp-content/uploads/2025/07/Programma-Webinar-14-luglio.jpg
END:VEVENT
BEGIN:VEVENT
DTSTART;TZID=Europe/Rome:20250716T103000
DTEND;TZID=Europe/Rome:20250716T170000
DTSTAMP:20260425T010409
CREATED:20250701T061037Z
LAST-MODIFIED:20250701T074043Z
UID:56444-1752661800-1752685200@anci.fvg.it
SUMMARY:La Mappa dei Comuni digitali
DESCRIPTION:Organizzato da Anci Veneto per le Regioni di Veneto\, Emilia Romagna e Friuli Venezia Giulia e promosso da ANCI e dal Dipartimento per la Trasformazione Digitale\, con la collaborazione di ACN e PagoPA S.p.a. l’incontro si terrà martedì 28 aprile\, dalle ore 10:00\, presso la Sala Convegni della Provincia di Padova. Nel corso dell’evento saranno approfonditi scenari\, dati ed esperienze concrete\, con particolare attenzione ai temi della sostenibilità e del futuro delle azioni di trasformazione digitale nei Comuni. Durante la mattinata sarà dato spazio agli interventi dei Comuni\, con esperienze provenienti da Veneto\, Emilia-Romagna e Friuli Venezia Giulia\, al fine di favorire il confronto tra i territori. Nel pomeriggio\, invece\, i lavori proseguiranno in due tavoli operativi tematici dedicati alla cybersecurity e a SEND e PDND. 📅  28 Aprile 2026⌚ 10:00📍 Sede della Provincia di Padova in Piazzetta Virgilio Bardella\, 2.🧩PROGRAMMA  La-trasformazione-digitale-dei-Comuni-dopo-il-pnrr✍️ Per partecipare iscriversi attraverso il link https://www.formazionecomune.it/eventi/  
URL:https://anci.fvg.it/evento/la-mappa-dei-comuni-digitali/
LOCATION:Spazio Vittoria\, Via Vittoria Colonna 11\, Roma
CATEGORIES:Eventi nazionali
ATTACH;FMTTYPE=image/jpeg:https://anci.fvg.it/wp-content/uploads/2025/07/comuni-digitali.jpg
END:VEVENT
BEGIN:VEVENT
DTSTART;TZID=Europe/Rome:20250717T110000
DTEND;TZID=Europe/Rome:20250717T130000
DTSTAMP:20260425T010409
CREATED:20250715T071553Z
LAST-MODIFIED:20250715T072117Z
UID:56749-1752750000-1752757200@anci.fvg.it
SUMMARY:Strumenti di comunicazione e informazione per le pari opportunità nei Comuni
DESCRIPTION:Organizzato da Anci Veneto per le Regioni di Veneto\, Emilia Romagna e Friuli Venezia Giulia e promosso da ANCI e dal Dipartimento per la Trasformazione Digitale\, con la collaborazione di ACN e PagoPA S.p.a. l’incontro si terrà martedì 28 aprile\, dalle ore 10:00\, presso la Sala Convegni della Provincia di Padova. Nel corso dell’evento saranno approfonditi scenari\, dati ed esperienze concrete\, con particolare attenzione ai temi della sostenibilità e del futuro delle azioni di trasformazione digitale nei Comuni. Durante la mattinata sarà dato spazio agli interventi dei Comuni\, con esperienze provenienti da Veneto\, Emilia-Romagna e Friuli Venezia Giulia\, al fine di favorire il confronto tra i territori. Nel pomeriggio\, invece\, i lavori proseguiranno in due tavoli operativi tematici dedicati alla cybersecurity e a SEND e PDND. 📅  28 Aprile 2026⌚ 10:00📍 Sede della Provincia di Padova in Piazzetta Virgilio Bardella\, 2.🧩PROGRAMMA  La-trasformazione-digitale-dei-Comuni-dopo-il-pnrr✍️ Per partecipare iscriversi attraverso il link https://www.formazionecomune.it/eventi/  
URL:https://anci.fvg.it/evento/strumenti-di-comunicazione-e-informazione-per-le-pari-opportunita-nei-comuni/
LOCATION:online
CATEGORIES:Eventi nazionali
ATTACH;FMTTYPE=image/jpeg:https://anci.fvg.it/wp-content/uploads/2025/07/Webinar_StD-17-luglio-25_page-0001.jpg
END:VEVENT
BEGIN:VEVENT
DTSTART;TZID=Europe/Rome:20250721T090000
DTEND;TZID=Europe/Rome:20250721T130000
DTSTAMP:20260425T010409
CREATED:20250702T054944Z
LAST-MODIFIED:20250709T092434Z
UID:56485-1753088400-1753102800@anci.fvg.it
SUMMARY:Alta formazione sulle politiche UE | Radici nel futuro: prospettive e sfide per l’agricoltura dopo il 2027
DESCRIPTION:Organizzato da Anci Veneto per le Regioni di Veneto\, Emilia Romagna e Friuli Venezia Giulia e promosso da ANCI e dal Dipartimento per la Trasformazione Digitale\, con la collaborazione di ACN e PagoPA S.p.a. l’incontro si terrà martedì 28 aprile\, dalle ore 10:00\, presso la Sala Convegni della Provincia di Padova. Nel corso dell’evento saranno approfonditi scenari\, dati ed esperienze concrete\, con particolare attenzione ai temi della sostenibilità e del futuro delle azioni di trasformazione digitale nei Comuni. Durante la mattinata sarà dato spazio agli interventi dei Comuni\, con esperienze provenienti da Veneto\, Emilia-Romagna e Friuli Venezia Giulia\, al fine di favorire il confronto tra i territori. Nel pomeriggio\, invece\, i lavori proseguiranno in due tavoli operativi tematici dedicati alla cybersecurity e a SEND e PDND. 📅  28 Aprile 2026⌚ 10:00📍 Sede della Provincia di Padova in Piazzetta Virgilio Bardella\, 2.🧩PROGRAMMA  La-trasformazione-digitale-dei-Comuni-dopo-il-pnrr✍️ Per partecipare iscriversi attraverso il link https://www.formazionecomune.it/eventi/  
URL:https://anci.fvg.it/evento/alta-formazione-sulle-politiche-ue-radici-nel-futuro-prospettive-e-sfide-per-lagricoltura-dopo-il-2027/
LOCATION:Fondazione Friuli\, Via Gemona 1\, Udine
CATEGORIES:Altri organizzatori: eventi esterni di interesse degli Enti locali,Appuntamenti ANCI FVG
ATTACH;FMTTYPE=image/png:https://anci.fvg.it/wp-content/uploads/2025/07/21luglio.png
END:VEVENT
BEGIN:VEVENT
DTSTART;TZID=Europe/Rome:20250723T160000
DTEND;TZID=Europe/Rome:20250723T173000
DTSTAMP:20260425T010409
CREATED:20250915T103058Z
LAST-MODIFIED:20250915T103350Z
UID:57469-1753286400-1753291800@anci.fvg.it
SUMMARY:Ufficio di Presidenza Anci FVG in videoconferenza
DESCRIPTION:Organizzato da Anci Veneto per le Regioni di Veneto\, Emilia Romagna e Friuli Venezia Giulia e promosso da ANCI e dal Dipartimento per la Trasformazione Digitale\, con la collaborazione di ACN e PagoPA S.p.a. l’incontro si terrà martedì 28 aprile\, dalle ore 10:00\, presso la Sala Convegni della Provincia di Padova. Nel corso dell’evento saranno approfonditi scenari\, dati ed esperienze concrete\, con particolare attenzione ai temi della sostenibilità e del futuro delle azioni di trasformazione digitale nei Comuni. Durante la mattinata sarà dato spazio agli interventi dei Comuni\, con esperienze provenienti da Veneto\, Emilia-Romagna e Friuli Venezia Giulia\, al fine di favorire il confronto tra i territori. Nel pomeriggio\, invece\, i lavori proseguiranno in due tavoli operativi tematici dedicati alla cybersecurity e a SEND e PDND. 📅  28 Aprile 2026⌚ 10:00📍 Sede della Provincia di Padova in Piazzetta Virgilio Bardella\, 2.🧩PROGRAMMA  La-trasformazione-digitale-dei-Comuni-dopo-il-pnrr✍️ Per partecipare iscriversi attraverso il link https://www.formazionecomune.it/eventi/  
URL:https://anci.fvg.it/evento/ufficio-di-presidenza-anci-fvg-in-videoconferenza/
LOCATION:SEDE ANCI FVG\, Piazza XX Settembre\, 2\, Udine
CATEGORIES:Appuntamenti ANCI FVG
ATTACH;FMTTYPE=image/png:https://anci.fvg.it/wp-content/uploads/2025/01/thumbnail_anci_flavicon1000.png
ORGANIZER;CN="ANCI FVG":MAILTO:info@anci.fvg.it
END:VEVENT
BEGIN:VEVENT
DTSTART;TZID=Europe/Rome:20250724T090000
DTEND;TZID=Europe/Rome:20250724T123000
DTSTAMP:20260425T010409
CREATED:20250714T130033Z
LAST-MODIFIED:20250714T132224Z
UID:56703-1753347600-1753360200@anci.fvg.it
SUMMARY:Il Codice dei Contratti Pubblici e il suo Correttivo: bilancio di due anni di vigenza e nuove prospettive
DESCRIPTION:Organizzato da Anci Veneto per le Regioni di Veneto\, Emilia Romagna e Friuli Venezia Giulia e promosso da ANCI e dal Dipartimento per la Trasformazione Digitale\, con la collaborazione di ACN e PagoPA S.p.a. l’incontro si terrà martedì 28 aprile\, dalle ore 10:00\, presso la Sala Convegni della Provincia di Padova. Nel corso dell’evento saranno approfonditi scenari\, dati ed esperienze concrete\, con particolare attenzione ai temi della sostenibilità e del futuro delle azioni di trasformazione digitale nei Comuni. Durante la mattinata sarà dato spazio agli interventi dei Comuni\, con esperienze provenienti da Veneto\, Emilia-Romagna e Friuli Venezia Giulia\, al fine di favorire il confronto tra i territori. Nel pomeriggio\, invece\, i lavori proseguiranno in due tavoli operativi tematici dedicati alla cybersecurity e a SEND e PDND. 📅  28 Aprile 2026⌚ 10:00📍 Sede della Provincia di Padova in Piazzetta Virgilio Bardella\, 2.🧩PROGRAMMA  La-trasformazione-digitale-dei-Comuni-dopo-il-pnrr✍️ Per partecipare iscriversi attraverso il link https://www.formazionecomune.it/eventi/  
URL:https://anci.fvg.it/evento/il-codice-dei-contratti-pubblici-e-il-suo-correttivo-bilancio-di-due-anni-di-vigenza-e-nuove-prospettive/
LOCATION:Parco Tecnologico\, Via Jacopo Linussio 1\, Amaro\, Italy
CATEGORIES:Altri organizzatori: eventi esterni di interesse degli Enti locali
ATTACH;FMTTYPE=image/jpeg:https://anci.fvg.it/wp-content/uploads/2025/07/ance.jpg
END:VEVENT
END:VCALENDAR