BEGIN:VCALENDAR
VERSION:2.0
PRODID:-//Anci FVG - ECPv6.15.12.2//NONSGML v1.0//EN
CALSCALE:GREGORIAN
METHOD:PUBLISH
X-WR-CALNAME:Anci FVG
X-ORIGINAL-URL:https://anci.fvg.it
X-WR-CALDESC:Eventi per Anci FVG
REFRESH-INTERVAL;VALUE=DURATION:PT1H
X-Robots-Tag:noindex
X-PUBLISHED-TTL:PT1H
BEGIN:VTIMEZONE
TZID:Europe/Rome
BEGIN:DAYLIGHT
TZOFFSETFROM:+0100
TZOFFSETTO:+0200
TZNAME:CEST
DTSTART:20240331T010000
END:DAYLIGHT
BEGIN:STANDARD
TZOFFSETFROM:+0200
TZOFFSETTO:+0100
TZNAME:CET
DTSTART:20241027T010000
END:STANDARD
BEGIN:DAYLIGHT
TZOFFSETFROM:+0100
TZOFFSETTO:+0200
TZNAME:CEST
DTSTART:20250330T010000
END:DAYLIGHT
BEGIN:STANDARD
TZOFFSETFROM:+0200
TZOFFSETTO:+0100
TZNAME:CET
DTSTART:20251026T010000
END:STANDARD
BEGIN:DAYLIGHT
TZOFFSETFROM:+0100
TZOFFSETTO:+0200
TZNAME:CEST
DTSTART:20260329T010000
END:DAYLIGHT
BEGIN:STANDARD
TZOFFSETFROM:+0200
TZOFFSETTO:+0100
TZNAME:CET
DTSTART:20261025T010000
END:STANDARD
END:VTIMEZONE
BEGIN:VEVENT
DTSTART;TZID=Europe/Rome:20250824T163000
DTEND;TZID=Europe/Rome:20250829T160000
DTSTAMP:20260425T031031
CREATED:20250512T122048Z
LAST-MODIFIED:20250723T111113Z
UID:55691-1756053000-1756483200@anci.fvg.it
SUMMARY:Summer Camp 2025 su strategie di sviluppo locale sostenibile
DESCRIPTION:Organizzato da Anci Veneto per le Regioni di Veneto\, Emilia Romagna e Friuli Venezia Giulia e promosso da ANCI e dal Dipartimento per la Trasformazione Digitale\, con la collaborazione di ACN e PagoPA S.p.a. l’incontro si terrà martedì 28 aprile\, dalle ore 10:00\, presso la Sala Convegni della Provincia di Padova. Nel corso dell’evento saranno approfonditi scenari\, dati ed esperienze concrete\, con particolare attenzione ai temi della sostenibilità e del futuro delle azioni di trasformazione digitale nei Comuni. Durante la mattinata sarà dato spazio agli interventi dei Comuni\, con esperienze provenienti da Veneto\, Emilia-Romagna e Friuli Venezia Giulia\, al fine di favorire il confronto tra i territori. Nel pomeriggio\, invece\, i lavori proseguiranno in due tavoli operativi tematici dedicati alla cybersecurity e a SEND e PDND. 📅  28 Aprile 2026⌚ 10:00📍 Sede della Provincia di Padova in Piazzetta Virgilio Bardella\, 2.🧩PROGRAMMA  La-trasformazione-digitale-dei-Comuni-dopo-il-pnrr✍️ Per partecipare iscriversi attraverso il link https://www.formazionecomune.it/eventi/  
URL:https://anci.fvg.it/evento/summer-camp-2025-su-strategie-di-sviluppo-locale-sostenibile/
LOCATION:CeSFAM\, Piazza XXI-XXII luglio 6\, Paluzza\, Italia
CATEGORIES:Appuntamenti ANCI FVG,Formazione amministratori locali
ATTACH;FMTTYPE=image/png:https://anci.fvg.it/wp-content/uploads/2025/05/summercamp_2025.png
END:VEVENT
END:VCALENDAR