BEGIN:VCALENDAR
VERSION:2.0
PRODID:-//Anci FVG - ECPv6.15.12.2//NONSGML v1.0//EN
CALSCALE:GREGORIAN
METHOD:PUBLISH
X-ORIGINAL-URL:https://anci.fvg.it
X-WR-CALDESC:Eventi per Anci FVG
REFRESH-INTERVAL;VALUE=DURATION:PT1H
X-Robots-Tag:noindex
X-PUBLISHED-TTL:PT1H
BEGIN:VTIMEZONE
TZID:Europe/Rome
BEGIN:DAYLIGHT
TZOFFSETFROM:+0100
TZOFFSETTO:+0200
TZNAME:CEST
DTSTART:20240331T010000
END:DAYLIGHT
BEGIN:STANDARD
TZOFFSETFROM:+0200
TZOFFSETTO:+0100
TZNAME:CET
DTSTART:20241027T010000
END:STANDARD
BEGIN:DAYLIGHT
TZOFFSETFROM:+0100
TZOFFSETTO:+0200
TZNAME:CEST
DTSTART:20250330T010000
END:DAYLIGHT
BEGIN:STANDARD
TZOFFSETFROM:+0200
TZOFFSETTO:+0100
TZNAME:CET
DTSTART:20251026T010000
END:STANDARD
BEGIN:DAYLIGHT
TZOFFSETFROM:+0100
TZOFFSETTO:+0200
TZNAME:CEST
DTSTART:20260329T010000
END:DAYLIGHT
BEGIN:STANDARD
TZOFFSETFROM:+0200
TZOFFSETTO:+0100
TZNAME:CET
DTSTART:20261025T010000
END:STANDARD
END:VTIMEZONE
BEGIN:VEVENT
DTSTART;TZID=Europe/Rome:20250903T100000
DTEND;TZID=Europe/Rome:20250903T130000
DTSTAMP:20260425T045945
CREATED:20250724T093203Z
LAST-MODIFIED:20250901T090851Z
UID:56896-1756893600-1756904400@anci.fvg.it
SUMMARY:EVENTO ANNULLATO | Il Servizio Civile con ANCI Friuli Venezia Giulia | Un'opportunità per i Comuni e per il territorio
DESCRIPTION:Organizzato da Anci Veneto per le Regioni di Veneto\, Emilia Romagna e Friuli Venezia Giulia e promosso da ANCI e dal Dipartimento per la Trasformazione Digitale\, con la collaborazione di ACN e PagoPA S.p.a. l’incontro si terrà martedì 28 aprile\, dalle ore 10:00\, presso la Sala Convegni della Provincia di Padova. Nel corso dell’evento saranno approfonditi scenari\, dati ed esperienze concrete\, con particolare attenzione ai temi della sostenibilità e del futuro delle azioni di trasformazione digitale nei Comuni. Durante la mattinata sarà dato spazio agli interventi dei Comuni\, con esperienze provenienti da Veneto\, Emilia-Romagna e Friuli Venezia Giulia\, al fine di favorire il confronto tra i territori. Nel pomeriggio\, invece\, i lavori proseguiranno in due tavoli operativi tematici dedicati alla cybersecurity e a SEND e PDND. 📅  28 Aprile 2026⌚ 10:00📍 Sede della Provincia di Padova in Piazzetta Virgilio Bardella\, 2.🧩PROGRAMMA  La-trasformazione-digitale-dei-Comuni-dopo-il-pnrr✍️ Per partecipare iscriversi attraverso il link https://www.formazionecomune.it/eventi/  
URL:https://anci.fvg.it/evento/il-servizio-civile-con-anci-friuli-venezia-giulia-unopportunita-per-i-comuni-e-per-il-territorio/
LOCATION:Salone del Popolo\, Via Lionello 1\, Udine
CATEGORIES:Appuntamenti ANCI FVG
ATTACH;FMTTYPE=image/jpeg:https://anci.fvg.it/wp-content/uploads/2025/07/scanci-sito.jpg
END:VEVENT
BEGIN:VEVENT
DTSTART;TZID=Europe/Rome:20250903T140000
DTEND;TZID=Europe/Rome:20250903T180000
DTSTAMP:20260425T045945
CREATED:20250718T102341Z
LAST-MODIFIED:20250801T063442Z
UID:56826-1756908000-1756922400@anci.fvg.it
SUMMARY:Corso OLP Servizio Civile Universale
DESCRIPTION:Organizzato da Anci Veneto per le Regioni di Veneto\, Emilia Romagna e Friuli Venezia Giulia e promosso da ANCI e dal Dipartimento per la Trasformazione Digitale\, con la collaborazione di ACN e PagoPA S.p.a. l’incontro si terrà martedì 28 aprile\, dalle ore 10:00\, presso la Sala Convegni della Provincia di Padova. Nel corso dell’evento saranno approfonditi scenari\, dati ed esperienze concrete\, con particolare attenzione ai temi della sostenibilità e del futuro delle azioni di trasformazione digitale nei Comuni. Durante la mattinata sarà dato spazio agli interventi dei Comuni\, con esperienze provenienti da Veneto\, Emilia-Romagna e Friuli Venezia Giulia\, al fine di favorire il confronto tra i territori. Nel pomeriggio\, invece\, i lavori proseguiranno in due tavoli operativi tematici dedicati alla cybersecurity e a SEND e PDND. 📅  28 Aprile 2026⌚ 10:00📍 Sede della Provincia di Padova in Piazzetta Virgilio Bardella\, 2.🧩PROGRAMMA  La-trasformazione-digitale-dei-Comuni-dopo-il-pnrr✍️ Per partecipare iscriversi attraverso il link https://www.formazionecomune.it/eventi/  
URL:https://anci.fvg.it/evento/corso-olp-servizio-civile-universale/
LOCATION:REGIONE FVG\, Corso Italia 61\, Gorizia
CATEGORIES:Appuntamenti ANCI FVG
ATTACH;FMTTYPE=image/jpeg:https://anci.fvg.it/wp-content/uploads/2024/09/ginger.jpg
END:VEVENT
BEGIN:VEVENT
DTSTART;TZID=Europe/Rome:20250910T153000
DTEND;TZID=Europe/Rome:20250910T173000
DTSTAMP:20260425T045945
CREATED:20250930T104532Z
LAST-MODIFIED:20250930T104750Z
UID:57755-1757518200-1757525400@anci.fvg.it
SUMMARY:Ufficio di Presidenza Anci FVG in modalità mista
DESCRIPTION:Organizzato da Anci Veneto per le Regioni di Veneto\, Emilia Romagna e Friuli Venezia Giulia e promosso da ANCI e dal Dipartimento per la Trasformazione Digitale\, con la collaborazione di ACN e PagoPA S.p.a. l’incontro si terrà martedì 28 aprile\, dalle ore 10:00\, presso la Sala Convegni della Provincia di Padova. Nel corso dell’evento saranno approfonditi scenari\, dati ed esperienze concrete\, con particolare attenzione ai temi della sostenibilità e del futuro delle azioni di trasformazione digitale nei Comuni. Durante la mattinata sarà dato spazio agli interventi dei Comuni\, con esperienze provenienti da Veneto\, Emilia-Romagna e Friuli Venezia Giulia\, al fine di favorire il confronto tra i territori. Nel pomeriggio\, invece\, i lavori proseguiranno in due tavoli operativi tematici dedicati alla cybersecurity e a SEND e PDND. 📅  28 Aprile 2026⌚ 10:00📍 Sede della Provincia di Padova in Piazzetta Virgilio Bardella\, 2.🧩PROGRAMMA  La-trasformazione-digitale-dei-Comuni-dopo-il-pnrr✍️ Per partecipare iscriversi attraverso il link https://www.formazionecomune.it/eventi/  
URL:https://anci.fvg.it/evento/ufficio-di-presidenza-anci-fvg-in-modalita-mista/
LOCATION:SEDE ANCI FVG\, Piazza XX Settembre\, 2\, Udine
CATEGORIES:Appuntamenti ANCI FVG
ATTACH;FMTTYPE=image/png:https://anci.fvg.it/wp-content/uploads/2025/01/thumbnail_anci_flavicon1000.png
ORGANIZER;CN="ANCI FVG":MAILTO:info@anci.fvg.it
END:VEVENT
BEGIN:VEVENT
DTSTART;TZID=Europe/Rome:20250912T150000
DTEND;TZID=Europe/Rome:20250912T180000
DTSTAMP:20260425T045945
CREATED:20250901T070731Z
LAST-MODIFIED:20250901T071709Z
UID:57218-1757689200-1757700000@anci.fvg.it
SUMMARY:World Meeting on Human Fraternity
DESCRIPTION:Organizzato da Anci Veneto per le Regioni di Veneto\, Emilia Romagna e Friuli Venezia Giulia e promosso da ANCI e dal Dipartimento per la Trasformazione Digitale\, con la collaborazione di ACN e PagoPA S.p.a. l’incontro si terrà martedì 28 aprile\, dalle ore 10:00\, presso la Sala Convegni della Provincia di Padova. Nel corso dell’evento saranno approfonditi scenari\, dati ed esperienze concrete\, con particolare attenzione ai temi della sostenibilità e del futuro delle azioni di trasformazione digitale nei Comuni. Durante la mattinata sarà dato spazio agli interventi dei Comuni\, con esperienze provenienti da Veneto\, Emilia-Romagna e Friuli Venezia Giulia\, al fine di favorire il confronto tra i territori. Nel pomeriggio\, invece\, i lavori proseguiranno in due tavoli operativi tematici dedicati alla cybersecurity e a SEND e PDND. 📅  28 Aprile 2026⌚ 10:00📍 Sede della Provincia di Padova in Piazzetta Virgilio Bardella\, 2.🧩PROGRAMMA  La-trasformazione-digitale-dei-Comuni-dopo-il-pnrr✍️ Per partecipare iscriversi attraverso il link https://www.formazionecomune.it/eventi/  
URL:https://anci.fvg.it/evento/world-meeting-on-human-fraternity/
LOCATION:Campidoglio\, Portico del Vignola\, Roma\, Italy
CATEGORIES:Eventi nazionali
ATTACH;FMTTYPE=image/jpeg:https://anci.fvg.it/wp-content/uploads/2025/09/SAVE-THE-DATE-Human-Fraternity.jpg
END:VEVENT
BEGIN:VEVENT
DTSTART;TZID=Europe/Rome:20250917T143000
DTEND;TZID=Europe/Rome:20250917T163000
DTSTAMP:20260425T045945
CREATED:20250915T100239Z
LAST-MODIFIED:20250915T100559Z
UID:57465-1758119400-1758126600@anci.fvg.it
SUMMARY:Coordinamento dei giovani Amministratori dell'ANCI Friuli Venezia Giulia
DESCRIPTION:Organizzato da Anci Veneto per le Regioni di Veneto\, Emilia Romagna e Friuli Venezia Giulia e promosso da ANCI e dal Dipartimento per la Trasformazione Digitale\, con la collaborazione di ACN e PagoPA S.p.a. l’incontro si terrà martedì 28 aprile\, dalle ore 10:00\, presso la Sala Convegni della Provincia di Padova. Nel corso dell’evento saranno approfonditi scenari\, dati ed esperienze concrete\, con particolare attenzione ai temi della sostenibilità e del futuro delle azioni di trasformazione digitale nei Comuni. Durante la mattinata sarà dato spazio agli interventi dei Comuni\, con esperienze provenienti da Veneto\, Emilia-Romagna e Friuli Venezia Giulia\, al fine di favorire il confronto tra i territori. Nel pomeriggio\, invece\, i lavori proseguiranno in due tavoli operativi tematici dedicati alla cybersecurity e a SEND e PDND. 📅  28 Aprile 2026⌚ 10:00📍 Sede della Provincia di Padova in Piazzetta Virgilio Bardella\, 2.🧩PROGRAMMA  La-trasformazione-digitale-dei-Comuni-dopo-il-pnrr✍️ Per partecipare iscriversi attraverso il link https://www.formazionecomune.it/eventi/  
URL:https://anci.fvg.it/evento/coordinamento-dei-giovani-amministratori-dellanci-friuli-venezia-giulia/
LOCATION:SEDE ANCI FVG\, Piazza XX Settembre\, 2\, Udine
CATEGORIES:Appuntamenti ANCI FVG
ATTACH;FMTTYPE=image/png:https://anci.fvg.it/wp-content/uploads/2025/01/thumbnail_anci_flavicon1000.png
ORGANIZER;CN="ANCI FVG":MAILTO:info@anci.fvg.it
END:VEVENT
BEGIN:VEVENT
DTSTART;TZID=Europe/Rome:20250918T103000
DTEND;TZID=Europe/Rome:20250918T123000
DTSTAMP:20260425T045945
CREATED:20250912T064016Z
LAST-MODIFIED:20250912T065209Z
UID:57431-1758191400-1758198600@anci.fvg.it
SUMMARY:Carta dedicata a te
DESCRIPTION:Organizzato da Anci Veneto per le Regioni di Veneto\, Emilia Romagna e Friuli Venezia Giulia e promosso da ANCI e dal Dipartimento per la Trasformazione Digitale\, con la collaborazione di ACN e PagoPA S.p.a. l’incontro si terrà martedì 28 aprile\, dalle ore 10:00\, presso la Sala Convegni della Provincia di Padova. Nel corso dell’evento saranno approfonditi scenari\, dati ed esperienze concrete\, con particolare attenzione ai temi della sostenibilità e del futuro delle azioni di trasformazione digitale nei Comuni. Durante la mattinata sarà dato spazio agli interventi dei Comuni\, con esperienze provenienti da Veneto\, Emilia-Romagna e Friuli Venezia Giulia\, al fine di favorire il confronto tra i territori. Nel pomeriggio\, invece\, i lavori proseguiranno in due tavoli operativi tematici dedicati alla cybersecurity e a SEND e PDND. 📅  28 Aprile 2026⌚ 10:00📍 Sede della Provincia di Padova in Piazzetta Virgilio Bardella\, 2.🧩PROGRAMMA  La-trasformazione-digitale-dei-Comuni-dopo-il-pnrr✍️ Per partecipare iscriversi attraverso il link https://www.formazionecomune.it/eventi/  
URL:https://anci.fvg.it/evento/carta-dedicata-a-te/
LOCATION:online
CATEGORIES:Eventi nazionali
ATTACH;FMTTYPE=image/jpeg:https://anci.fvg.it/wp-content/uploads/2025/09/carta.jpg
END:VEVENT
BEGIN:VEVENT
DTSTART;TZID=Europe/Rome:20250919T100000
DTEND;TZID=Europe/Rome:20250919T130000
DTSTAMP:20260425T045945
CREATED:20250801T064218Z
LAST-MODIFIED:20250904T091306Z
UID:56984-1758276000-1758286800@anci.fvg.it
SUMMARY:La Foresta Urbana e i rischi climatici
DESCRIPTION:Organizzato da Anci Veneto per le Regioni di Veneto\, Emilia Romagna e Friuli Venezia Giulia e promosso da ANCI e dal Dipartimento per la Trasformazione Digitale\, con la collaborazione di ACN e PagoPA S.p.a. l’incontro si terrà martedì 28 aprile\, dalle ore 10:00\, presso la Sala Convegni della Provincia di Padova. Nel corso dell’evento saranno approfonditi scenari\, dati ed esperienze concrete\, con particolare attenzione ai temi della sostenibilità e del futuro delle azioni di trasformazione digitale nei Comuni. Durante la mattinata sarà dato spazio agli interventi dei Comuni\, con esperienze provenienti da Veneto\, Emilia-Romagna e Friuli Venezia Giulia\, al fine di favorire il confronto tra i territori. Nel pomeriggio\, invece\, i lavori proseguiranno in due tavoli operativi tematici dedicati alla cybersecurity e a SEND e PDND. 📅  28 Aprile 2026⌚ 10:00📍 Sede della Provincia di Padova in Piazzetta Virgilio Bardella\, 2.🧩PROGRAMMA  La-trasformazione-digitale-dei-Comuni-dopo-il-pnrr✍️ Per partecipare iscriversi attraverso il link https://www.formazionecomune.it/eventi/  
URL:https://anci.fvg.it/evento/la-foresta-urbana-e-i-rischi-climatici/
LOCATION:Parco del Sempione\, Viale Giorgio Byron 2\, Milano
CATEGORIES:Eventi nazionali
ATTACH;FMTTYPE=image/jpeg:https://anci.fvg.it/wp-content/uploads/2025/08/SAVE-THE-DATE-la-FORESTA-URBANA_19-settembre-1-pdf.jpg
END:VEVENT
BEGIN:VEVENT
DTSTART;TZID=Europe/Rome:20250920T090000
DTEND;TZID=Europe/Rome:20251025T130000
DTSTAMP:20260425T045945
CREATED:20250903T125026Z
LAST-MODIFIED:20250903T130412Z
UID:57305-1758358800-1761397200@anci.fvg.it
SUMMARY:CAPIRE E FARE BUONA AMMINISTRAZIONE LOCALE - Percorso formativo per amministratori locali neo eletti
DESCRIPTION:Organizzato da Anci Veneto per le Regioni di Veneto\, Emilia Romagna e Friuli Venezia Giulia e promosso da ANCI e dal Dipartimento per la Trasformazione Digitale\, con la collaborazione di ACN e PagoPA S.p.a. l’incontro si terrà martedì 28 aprile\, dalle ore 10:00\, presso la Sala Convegni della Provincia di Padova. Nel corso dell’evento saranno approfonditi scenari\, dati ed esperienze concrete\, con particolare attenzione ai temi della sostenibilità e del futuro delle azioni di trasformazione digitale nei Comuni. Durante la mattinata sarà dato spazio agli interventi dei Comuni\, con esperienze provenienti da Veneto\, Emilia-Romagna e Friuli Venezia Giulia\, al fine di favorire il confronto tra i territori. Nel pomeriggio\, invece\, i lavori proseguiranno in due tavoli operativi tematici dedicati alla cybersecurity e a SEND e PDND. 📅  28 Aprile 2026⌚ 10:00📍 Sede della Provincia di Padova in Piazzetta Virgilio Bardella\, 2.🧩PROGRAMMA  La-trasformazione-digitale-dei-Comuni-dopo-il-pnrr✍️ Per partecipare iscriversi attraverso il link https://www.formazionecomune.it/eventi/  
URL:https://anci.fvg.it/evento/capire-e-fare-buona-amministrazione-locale-percorso-formativo-per-amministratori-locali-neo-eletti-2/
LOCATION:Sala Polifunzionale Angelo Geatti\, Largo Municipio 12\, Campoformido\, Italy
CATEGORIES:Appuntamenti ANCI FVG,Formazione amministratori locali
ATTACH;FMTTYPE=image/jpeg:https://anci.fvg.it/wp-content/uploads/2025/09/capire-e-fare-2025-campoformido.jpg
END:VEVENT
BEGIN:VEVENT
DTSTART;TZID=Europe/Rome:20250922T090000
DTEND;TZID=Europe/Rome:20250922T130000
DTSTAMP:20260425T045945
CREATED:20250902T041400Z
LAST-MODIFIED:20250912T065313Z
UID:57228-1758531600-1758546000@anci.fvg.it
SUMMARY:Alta formazione sulle politiche UE | Governare il futuro: l’impatto del Quadro Finanziario sull’Europa delle Regioni
DESCRIPTION:Organizzato da Anci Veneto per le Regioni di Veneto\, Emilia Romagna e Friuli Venezia Giulia e promosso da ANCI e dal Dipartimento per la Trasformazione Digitale\, con la collaborazione di ACN e PagoPA S.p.a. l’incontro si terrà martedì 28 aprile\, dalle ore 10:00\, presso la Sala Convegni della Provincia di Padova. Nel corso dell’evento saranno approfonditi scenari\, dati ed esperienze concrete\, con particolare attenzione ai temi della sostenibilità e del futuro delle azioni di trasformazione digitale nei Comuni. Durante la mattinata sarà dato spazio agli interventi dei Comuni\, con esperienze provenienti da Veneto\, Emilia-Romagna e Friuli Venezia Giulia\, al fine di favorire il confronto tra i territori. Nel pomeriggio\, invece\, i lavori proseguiranno in due tavoli operativi tematici dedicati alla cybersecurity e a SEND e PDND. 📅  28 Aprile 2026⌚ 10:00📍 Sede della Provincia di Padova in Piazzetta Virgilio Bardella\, 2.🧩PROGRAMMA  La-trasformazione-digitale-dei-Comuni-dopo-il-pnrr✍️ Per partecipare iscriversi attraverso il link https://www.formazionecomune.it/eventi/  
URL:https://anci.fvg.it/evento/alta-formazione-sulle-politiche-ue-governare-il-futuro-limpatto-del-quadro-finanziario-sulleuropa-delle-regioni/
LOCATION:Fondazione Friuli\, Via Gemona 1\, Udine
CATEGORIES:Altri organizzatori: eventi esterni di interesse degli Enti locali
ATTACH;FMTTYPE=image/png:https://anci.fvg.it/wp-content/uploads/2025/09/22settembre.png
END:VEVENT
BEGIN:VEVENT
DTSTART;TZID=Europe/Rome:20250926T143000
DTEND;TZID=Europe/Rome:20250926T163000
DTSTAMP:20260425T045945
CREATED:20250924T091904Z
LAST-MODIFIED:20250924T094250Z
UID:57664-1758897000-1758904200@anci.fvg.it
SUMMARY:Sindaci per la pace
DESCRIPTION:Organizzato da Anci Veneto per le Regioni di Veneto\, Emilia Romagna e Friuli Venezia Giulia e promosso da ANCI e dal Dipartimento per la Trasformazione Digitale\, con la collaborazione di ACN e PagoPA S.p.a. l’incontro si terrà martedì 28 aprile\, dalle ore 10:00\, presso la Sala Convegni della Provincia di Padova. Nel corso dell’evento saranno approfonditi scenari\, dati ed esperienze concrete\, con particolare attenzione ai temi della sostenibilità e del futuro delle azioni di trasformazione digitale nei Comuni. Durante la mattinata sarà dato spazio agli interventi dei Comuni\, con esperienze provenienti da Veneto\, Emilia-Romagna e Friuli Venezia Giulia\, al fine di favorire il confronto tra i territori. Nel pomeriggio\, invece\, i lavori proseguiranno in due tavoli operativi tematici dedicati alla cybersecurity e a SEND e PDND. 📅  28 Aprile 2026⌚ 10:00📍 Sede della Provincia di Padova in Piazzetta Virgilio Bardella\, 2.🧩PROGRAMMA  La-trasformazione-digitale-dei-Comuni-dopo-il-pnrr✍️ Per partecipare iscriversi attraverso il link https://www.formazionecomune.it/eventi/  
URL:https://anci.fvg.it/evento/sindaci-per-la-pace/
LOCATION:Parco della pace\, Strada Sant'Antonino\, Vicenza
CATEGORIES:Eventi nazionali
ATTACH;FMTTYPE=image/jpeg:https://anci.fvg.it/wp-content/uploads/2025/09/sindacipace.jpg
END:VEVENT
END:VCALENDAR