BEGIN:VCALENDAR
VERSION:2.0
PRODID:-//Anci FVG - ECPv6.15.12.2//NONSGML v1.0//EN
CALSCALE:GREGORIAN
METHOD:PUBLISH
X-ORIGINAL-URL:https://anci.fvg.it
X-WR-CALDESC:Eventi per Anci FVG
REFRESH-INTERVAL;VALUE=DURATION:PT1H
X-Robots-Tag:noindex
X-PUBLISHED-TTL:PT1H
BEGIN:VTIMEZONE
TZID:Europe/Rome
BEGIN:DAYLIGHT
TZOFFSETFROM:+0100
TZOFFSETTO:+0200
TZNAME:CEST
DTSTART:20250330T010000
END:DAYLIGHT
BEGIN:STANDARD
TZOFFSETFROM:+0200
TZOFFSETTO:+0100
TZNAME:CET
DTSTART:20251026T010000
END:STANDARD
BEGIN:DAYLIGHT
TZOFFSETFROM:+0100
TZOFFSETTO:+0200
TZNAME:CEST
DTSTART:20260329T010000
END:DAYLIGHT
BEGIN:STANDARD
TZOFFSETFROM:+0200
TZOFFSETTO:+0100
TZNAME:CET
DTSTART:20261025T010000
END:STANDARD
BEGIN:DAYLIGHT
TZOFFSETFROM:+0100
TZOFFSETTO:+0200
TZNAME:CEST
DTSTART:20270328T010000
END:DAYLIGHT
BEGIN:STANDARD
TZOFFSETFROM:+0200
TZOFFSETTO:+0100
TZNAME:CET
DTSTART:20271031T010000
END:STANDARD
END:VTIMEZONE
BEGIN:VEVENT
DTSTART;TZID=Europe/Rome:20260108T140000
DTEND;TZID=Europe/Rome:20260108T160000
DTSTAMP:20260425T121927
CREATED:20251222T103214Z
LAST-MODIFIED:20251222T104243Z
UID:60325-1767880800-1767888000@anci.fvg.it
SUMMARY:SAVE THE DATE | Il RAV e il Sistema Nazionale di Valutazione 2025-2028 nelle scuole dell’infanzia paritarie
DESCRIPTION:Organizzato da Anci Veneto per le Regioni di Veneto\, Emilia Romagna e Friuli Venezia Giulia e promosso da ANCI e dal Dipartimento per la Trasformazione Digitale\, con la collaborazione di ACN e PagoPA S.p.a. l’incontro si terrà martedì 28 aprile\, dalle ore 10:00\, presso la Sala Convegni della Provincia di Padova. Nel corso dell’evento saranno approfonditi scenari\, dati ed esperienze concrete\, con particolare attenzione ai temi della sostenibilità e del futuro delle azioni di trasformazione digitale nei Comuni. Durante la mattinata sarà dato spazio agli interventi dei Comuni\, con esperienze provenienti da Veneto\, Emilia-Romagna e Friuli Venezia Giulia\, al fine di favorire il confronto tra i territori. Nel pomeriggio\, invece\, i lavori proseguiranno in due tavoli operativi tematici dedicati alla cybersecurity e a SEND e PDND. 📅  28 Aprile 2026⌚ 10:00📍 Sede della Provincia di Padova in Piazzetta Virgilio Bardella\, 2.🧩PROGRAMMA  La-trasformazione-digitale-dei-Comuni-dopo-il-pnrr✍️ Per partecipare iscriversi attraverso il link https://www.formazionecomune.it/eventi/  
URL:https://anci.fvg.it/evento/save-the-date-il-rav-e-il-sistema-nazionale-di-valutazione-2025-2028-nelle-scuole-dellinfanzia-paritarie/
LOCATION:on line
CATEGORIES:Eventi nazionali
ATTACH;FMTTYPE=image/jpeg:https://anci.fvg.it/wp-content/uploads/2022/02/Le-nuove-regole-per-la-scuola_imagefull-e1764318187472.jpg
END:VEVENT
BEGIN:VEVENT
DTSTART;TZID=Europe/Rome:20260109T110000
DTEND;TZID=Europe/Rome:20260109T123000
DTSTAMP:20260425T121927
CREATED:20251223T092507Z
LAST-MODIFIED:20260109T091019Z
UID:60365-1767956400-1767961800@anci.fvg.it
SUMMARY:La gestione del Bonus sociale rifiuti: l’operatività nel Sistema SGAte
DESCRIPTION:Organizzato da Anci Veneto per le Regioni di Veneto\, Emilia Romagna e Friuli Venezia Giulia e promosso da ANCI e dal Dipartimento per la Trasformazione Digitale\, con la collaborazione di ACN e PagoPA S.p.a. l’incontro si terrà martedì 28 aprile\, dalle ore 10:00\, presso la Sala Convegni della Provincia di Padova. Nel corso dell’evento saranno approfonditi scenari\, dati ed esperienze concrete\, con particolare attenzione ai temi della sostenibilità e del futuro delle azioni di trasformazione digitale nei Comuni. Durante la mattinata sarà dato spazio agli interventi dei Comuni\, con esperienze provenienti da Veneto\, Emilia-Romagna e Friuli Venezia Giulia\, al fine di favorire il confronto tra i territori. Nel pomeriggio\, invece\, i lavori proseguiranno in due tavoli operativi tematici dedicati alla cybersecurity e a SEND e PDND. 📅  28 Aprile 2026⌚ 10:00📍 Sede della Provincia di Padova in Piazzetta Virgilio Bardella\, 2.🧩PROGRAMMA  La-trasformazione-digitale-dei-Comuni-dopo-il-pnrr✍️ Per partecipare iscriversi attraverso il link https://www.formazionecomune.it/eventi/  
URL:https://anci.fvg.it/evento/save-the-date-il-clima-che-cambia-il-ruolo-dei-comuni-e-gli-strumenti-di-pianificazione/
LOCATION:online
CATEGORIES:Eventi nazionali
ATTACH;FMTTYPE=image/jpeg:https://anci.fvg.it/wp-content/uploads/2025/12/webinar.jpg
END:VEVENT
BEGIN:VEVENT
DTSTART;TZID=Europe/Rome:20260112T173000
DTEND;TZID=Europe/Rome:20260112T190000
DTSTAMP:20260425T121927
CREATED:20251216T125418Z
LAST-MODIFIED:20251217T071739Z
UID:60064-1768239000-1768244400@anci.fvg.it
SUMMARY:SPES | Scuola di Politica ed etica sociale: gli incontri di gennaio
DESCRIPTION:Organizzato da Anci Veneto per le Regioni di Veneto\, Emilia Romagna e Friuli Venezia Giulia e promosso da ANCI e dal Dipartimento per la Trasformazione Digitale\, con la collaborazione di ACN e PagoPA S.p.a. l’incontro si terrà martedì 28 aprile\, dalle ore 10:00\, presso la Sala Convegni della Provincia di Padova. Nel corso dell’evento saranno approfonditi scenari\, dati ed esperienze concrete\, con particolare attenzione ai temi della sostenibilità e del futuro delle azioni di trasformazione digitale nei Comuni. Durante la mattinata sarà dato spazio agli interventi dei Comuni\, con esperienze provenienti da Veneto\, Emilia-Romagna e Friuli Venezia Giulia\, al fine di favorire il confronto tra i territori. Nel pomeriggio\, invece\, i lavori proseguiranno in due tavoli operativi tematici dedicati alla cybersecurity e a SEND e PDND. 📅  28 Aprile 2026⌚ 10:00📍 Sede della Provincia di Padova in Piazzetta Virgilio Bardella\, 2.🧩PROGRAMMA  La-trasformazione-digitale-dei-Comuni-dopo-il-pnrr✍️ Per partecipare iscriversi attraverso il link https://www.formazionecomune.it/eventi/  
URL:https://anci.fvg.it/evento/spes-scuola-di-politica-ed-etica-sociale-gli-incontri-di-gennaio/
LOCATION:Palazzo Garzolini-Di Toppo-Wasserman\, Via Gemona 92\, Udine
CATEGORIES:Altri organizzatori: eventi esterni di interesse degli Enti locali
ATTACH;FMTTYPE=image/jpeg:https://anci.fvg.it/wp-content/uploads/2025/05/Banner-SPES-2025-2026-1024x768-1.jpg
END:VEVENT
BEGIN:VEVENT
DTSTART;TZID=Europe/Rome:20260114T100000
DTEND;TZID=Europe/Rome:20260114T130000
DTSTAMP:20260425T121927
CREATED:20260109T083302Z
LAST-MODIFIED:20260109T091048Z
UID:60510-1768384800-1768395600@anci.fvg.it
SUMMARY:Fondo povertà: Le linee Guida della quota servizi e della quota povertà estrema 2024-2026 e la programmazione delle risorse
DESCRIPTION:Organizzato da Anci Veneto per le Regioni di Veneto\, Emilia Romagna e Friuli Venezia Giulia e promosso da ANCI e dal Dipartimento per la Trasformazione Digitale\, con la collaborazione di ACN e PagoPA S.p.a. l’incontro si terrà martedì 28 aprile\, dalle ore 10:00\, presso la Sala Convegni della Provincia di Padova. Nel corso dell’evento saranno approfonditi scenari\, dati ed esperienze concrete\, con particolare attenzione ai temi della sostenibilità e del futuro delle azioni di trasformazione digitale nei Comuni. Durante la mattinata sarà dato spazio agli interventi dei Comuni\, con esperienze provenienti da Veneto\, Emilia-Romagna e Friuli Venezia Giulia\, al fine di favorire il confronto tra i territori. Nel pomeriggio\, invece\, i lavori proseguiranno in due tavoli operativi tematici dedicati alla cybersecurity e a SEND e PDND. 📅  28 Aprile 2026⌚ 10:00📍 Sede della Provincia di Padova in Piazzetta Virgilio Bardella\, 2.🧩PROGRAMMA  La-trasformazione-digitale-dei-Comuni-dopo-il-pnrr✍️ Per partecipare iscriversi attraverso il link https://www.formazionecomune.it/eventi/  
URL:https://anci.fvg.it/evento/fondo-poverta-le-linee-guida-della-quota-servizi-e-della-quota-poverta-estrema-2024-2026-e-la-programmazione-delle-risorse/
LOCATION:online
CATEGORIES:Eventi nazionali
ATTACH;FMTTYPE=image/jpeg:https://anci.fvg.it/wp-content/uploads/2025/12/webinar.jpg
END:VEVENT
BEGIN:VEVENT
DTSTART;TZID=Europe/Rome:20260123T100000
DTEND;TZID=Europe/Rome:20260123T120000
DTSTAMP:20260425T121927
CREATED:20260120T115645Z
LAST-MODIFIED:20260120T120236Z
UID:60865-1769162400-1769169600@anci.fvg.it
SUMMARY:Piano per asili nido e scuole dell’infanzia in un webinar le indicazioni per l’ultimazione degli interventi
DESCRIPTION:Organizzato da Anci Veneto per le Regioni di Veneto\, Emilia Romagna e Friuli Venezia Giulia e promosso da ANCI e dal Dipartimento per la Trasformazione Digitale\, con la collaborazione di ACN e PagoPA S.p.a. l’incontro si terrà martedì 28 aprile\, dalle ore 10:00\, presso la Sala Convegni della Provincia di Padova. Nel corso dell’evento saranno approfonditi scenari\, dati ed esperienze concrete\, con particolare attenzione ai temi della sostenibilità e del futuro delle azioni di trasformazione digitale nei Comuni. Durante la mattinata sarà dato spazio agli interventi dei Comuni\, con esperienze provenienti da Veneto\, Emilia-Romagna e Friuli Venezia Giulia\, al fine di favorire il confronto tra i territori. Nel pomeriggio\, invece\, i lavori proseguiranno in due tavoli operativi tematici dedicati alla cybersecurity e a SEND e PDND. 📅  28 Aprile 2026⌚ 10:00📍 Sede della Provincia di Padova in Piazzetta Virgilio Bardella\, 2.🧩PROGRAMMA  La-trasformazione-digitale-dei-Comuni-dopo-il-pnrr✍️ Per partecipare iscriversi attraverso il link https://www.formazionecomune.it/eventi/  
URL:https://anci.fvg.it/evento/piano-per-asili-nido-e-scuole-dellinfanzia-in-un-webinar-le-indicazioni-per-lultimazione-degli-interventi/
LOCATION:online
CATEGORIES:Altri organizzatori: eventi esterni di interesse degli Enti locali,Eventi nazionali
ATTACH;FMTTYPE=image/jpeg:https://anci.fvg.it/wp-content/uploads/2025/12/webinar.jpg
END:VEVENT
BEGIN:VEVENT
DTSTART;TZID=Europe/Rome:20260126T110000
DTEND;TZID=Europe/Rome:20260126T130000
DTSTAMP:20260425T121927
CREATED:20260113T082922Z
LAST-MODIFIED:20260126T095936Z
UID:60579-1769425200-1769432400@anci.fvg.it
SUMMARY:I Comuni italiani contro la violenza sulle donne
DESCRIPTION:Organizzato da Anci Veneto per le Regioni di Veneto\, Emilia Romagna e Friuli Venezia Giulia e promosso da ANCI e dal Dipartimento per la Trasformazione Digitale\, con la collaborazione di ACN e PagoPA S.p.a. l’incontro si terrà martedì 28 aprile\, dalle ore 10:00\, presso la Sala Convegni della Provincia di Padova. Nel corso dell’evento saranno approfonditi scenari\, dati ed esperienze concrete\, con particolare attenzione ai temi della sostenibilità e del futuro delle azioni di trasformazione digitale nei Comuni. Durante la mattinata sarà dato spazio agli interventi dei Comuni\, con esperienze provenienti da Veneto\, Emilia-Romagna e Friuli Venezia Giulia\, al fine di favorire il confronto tra i territori. Nel pomeriggio\, invece\, i lavori proseguiranno in due tavoli operativi tematici dedicati alla cybersecurity e a SEND e PDND. 📅  28 Aprile 2026⌚ 10:00📍 Sede della Provincia di Padova in Piazzetta Virgilio Bardella\, 2.🧩PROGRAMMA  La-trasformazione-digitale-dei-Comuni-dopo-il-pnrr✍️ Per partecipare iscriversi attraverso il link https://www.formazionecomune.it/eventi/  
URL:https://anci.fvg.it/evento/i-comuni-italiani-contro-la-violenza-sulle-donne/
LOCATION:online
CATEGORIES:Eventi nazionali,Seminari tematici e visite studio
ATTACH;FMTTYPE=image/jpeg:https://anci.fvg.it/wp-content/uploads/2026/01/violenzadonne_comuni.jpg
END:VEVENT
BEGIN:VEVENT
DTSTART;TZID=Europe/Rome:20260126T173000
DTEND;TZID=Europe/Rome:20260126T190000
DTSTAMP:20260425T121927
CREATED:20260115T090649Z
LAST-MODIFIED:20260115T090931Z
UID:60649-1769448600-1769454000@anci.fvg.it
SUMMARY:SPES | Scuola di Politica ed etica sociale: il prossimo incontro di gennaio
DESCRIPTION:Organizzato da Anci Veneto per le Regioni di Veneto\, Emilia Romagna e Friuli Venezia Giulia e promosso da ANCI e dal Dipartimento per la Trasformazione Digitale\, con la collaborazione di ACN e PagoPA S.p.a. l’incontro si terrà martedì 28 aprile\, dalle ore 10:00\, presso la Sala Convegni della Provincia di Padova. Nel corso dell’evento saranno approfonditi scenari\, dati ed esperienze concrete\, con particolare attenzione ai temi della sostenibilità e del futuro delle azioni di trasformazione digitale nei Comuni. Durante la mattinata sarà dato spazio agli interventi dei Comuni\, con esperienze provenienti da Veneto\, Emilia-Romagna e Friuli Venezia Giulia\, al fine di favorire il confronto tra i territori. Nel pomeriggio\, invece\, i lavori proseguiranno in due tavoli operativi tematici dedicati alla cybersecurity e a SEND e PDND. 📅  28 Aprile 2026⌚ 10:00📍 Sede della Provincia di Padova in Piazzetta Virgilio Bardella\, 2.🧩PROGRAMMA  La-trasformazione-digitale-dei-Comuni-dopo-il-pnrr✍️ Per partecipare iscriversi attraverso il link https://www.formazionecomune.it/eventi/  
URL:https://anci.fvg.it/evento/spes-scuola-di-politica-ed-etica-sociale-il-prossimo-incontro-di-gennaio/
LOCATION:Palazzo Garzolini-Di Toppo-Wasserman\, Via Gemona 92\, Udine
CATEGORIES:Altri organizzatori: eventi esterni di interesse degli Enti locali
ATTACH;FMTTYPE=image/jpeg:https://anci.fvg.it/wp-content/uploads/2025/05/Banner-SPES-2025-2026-1024x768-1.jpg
END:VEVENT
BEGIN:VEVENT
DTSTART;TZID=Europe/Rome:20260128T150000
DTEND;TZID=Europe/Rome:20260128T163000
DTSTAMP:20260425T121927
CREATED:20260127T104458Z
LAST-MODIFIED:20260127T104553Z
UID:61360-1769612400-1769617800@anci.fvg.it
SUMMARY:Ufficio di Presidenza Anci FVG | Mercoledì 28 gennaio 2026
DESCRIPTION:Organizzato da Anci Veneto per le Regioni di Veneto\, Emilia Romagna e Friuli Venezia Giulia e promosso da ANCI e dal Dipartimento per la Trasformazione Digitale\, con la collaborazione di ACN e PagoPA S.p.a. l’incontro si terrà martedì 28 aprile\, dalle ore 10:00\, presso la Sala Convegni della Provincia di Padova. Nel corso dell’evento saranno approfonditi scenari\, dati ed esperienze concrete\, con particolare attenzione ai temi della sostenibilità e del futuro delle azioni di trasformazione digitale nei Comuni. Durante la mattinata sarà dato spazio agli interventi dei Comuni\, con esperienze provenienti da Veneto\, Emilia-Romagna e Friuli Venezia Giulia\, al fine di favorire il confronto tra i territori. Nel pomeriggio\, invece\, i lavori proseguiranno in due tavoli operativi tematici dedicati alla cybersecurity e a SEND e PDND. 📅  28 Aprile 2026⌚ 10:00📍 Sede della Provincia di Padova in Piazzetta Virgilio Bardella\, 2.🧩PROGRAMMA  La-trasformazione-digitale-dei-Comuni-dopo-il-pnrr✍️ Per partecipare iscriversi attraverso il link https://www.formazionecomune.it/eventi/  
URL:https://anci.fvg.it/evento/ufficio-di-presidenza-anci-fvg-mercoledi-28-gennaio-2026/
LOCATION:SEDE ANCI FVG\, Piazza XX Settembre\, 2\, Udine
CATEGORIES:Appuntamenti ANCI FVG
ATTACH;FMTTYPE=image/png:https://anci.fvg.it/wp-content/uploads/2025/01/thumbnail_anci_flavicon1000.png
ORGANIZER;CN="ANCI FVG":MAILTO:info@anci.fvg.it
END:VEVENT
BEGIN:VEVENT
DTSTART;TZID=Europe/Rome:20260130T110000
DTEND;TZID=Europe/Rome:20260130T130000
DTSTAMP:20260425T121927
CREATED:20260123T083216Z
LAST-MODIFIED:20260123T084450Z
UID:61156-1769770800-1769778000@anci.fvg.it
SUMMARY:Webinar di aggiornamento sulle assunzioni negli ATS
DESCRIPTION:Organizzato da Anci Veneto per le Regioni di Veneto\, Emilia Romagna e Friuli Venezia Giulia e promosso da ANCI e dal Dipartimento per la Trasformazione Digitale\, con la collaborazione di ACN e PagoPA S.p.a. l’incontro si terrà martedì 28 aprile\, dalle ore 10:00\, presso la Sala Convegni della Provincia di Padova. Nel corso dell’evento saranno approfonditi scenari\, dati ed esperienze concrete\, con particolare attenzione ai temi della sostenibilità e del futuro delle azioni di trasformazione digitale nei Comuni. Durante la mattinata sarà dato spazio agli interventi dei Comuni\, con esperienze provenienti da Veneto\, Emilia-Romagna e Friuli Venezia Giulia\, al fine di favorire il confronto tra i territori. Nel pomeriggio\, invece\, i lavori proseguiranno in due tavoli operativi tematici dedicati alla cybersecurity e a SEND e PDND. 📅  28 Aprile 2026⌚ 10:00📍 Sede della Provincia di Padova in Piazzetta Virgilio Bardella\, 2.🧩PROGRAMMA  La-trasformazione-digitale-dei-Comuni-dopo-il-pnrr✍️ Per partecipare iscriversi attraverso il link https://www.formazionecomune.it/eventi/  
URL:https://anci.fvg.it/evento/webinar-di-aggiornamento-sulle-assunzioni-negli-ats/
LOCATION:online
CATEGORIES:Altri organizzatori: eventi esterni di interesse degli Enti locali,Eventi nazionali
ATTACH;FMTTYPE=image/jpeg:https://anci.fvg.it/wp-content/uploads/2025/12/webinar.jpg
END:VEVENT
END:VCALENDAR