BEGIN:VCALENDAR
VERSION:2.0
PRODID:-//Anci FVG - ECPv6.15.12.2//NONSGML v1.0//EN
CALSCALE:GREGORIAN
METHOD:PUBLISH
X-WR-CALNAME:Anci FVG
X-ORIGINAL-URL:https://anci.fvg.it
X-WR-CALDESC:Eventi per Anci FVG
REFRESH-INTERVAL;VALUE=DURATION:PT1H
X-Robots-Tag:noindex
X-PUBLISHED-TTL:PT1H
BEGIN:VTIMEZONE
TZID:Europe/Rome
BEGIN:DAYLIGHT
TZOFFSETFROM:+0100
TZOFFSETTO:+0200
TZNAME:CEST
DTSTART:20250330T010000
END:DAYLIGHT
BEGIN:STANDARD
TZOFFSETFROM:+0200
TZOFFSETTO:+0100
TZNAME:CET
DTSTART:20251026T010000
END:STANDARD
BEGIN:DAYLIGHT
TZOFFSETFROM:+0100
TZOFFSETTO:+0200
TZNAME:CEST
DTSTART:20260329T010000
END:DAYLIGHT
BEGIN:STANDARD
TZOFFSETFROM:+0200
TZOFFSETTO:+0100
TZNAME:CET
DTSTART:20261025T010000
END:STANDARD
BEGIN:DAYLIGHT
TZOFFSETFROM:+0100
TZOFFSETTO:+0200
TZNAME:CEST
DTSTART:20270328T010000
END:DAYLIGHT
BEGIN:STANDARD
TZOFFSETFROM:+0200
TZOFFSETTO:+0100
TZNAME:CET
DTSTART:20271031T010000
END:STANDARD
END:VTIMEZONE
BEGIN:VEVENT
DTSTART;TZID=Europe/Rome:20260306T110000
DTEND;TZID=Europe/Rome:20260306T120000
DTSTAMP:20260421T222729
CREATED:20260213T063712Z
LAST-MODIFIED:20260225T071924Z
UID:62148-1772794800-1772798400@anci.fvg.it
SUMMARY:Acqua\, Ambiente e Sviluppo
DESCRIPTION:Si fa seguito alla nota del Ministero dell’Ambiente e della Sicurezza Energetica (MASE) – Direzione Generale Valutazioni Ambientali (prot. n. 0028054 del 10/02/2026) riguardante le modalità di utilizzo e rendicontazione delle somme derivanti dalle sanzioni amministrative in materia di inquinamento acustico. In base a quanto disposto dall’art. 10 della Legge 447/1995 il 70% delle somme derivanti dalle sanzioni è riassegnato ai Comuni per il finanziamento dei piani di risanamento acustico e alle agenzie per la protezione ambientale (ARPA) per le attività di controllo. I Comuni che hanno ricevuto tali fondi sono tenuti a trasmettere alla propria Regione una rendicontazione giustificativa e una relazione tecnica sulle modalità di utilizzo delle somme entro il 31 marzo di ogni anno. Successivamente\, entro il 31 maggio\, le Regioni provvederanno a trasmettere tali dati al Ministero. Al fine di garantire il corretto assolvimento degli obblighi normativi e scongiurare la perdita di futuri finanziamenti\, la sede nazionale chiede alle ANCI regionali di diffondere la nota ministeriale allegata ai Comuni del proprio territorio sensibilizzando gli uffici comunali (Ambiente/Polizia Locale) affinchè predispongano la documentazione necessaria entro la scadenza imminente del 31 marzo 2026. ALLEGATO MASE_richiesta rendicontazione sanzioni acustico   								\n				\n					\n		\n					\n		\n				\n						\n					\n			\n						\n						\n					\n			\n						\n				\n									 SOCIAL MEDIA								\n				\n				\n				\n							\n							\n					\n						Facebook\n											\n				\n							\n					\n						Twitter\n											\n				\n							\n					\n						Instagram
URL:https://anci.fvg.it/evento/acqua-ambiente-e-sviluppo/
LOCATION:online
CATEGORIES:Altri organizzatori: eventi esterni di interesse degli Enti locali
ATTACH;FMTTYPE=image/png:https://anci.fvg.it/wp-content/uploads/2026/02/ambiente.png
END:VEVENT
END:VCALENDAR