BEGIN:VCALENDAR
VERSION:2.0
PRODID:-//Anci FVG - ECPv6.15.12.2//NONSGML v1.0//EN
CALSCALE:GREGORIAN
METHOD:PUBLISH
X-WR-CALNAME:Anci FVG
X-ORIGINAL-URL:https://anci.fvg.it
X-WR-CALDESC:Eventi per Anci FVG
REFRESH-INTERVAL;VALUE=DURATION:PT1H
X-Robots-Tag:noindex
X-PUBLISHED-TTL:PT1H
BEGIN:VTIMEZONE
TZID:Europe/Rome
BEGIN:DAYLIGHT
TZOFFSETFROM:+0100
TZOFFSETTO:+0200
TZNAME:CEST
DTSTART:20240331T010000
END:DAYLIGHT
BEGIN:STANDARD
TZOFFSETFROM:+0200
TZOFFSETTO:+0100
TZNAME:CET
DTSTART:20241027T010000
END:STANDARD
BEGIN:DAYLIGHT
TZOFFSETFROM:+0100
TZOFFSETTO:+0200
TZNAME:CEST
DTSTART:20250330T010000
END:DAYLIGHT
BEGIN:STANDARD
TZOFFSETFROM:+0200
TZOFFSETTO:+0100
TZNAME:CET
DTSTART:20251026T010000
END:STANDARD
BEGIN:DAYLIGHT
TZOFFSETFROM:+0100
TZOFFSETTO:+0200
TZNAME:CEST
DTSTART:20260329T010000
END:DAYLIGHT
BEGIN:STANDARD
TZOFFSETFROM:+0200
TZOFFSETTO:+0100
TZNAME:CET
DTSTART:20261025T010000
END:STANDARD
END:VTIMEZONE
BEGIN:VEVENT
DTSTART;TZID=Europe/Rome:20250917T143000
DTEND;TZID=Europe/Rome:20250917T163000
DTSTAMP:20260420T151045
CREATED:20250915T100239Z
LAST-MODIFIED:20250915T100559Z
UID:57465-1758119400-1758126600@anci.fvg.it
SUMMARY:Coordinamento dei giovani Amministratori dell'ANCI Friuli Venezia Giulia
DESCRIPTION:Il 23 Maggio a Trieste un evento per costruire politiche giovanili sempre più integrate e innovative su scala regionale				\n				\n				\n				\n									di Lorenzo Degrassi Si è riunito mercoledì 15 Aprile a Trieste il direttivo di ANCI Giovani Friuli Venezia Giulia\, in un incontro dal forte valore istituzionale e territoriale\, pensato non solo come momento organizzativo interno ma come tappa strategica di avvicinamento al prossimo evento regionale dedicato alle politiche giovanili. La scelta di svolgere il direttivo in forma itinerante rappresenta un elemento qualificante dell’azione giovanile dell’Anci: portare il confronto direttamente nei territori significa rafforzare la rete tra amministratori under 35\, valorizzare le esperienze locali e costruire politiche pubbliche più aderenti ai bisogni reali delle comunità. «È proprio attraverso questo metodo di lavoro diffuso e partecipato che si consolida una classe amministrativa giovane\, competente e capace di condividere strumenti concreti di governo locale – spiega Mirko Martini -: l’incontro triestino è stato inoltre l’occasione per avviare ufficialmente il percorso verso il prossimo appuntamento regionale di ANCI Giovani FVG che si terrà il 23 maggio\, durante il quale saranno presentate e messe a confronto le principali buone pratiche in materia di politiche giovanili sviluppate nei Comuni della Regione». Tra queste sarà illustrata anche l’esperienza del PAG – Progetto Area Giovani del Comune di Trieste\, modello significativo di intervento territoriale orientato alla partecipazione\, alla crescita personale e alla costruzione di opportunità per le nuove generazioni. Poi l’evento si sposterà presso Urban Center con l’obiettivo dell’iniziativa regionale che sarà quello di creare uno spazio strutturato di ascolto e condivisione tra amministratori locali\, favorendo una crescita comune attraverso lo scambio di esperienze amministrative efficaci e replicabili. Un percorso che rafforza la cooperazione istituzionale e contribuisce a costruire politiche giovanili sempre più integrate e innovative su scala regionale. Al direttivo hanno partecipato in presenza Matteo Bassi\, assessore del Comune di Manzano\, Anna Morsut\, assessora del Comune di Campolongo Tapogliano\, Mirko Martini\, consigliere comunale di Trieste e da remoto Enrico Papais\, vice sindaco del Comune di Ronchi dei Legionari\, Arianna Facchini\, assessora del Comune di Udine e Sara Tosolini\, sindaca di Treppo Grande. Da sinistra\, Martini\, Morsut e Bassi nella Sala consiliare del Comune di Trieste  								\n				\n					\n		\n					\n		\n				\n						\n					\n			\n							\n		\n					\n		\n				\n						\n					\n			\n						\n				\n									 SOCIAL MEDIA								\n				\n				\n				\n							\n							\n					\n						Facebook\n											\n				\n							\n					\n						Twitter\n											\n				\n							\n					\n						Instagram
URL:https://anci.fvg.it/evento/coordinamento-dei-giovani-amministratori-dellanci-friuli-venezia-giulia/
LOCATION:SEDE ANCI FVG\, Piazza XX Settembre\, 2\, Udine
CATEGORIES:Appuntamenti ANCI FVG
ATTACH;FMTTYPE=image/png:https://anci.fvg.it/wp-content/uploads/2025/01/thumbnail_anci_flavicon1000.png
ORGANIZER;CN="ANCI FVG":MAILTO:info@anci.fvg.it
END:VEVENT
END:VCALENDAR