BEGIN:VCALENDAR
VERSION:2.0
PRODID:-//Anci FVG - ECPv6.15.12.2//NONSGML v1.0//EN
CALSCALE:GREGORIAN
METHOD:PUBLISH
X-ORIGINAL-URL:https://anci.fvg.it
X-WR-CALDESC:Eventi per Anci FVG
REFRESH-INTERVAL;VALUE=DURATION:PT1H
X-Robots-Tag:noindex
X-PUBLISHED-TTL:PT1H
BEGIN:VTIMEZONE
TZID:Europe/Rome
BEGIN:DAYLIGHT
TZOFFSETFROM:+0100
TZOFFSETTO:+0200
TZNAME:CEST
DTSTART:20230326T010000
END:DAYLIGHT
BEGIN:STANDARD
TZOFFSETFROM:+0200
TZOFFSETTO:+0100
TZNAME:CET
DTSTART:20231029T010000
END:STANDARD
BEGIN:DAYLIGHT
TZOFFSETFROM:+0100
TZOFFSETTO:+0200
TZNAME:CEST
DTSTART:20240331T010000
END:DAYLIGHT
BEGIN:STANDARD
TZOFFSETFROM:+0200
TZOFFSETTO:+0100
TZNAME:CET
DTSTART:20241027T010000
END:STANDARD
BEGIN:DAYLIGHT
TZOFFSETFROM:+0100
TZOFFSETTO:+0200
TZNAME:CEST
DTSTART:20250330T010000
END:DAYLIGHT
BEGIN:STANDARD
TZOFFSETFROM:+0200
TZOFFSETTO:+0100
TZNAME:CET
DTSTART:20251026T010000
END:STANDARD
END:VTIMEZONE
BEGIN:VEVENT
DTSTART;TZID=Europe/Rome:20241129T160000
DTEND;TZID=Europe/Rome:20241129T180000
DTSTAMP:20260420T121353
CREATED:20241031T113123Z
LAST-MODIFIED:20241114T110200Z
UID:51228-1732896000-1732903200@anci.fvg.it
SUMMARY:Assemblea dei Comuni per i 50 anni di ANCI FVG
DESCRIPTION:In allegato l’informativa sull’attività istituzionale dell’ANCI relativa al primo trimestre 2026. All’ interno sono presenti i principali provvedimenti di interesse per i Comuni e le Città metropolitane all’ esame del Parlamento\, i documenti relativi alle audizioni parlamentari alle quali ha partecipato l’ ANCI nonché i provvedimenti discussi nelle sedi di concertazione quali la Conferenza Unificata e Stato Città. Sono presenti altresì i webinar tematici e la giurisprudenza più recente sui temi di interesse. ALLEGATO Informativa attività istituzionale n. 1- 2026 								\n				\n					\n		\n					\n		\n				\n						\n					\n			\n						\n						\n					\n			\n						\n				\n									 SOCIAL MEDIA								\n				\n				\n				\n							\n							\n					\n						Facebook\n											\n				\n							\n					\n						Twitter\n											\n				\n							\n					\n						Instagram
URL:https://anci.fvg.it/evento/save-the-date-assemblea-dei-comuni-per-i-50-anni-di-anci-fvg/
LOCATION:Auditorium delle Grazie\, Via Pracchiuso 21\, Udine
CATEGORIES:Appuntamenti ANCI FVG
ATTACH;FMTTYPE=image/jpeg:https://anci.fvg.it/wp-content/uploads/2024/10/2024-anci50-1.jpg
END:VEVENT
END:VCALENDAR