BEGIN:VCALENDAR
VERSION:2.0
PRODID:-//Anci FVG - ECPv6.15.12.2//NONSGML v1.0//EN
CALSCALE:GREGORIAN
METHOD:PUBLISH
X-ORIGINAL-URL:https://anci.fvg.it
X-WR-CALDESC:Eventi per Anci FVG
REFRESH-INTERVAL;VALUE=DURATION:PT1H
X-Robots-Tag:noindex
X-PUBLISHED-TTL:PT1H
BEGIN:VTIMEZONE
TZID:Europe/Rome
BEGIN:DAYLIGHT
TZOFFSETFROM:+0100
TZOFFSETTO:+0200
TZNAME:CEST
DTSTART:20220327T010000
END:DAYLIGHT
BEGIN:STANDARD
TZOFFSETFROM:+0200
TZOFFSETTO:+0100
TZNAME:CET
DTSTART:20221030T010000
END:STANDARD
BEGIN:DAYLIGHT
TZOFFSETFROM:+0100
TZOFFSETTO:+0200
TZNAME:CEST
DTSTART:20230326T010000
END:DAYLIGHT
BEGIN:STANDARD
TZOFFSETFROM:+0200
TZOFFSETTO:+0100
TZNAME:CET
DTSTART:20231029T010000
END:STANDARD
BEGIN:DAYLIGHT
TZOFFSETFROM:+0100
TZOFFSETTO:+0200
TZNAME:CEST
DTSTART:20240331T010000
END:DAYLIGHT
BEGIN:STANDARD
TZOFFSETFROM:+0200
TZOFFSETTO:+0100
TZNAME:CET
DTSTART:20241027T010000
END:STANDARD
END:VTIMEZONE
BEGIN:VEVENT
DTSTART;TZID=Europe/Rome:20230919T093000
DTEND;TZID=Europe/Rome:20230919T130000
DTSTAMP:20260423T030939
CREATED:20230904T080946Z
LAST-MODIFIED:20230904T102215Z
UID:44070-1695115800-1695128400@anci.fvg.it
SUMMARY:Evento esterno | Il nuovo codice dei contratti a pochi mesi dalla sua efficacia: un primo bilancio della messa su strada di una macchina complessa
DESCRIPTION:Nel corso del seminario verranno affrontate le novità più rilevanti del D.Lgs. 36/2023 – parlandone con il dott. Gianluca Rovelli\, Consigliere della V sez. del Consiglio di Stato – e verrà dato ampio spazio al dibattito con le Stazioni appaltanti e gli Operatori Economici partecipanti. \nPer prendere parte all’iniziativa\, organizzata dalla Fondazione Scuola Nazionale Servizi e Studio Legale Brugnoletti & Associati con il coordinamento della dott.ssa Rossella Giusa (docente COMPA FVG\, membro del Centro di Competenza Appalti ANCI FVG\, nonché membro fondatore di COMPACADEMY) leggi tutte le info qui sotto e clicca qui per iscriverti alla lezione. \nQuote di iscrizione e modalità di partecipazione:\nQUOTE INDIVIDUALI\nSoci SNS o clienti studio legale Brugnoletti & Associati: \n€ 150\,00 a partecipante \n€ 100\,00 per ogni ulteriore partecipante della stessa azienda \nAltre imprese: \n€ 250\,00 a partecipante \n€ 200\,00 per ogni ulteriore partecipante della stessa azienda \nDipendenti PA: \n€ 100\,00 \nPACCHETTI AZIENDALI\nImprese associate SNS o clienti studio legale Brugnoletti & Associati: \n€ 400 – pacchetto 5 accessi \nAltre imprese:\n€ 650\,00 – pacchetto 5 accessi \nAlle imprese aderenti alle associazioni di categoria che sono socie della Fondazione Scuola Nazionale Servizi verranno applicati i prezzi riservati ai soci SNS.\nTutti i prezzi sono iva esclusa (22%)\nLe quote comprendono:\naccesso alla lezione del 19 settembre\, il materiale didattico e l’attestato di frequenza del corso.\nTermine ultimo per le iscrizioni: 18 settembre 2023 \nIl corso verrà realizzato se si raggiungerà il numero minimo di 30 partecipanti. \nLa quota di Iscrizione con Bonifico Bancario va versata entro il 18 settembre 2023 presso il conto intestato alla Fondazione Scuola Nazionale Servizi:  \nMonte dei Paschi di Siena IBAN: IT 77 N 01030 03000 000063477951 \nPrima di ogni giornata verrà inviato il link per accedere al corso. Per la partecipazione non è necessario scaricare alcun software. \n  \nMaggiori informazioni sul corso e le modalità di iscrizione e accesso possono essere richieste scrivendo a:\ninfo@scuolanazionaleservizi.it oppure telefonando al n° 339.8387644
URL:https://anci.fvg.it/evento/il-nuovo-codice-dei-contratti-a-pochi-mesi-dalla-sua-efficacia-un-primo-bilancio-della-messa-su-strada-di-una-macchina-complessa/
LOCATION:online
CATEGORIES:Altri organizzatori: eventi esterni di interesse degli Enti locali
END:VEVENT
END:VCALENDAR