BEGIN:VCALENDAR
VERSION:2.0
PRODID:-//Anci FVG - ECPv6.15.12.2//NONSGML v1.0//EN
CALSCALE:GREGORIAN
METHOD:PUBLISH
X-ORIGINAL-URL:https://anci.fvg.it
X-WR-CALDESC:Eventi per Anci FVG
REFRESH-INTERVAL;VALUE=DURATION:PT1H
X-Robots-Tag:noindex
X-PUBLISHED-TTL:PT1H
BEGIN:VTIMEZONE
TZID:Europe/Rome
BEGIN:DAYLIGHT
TZOFFSETFROM:+0100
TZOFFSETTO:+0200
TZNAME:CEST
DTSTART:20240331T010000
END:DAYLIGHT
BEGIN:STANDARD
TZOFFSETFROM:+0200
TZOFFSETTO:+0100
TZNAME:CET
DTSTART:20241027T010000
END:STANDARD
BEGIN:DAYLIGHT
TZOFFSETFROM:+0100
TZOFFSETTO:+0200
TZNAME:CEST
DTSTART:20250330T010000
END:DAYLIGHT
BEGIN:STANDARD
TZOFFSETFROM:+0200
TZOFFSETTO:+0100
TZNAME:CET
DTSTART:20251026T010000
END:STANDARD
BEGIN:DAYLIGHT
TZOFFSETFROM:+0100
TZOFFSETTO:+0200
TZNAME:CEST
DTSTART:20260329T010000
END:DAYLIGHT
BEGIN:STANDARD
TZOFFSETFROM:+0200
TZOFFSETTO:+0100
TZNAME:CET
DTSTART:20261025T010000
END:STANDARD
END:VTIMEZONE
BEGIN:VEVENT
DTSTART;TZID=Europe/Rome:20250701T153000
DTEND;TZID=Europe/Rome:20250701T153000
DTSTAMP:20260421T162456
CREATED:20250619T061921Z
LAST-MODIFIED:20260316T141846Z
UID:56294-1751383800-1751383800@anci.fvg.it
SUMMARY:Codice dei Contratti Pubblici. Il punto di vista dei Comuni
DESCRIPTION:Martedì 1 luglio a partire dalle ore 15.30 presso la sede Anci di via dei Prefetti si terrà il convegno “Codice dei Contratti Pubblici. Il punto di vista dei Comuni”.\nA due anni dall’entrata in vigore del decreto legislativo n. 36/2023\, di recente modificato dal decreto legislativo n. 209/2024 (c.d. “Decreto Correttivo”)\, il seminario si pone l’obiettivo di tracciare un primo bilancio sull’implementazione e l’impatto dei principi e delle principali innovazioni del Codice dei contratti pubblici: cosa ha funzionato davvero e cosa rimane da migliorare? Tra presente e futuro\, e assumendo principalmente la prospettiva della più complessa delle “stazioni appaltanti” (il sistema dei Comuni)\, il seminario offre un momento di analisi e di riflessione con gli attori istituzionali sull’efficacia di un intervento riformatore che – come tutte le riforme – necessita di un’attenta fase di accompagnamento e monitoraggio. \nISCRIZIONI > La partecipazione è gratuita in presenza o da remoto\, attraverso il link “iscriviti qui” inserito nel programma allegato dove è possibile opzionare la scelta.\nPROGRAMMA\n 
URL:https://anci.fvg.it/evento/codice-dei-contratti-pubblici-il-punto-di-vista-dei-comuni/
LOCATION:Via dei Prefetti\, 46 Roma
CATEGORIES:Eventi nazionali,Webinar
ATTACH;FMTTYPE=image/jpeg:https://anci.fvg.it/wp-content/uploads/2025/06/contratti-1.jpg
END:VEVENT
BEGIN:VEVENT
DTSTART;TZID=Europe/Rome:20250724T090000
DTEND;TZID=Europe/Rome:20250724T123000
DTSTAMP:20260421T162457
CREATED:20250714T130033Z
LAST-MODIFIED:20250714T132224Z
UID:56703-1753347600-1753360200@anci.fvg.it
SUMMARY:Il Codice dei Contratti Pubblici e il suo Correttivo: bilancio di due anni di vigenza e nuove prospettive
DESCRIPTION:Si terrà il prossimo 24 luglio p.v. dalle ore 9.00 alle 13.00 il convegno dal titolo “Il Codice dei Contratti Pubblici e il suo Correttivo: bilancio di due anni di vigenza e nuove prospettive”\, un importante appuntamento formativo e di confronto tra operatori economici e stazioni appaltanti\, presso la Sala Convegni del Carnia Industrial Park\, ad Amaro (UD). \nQuesto evento\, promosso congiuntamente da Ance FVG in collaborazione con Ance Udine e Ance Alto Adriatico\, ANCI\, COMPA (Scuola di formazione del Comparto unico del FVG e Centro di Competenza) e COSILT (Consorzio di Sviluppo Economico Locale di Tolmezzo – Carnia Industrial Park)\, si propone di fare il punto sui due anni dall’entrata in vigore del Codice dei Contratti Pubblici e delle successive modifiche apportate dal suo Correttivo. Sarà un’occasione preziosa per analizzare gli impatti e le prospettive future di questa normativa così centrale per il settore. \nIl programma della mattinata prevede\, dopo i saluti istituzionali\, interventi qualificati che affronteranno l’argomento da diverse angolazioni. Avremo modo di ascoltare un RUP (Responsabile Unico del Progetto) di una stazione appaltante dell’Alto Friuli e l’avv. Michela Mancini\, esperta in Legislazione Opere Pubbliche di ANCE. \nNon mancherà lo spazio dedicato al dibattito per permettere a tutti i partecipanti di porre domande e confrontarsi direttamente con gli esperti. \nLa partecipazione all’incontro è gratuita\, previa iscrizione e registrazione attraverso il LINK ed è aperta alle Aziende associate\, ai Comuni e alle Stazioni Appaltanti\, affinché tutti gli attori coinvolti nel mondo dei contratti pubblici possano beneficiare di questo aggiornamento 
URL:https://anci.fvg.it/evento/il-codice-dei-contratti-pubblici-e-il-suo-correttivo-bilancio-di-due-anni-di-vigenza-e-nuove-prospettive/
LOCATION:Parco Tecnologico\, Via Jacopo Linussio 1\, Amaro\, Italy
CATEGORIES:Altri organizzatori: eventi esterni di interesse degli Enti locali
ATTACH;FMTTYPE=image/jpeg:https://anci.fvg.it/wp-content/uploads/2025/07/ance.jpg
END:VEVENT
END:VCALENDAR