BEGIN:VCALENDAR
VERSION:2.0
PRODID:-//Anci FVG - ECPv6.15.12.2//NONSGML v1.0//EN
CALSCALE:GREGORIAN
METHOD:PUBLISH
X-WR-CALNAME:Anci FVG
X-ORIGINAL-URL:https://anci.fvg.it
X-WR-CALDESC:Eventi per Anci FVG
REFRESH-INTERVAL;VALUE=DURATION:PT1H
X-Robots-Tag:noindex
X-PUBLISHED-TTL:PT1H
BEGIN:VTIMEZONE
TZID:Europe/Rome
BEGIN:DAYLIGHT
TZOFFSETFROM:+0100
TZOFFSETTO:+0200
TZNAME:CEST
DTSTART:20240331T010000
END:DAYLIGHT
BEGIN:STANDARD
TZOFFSETFROM:+0200
TZOFFSETTO:+0100
TZNAME:CET
DTSTART:20241027T010000
END:STANDARD
BEGIN:DAYLIGHT
TZOFFSETFROM:+0100
TZOFFSETTO:+0200
TZNAME:CEST
DTSTART:20250330T010000
END:DAYLIGHT
BEGIN:STANDARD
TZOFFSETFROM:+0200
TZOFFSETTO:+0100
TZNAME:CET
DTSTART:20251026T010000
END:STANDARD
BEGIN:DAYLIGHT
TZOFFSETFROM:+0100
TZOFFSETTO:+0200
TZNAME:CEST
DTSTART:20260329T010000
END:DAYLIGHT
BEGIN:STANDARD
TZOFFSETFROM:+0200
TZOFFSETTO:+0100
TZNAME:CET
DTSTART:20261025T010000
END:STANDARD
END:VTIMEZONE
BEGIN:VEVENT
DTSTART;TZID=Europe/Rome:20251013T110000
DTEND;TZID=Europe/Rome:20251013T120000
DTSTAMP:20260420T155413
CREATED:20250930T085434Z
LAST-MODIFIED:20250930T092855Z
UID:57729-1760353200-1760356800@anci.fvg.it
SUMMARY:Il contrasto allo sfruttamento lavorativo dalla prospettiva dei Comuni | Metodi e strumenti del progetto Incas
DESCRIPTION:La nuova piattaforma online "Academy FVG" sostituisce la piattaforma "formazione.compa.fvg"\, in uso fino al 2025				\n				\n				\n				\n									La nostra Fondazione ComPA FVG rende noto che sono aperte le iscrizioni ai corsi di formazione della “Amministratori FVG Academy”\, pensati per supportare chi svolge questo importante ruolo di servizio e impegno per la Comunità. Si tratta di singoli incontri di sensibilizzazione su contenuti chiave\, di percorsi brevi di approfondimento tematico e di percorsi strutturati\, anche di tipo residenziale\, riguardanti competenze sulla visione strategica per lo sviluppo locale\, la programmazione\, la progettualità e la gestione delle politiche pubbliche e dei servizi a favore dei cittadini.  Accedi al Catalogo completo della Formazione 2026Per partecipare ai corsi è necessario registrare un account sulla nuova piattaforma online Academy FVG\, l’ambiente di apprendimento del Comparto Unico del Friuli Venezia Giulia che sostituisce la piattaforma “formazione.compa.fvg”\, in uso fino al 2025. Per perfezionare l’accesso alla nuova piattaforma\, è sufficiente creare il nuovo account cliccando qui								\n				\n				\n						\n					\n			\n						\n				\n							\n			\n						\n		\n						\n				\n					\n		\n				\n			\n						\n				\n									I PROSSIMI CORSI IN PARTENZA								\n				\n					\n		\n					\n		\n					\n		\n					\n		\n				\n						\n					\n			\n						\n				\n									RUOLO E COMPETENZE DEL SINDACOModalità: in presenza modalità residenziale al CESFAM di Paluzza (UD)Avvio: 9 aprile 2026Iscriviti qui COMUNITA’ TEMATICA CULTURA: LEVA PER LO SVILUPPOModalità: online e presenzaAvvio: 10 aprile 2026 (in presenza presso ENAIP Pasian di Prato)Iscriviti qui COMPETENZE SPECIFICHE PER L’ASSESSORE E IL CONSIGLIERE DELEGATO ALLE POLITICHE GIOVANILIModalità: online e in presenzaAvvio: 13 aprile 2026 (online)Iscriviti qui COMUNITA’ TEMATICA COMMERCIO DI PROSSIMITA’ E DISTRETTIModalità: online e in presenzaAvvio: 16 aprile 2026 (in presenza presso Municipio di Cervignano)Iscriviti qui COMPETENZE SPECIFICHE PER L’ASSESSORE E IL CONSIGLIERE DELEGATO AL BILANCIO – EDIZIONE 1Modalità: onlineAvvio: 23 aprile 2026Iscriviti qui COMPETENZE SPECIFICHE PER L’ASSESSORE E IL CONSIGLIERE DELEGATO ALLE OPERE PUBBLICHE – EDIZIONE 1Modalità: onlineAvvio: 19 maggio 2026Iscriviti qui LA TRASFORMAZIONE DIGITALE DELLA PA: STRATEGIE\, ORGANIZZAZIONE\, SICUREZZA E USO AI – EDIZIONE 1Modalità: onlineAvvio: 17 giugno 2026Iscriviti qui 								\n				\n				\n				\n									 SOCIAL MEDIA								\n				\n				\n				\n							\n							\n					\n						Facebook\n											\n				\n							\n					\n						Twitter\n											\n				\n							\n					\n						Instagram
URL:https://anci.fvg.it/evento/il-contrasto-allo-sfruttamento-lavorativo-dalla-prospettiva-dei-comuni-metodi-e-strumenti-del-progetto-incas/
LOCATION:on line
CATEGORIES:Altri organizzatori: eventi esterni di interesse degli Enti locali,Eventi nazionali
ATTACH;FMTTYPE=image/jpeg:https://anci.fvg.it/wp-content/uploads/2025/09/incas.jpg
END:VEVENT
BEGIN:VEVENT
DTSTART;TZID=Europe/Rome:20251020T120000
DTEND;TZID=Europe/Rome:20251024T170000
DTSTAMP:20260420T155413
CREATED:20250715T055041Z
LAST-MODIFIED:20250801T070000Z
UID:56716-1760961600-1761325200@anci.fvg.it
SUMMARY:Italiae Academy
DESCRIPTION:La nuova piattaforma online "Academy FVG" sostituisce la piattaforma "formazione.compa.fvg"\, in uso fino al 2025				\n				\n				\n				\n									La nostra Fondazione ComPA FVG rende noto che sono aperte le iscrizioni ai corsi di formazione della “Amministratori FVG Academy”\, pensati per supportare chi svolge questo importante ruolo di servizio e impegno per la Comunità. Si tratta di singoli incontri di sensibilizzazione su contenuti chiave\, di percorsi brevi di approfondimento tematico e di percorsi strutturati\, anche di tipo residenziale\, riguardanti competenze sulla visione strategica per lo sviluppo locale\, la programmazione\, la progettualità e la gestione delle politiche pubbliche e dei servizi a favore dei cittadini.  Accedi al Catalogo completo della Formazione 2026Per partecipare ai corsi è necessario registrare un account sulla nuova piattaforma online Academy FVG\, l’ambiente di apprendimento del Comparto Unico del Friuli Venezia Giulia che sostituisce la piattaforma “formazione.compa.fvg”\, in uso fino al 2025. Per perfezionare l’accesso alla nuova piattaforma\, è sufficiente creare il nuovo account cliccando qui								\n				\n				\n						\n					\n			\n						\n				\n							\n			\n						\n		\n						\n				\n					\n		\n				\n			\n						\n				\n									I PROSSIMI CORSI IN PARTENZA								\n				\n					\n		\n					\n		\n					\n		\n					\n		\n				\n						\n					\n			\n						\n				\n									RUOLO E COMPETENZE DEL SINDACOModalità: in presenza modalità residenziale al CESFAM di Paluzza (UD)Avvio: 9 aprile 2026Iscriviti qui COMUNITA’ TEMATICA CULTURA: LEVA PER LO SVILUPPOModalità: online e presenzaAvvio: 10 aprile 2026 (in presenza presso ENAIP Pasian di Prato)Iscriviti qui COMPETENZE SPECIFICHE PER L’ASSESSORE E IL CONSIGLIERE DELEGATO ALLE POLITICHE GIOVANILIModalità: online e in presenzaAvvio: 13 aprile 2026 (online)Iscriviti qui COMUNITA’ TEMATICA COMMERCIO DI PROSSIMITA’ E DISTRETTIModalità: online e in presenzaAvvio: 16 aprile 2026 (in presenza presso Municipio di Cervignano)Iscriviti qui COMPETENZE SPECIFICHE PER L’ASSESSORE E IL CONSIGLIERE DELEGATO AL BILANCIO – EDIZIONE 1Modalità: onlineAvvio: 23 aprile 2026Iscriviti qui COMPETENZE SPECIFICHE PER L’ASSESSORE E IL CONSIGLIERE DELEGATO ALLE OPERE PUBBLICHE – EDIZIONE 1Modalità: onlineAvvio: 19 maggio 2026Iscriviti qui LA TRASFORMAZIONE DIGITALE DELLA PA: STRATEGIE\, ORGANIZZAZIONE\, SICUREZZA E USO AI – EDIZIONE 1Modalità: onlineAvvio: 17 giugno 2026Iscriviti qui 								\n				\n				\n				\n									 SOCIAL MEDIA								\n				\n				\n				\n							\n							\n					\n						Facebook\n											\n				\n							\n					\n						Twitter\n											\n				\n							\n					\n						Instagram
URL:https://anci.fvg.it/evento/italiae-academy/
LOCATION:Castel San Pietro Terme
CATEGORIES:Altri organizzatori: eventi esterni di interesse degli Enti locali
ATTACH;FMTTYPE=image/jpeg:https://anci.fvg.it/wp-content/uploads/2025/07/italiae.jpg
END:VEVENT
BEGIN:VEVENT
DTSTART;TZID=Europe/Rome:20251022T170000
DTEND;TZID=Europe/Rome:20251022T190000
DTSTAMP:20260420T155413
CREATED:20251006T100902Z
LAST-MODIFIED:20251006T104030Z
UID:57886-1761152400-1761159600@anci.fvg.it
SUMMARY:Finanziamenti e servizi ARLeF per promuovere la lingua friulana
DESCRIPTION:La nuova piattaforma online "Academy FVG" sostituisce la piattaforma "formazione.compa.fvg"\, in uso fino al 2025				\n				\n				\n				\n									La nostra Fondazione ComPA FVG rende noto che sono aperte le iscrizioni ai corsi di formazione della “Amministratori FVG Academy”\, pensati per supportare chi svolge questo importante ruolo di servizio e impegno per la Comunità. Si tratta di singoli incontri di sensibilizzazione su contenuti chiave\, di percorsi brevi di approfondimento tematico e di percorsi strutturati\, anche di tipo residenziale\, riguardanti competenze sulla visione strategica per lo sviluppo locale\, la programmazione\, la progettualità e la gestione delle politiche pubbliche e dei servizi a favore dei cittadini.  Accedi al Catalogo completo della Formazione 2026Per partecipare ai corsi è necessario registrare un account sulla nuova piattaforma online Academy FVG\, l’ambiente di apprendimento del Comparto Unico del Friuli Venezia Giulia che sostituisce la piattaforma “formazione.compa.fvg”\, in uso fino al 2025. Per perfezionare l’accesso alla nuova piattaforma\, è sufficiente creare il nuovo account cliccando qui								\n				\n				\n						\n					\n			\n						\n				\n							\n			\n						\n		\n						\n				\n					\n		\n				\n			\n						\n				\n									I PROSSIMI CORSI IN PARTENZA								\n				\n					\n		\n					\n		\n					\n		\n					\n		\n				\n						\n					\n			\n						\n				\n									RUOLO E COMPETENZE DEL SINDACOModalità: in presenza modalità residenziale al CESFAM di Paluzza (UD)Avvio: 9 aprile 2026Iscriviti qui COMUNITA’ TEMATICA CULTURA: LEVA PER LO SVILUPPOModalità: online e presenzaAvvio: 10 aprile 2026 (in presenza presso ENAIP Pasian di Prato)Iscriviti qui COMPETENZE SPECIFICHE PER L’ASSESSORE E IL CONSIGLIERE DELEGATO ALLE POLITICHE GIOVANILIModalità: online e in presenzaAvvio: 13 aprile 2026 (online)Iscriviti qui COMUNITA’ TEMATICA COMMERCIO DI PROSSIMITA’ E DISTRETTIModalità: online e in presenzaAvvio: 16 aprile 2026 (in presenza presso Municipio di Cervignano)Iscriviti qui COMPETENZE SPECIFICHE PER L’ASSESSORE E IL CONSIGLIERE DELEGATO AL BILANCIO – EDIZIONE 1Modalità: onlineAvvio: 23 aprile 2026Iscriviti qui COMPETENZE SPECIFICHE PER L’ASSESSORE E IL CONSIGLIERE DELEGATO ALLE OPERE PUBBLICHE – EDIZIONE 1Modalità: onlineAvvio: 19 maggio 2026Iscriviti qui LA TRASFORMAZIONE DIGITALE DELLA PA: STRATEGIE\, ORGANIZZAZIONE\, SICUREZZA E USO AI – EDIZIONE 1Modalità: onlineAvvio: 17 giugno 2026Iscriviti qui 								\n				\n				\n				\n									 SOCIAL MEDIA								\n				\n				\n				\n							\n							\n					\n						Facebook\n											\n				\n							\n					\n						Twitter\n											\n				\n							\n					\n						Instagram
URL:https://anci.fvg.it/evento/finanziamenti-e-servizi-arlef-per-promuovere-la-lingua-friulana/
LOCATION:online
CATEGORIES:Appuntamenti ANCI FVG,Formazione amministratori locali
ATTACH;FMTTYPE=image/jpeg:https://anci.fvg.it/wp-content/uploads/2025/10/bandiera_friuli.jpg
END:VEVENT
BEGIN:VEVENT
DTSTART;TZID=Europe/Rome:20251024T160000
DTEND;TZID=Europe/Rome:20251024T190000
DTSTAMP:20260420T155413
CREATED:20251021T052812Z
LAST-MODIFIED:20251021T072800Z
UID:58222-1761321600-1761332400@anci.fvg.it
SUMMARY:Comunità in Azione. Economia Solidale tra Impegno Civico e Riconoscimento Pubblico
DESCRIPTION:La nuova piattaforma online "Academy FVG" sostituisce la piattaforma "formazione.compa.fvg"\, in uso fino al 2025				\n				\n				\n				\n									La nostra Fondazione ComPA FVG rende noto che sono aperte le iscrizioni ai corsi di formazione della “Amministratori FVG Academy”\, pensati per supportare chi svolge questo importante ruolo di servizio e impegno per la Comunità. Si tratta di singoli incontri di sensibilizzazione su contenuti chiave\, di percorsi brevi di approfondimento tematico e di percorsi strutturati\, anche di tipo residenziale\, riguardanti competenze sulla visione strategica per lo sviluppo locale\, la programmazione\, la progettualità e la gestione delle politiche pubbliche e dei servizi a favore dei cittadini.  Accedi al Catalogo completo della Formazione 2026Per partecipare ai corsi è necessario registrare un account sulla nuova piattaforma online Academy FVG\, l’ambiente di apprendimento del Comparto Unico del Friuli Venezia Giulia che sostituisce la piattaforma “formazione.compa.fvg”\, in uso fino al 2025. Per perfezionare l’accesso alla nuova piattaforma\, è sufficiente creare il nuovo account cliccando qui								\n				\n				\n						\n					\n			\n						\n				\n							\n			\n						\n		\n						\n				\n					\n		\n				\n			\n						\n				\n									I PROSSIMI CORSI IN PARTENZA								\n				\n					\n		\n					\n		\n					\n		\n					\n		\n				\n						\n					\n			\n						\n				\n									RUOLO E COMPETENZE DEL SINDACOModalità: in presenza modalità residenziale al CESFAM di Paluzza (UD)Avvio: 9 aprile 2026Iscriviti qui COMUNITA’ TEMATICA CULTURA: LEVA PER LO SVILUPPOModalità: online e presenzaAvvio: 10 aprile 2026 (in presenza presso ENAIP Pasian di Prato)Iscriviti qui COMPETENZE SPECIFICHE PER L’ASSESSORE E IL CONSIGLIERE DELEGATO ALLE POLITICHE GIOVANILIModalità: online e in presenzaAvvio: 13 aprile 2026 (online)Iscriviti qui COMUNITA’ TEMATICA COMMERCIO DI PROSSIMITA’ E DISTRETTIModalità: online e in presenzaAvvio: 16 aprile 2026 (in presenza presso Municipio di Cervignano)Iscriviti qui COMPETENZE SPECIFICHE PER L’ASSESSORE E IL CONSIGLIERE DELEGATO AL BILANCIO – EDIZIONE 1Modalità: onlineAvvio: 23 aprile 2026Iscriviti qui COMPETENZE SPECIFICHE PER L’ASSESSORE E IL CONSIGLIERE DELEGATO ALLE OPERE PUBBLICHE – EDIZIONE 1Modalità: onlineAvvio: 19 maggio 2026Iscriviti qui LA TRASFORMAZIONE DIGITALE DELLA PA: STRATEGIE\, ORGANIZZAZIONE\, SICUREZZA E USO AI – EDIZIONE 1Modalità: onlineAvvio: 17 giugno 2026Iscriviti qui 								\n				\n				\n				\n									 SOCIAL MEDIA								\n				\n				\n				\n							\n							\n					\n						Facebook\n											\n				\n							\n					\n						Twitter\n											\n				\n							\n					\n						Instagram
URL:https://anci.fvg.it/evento/comunita-in-azione-economia-solidale-tra-impegno-civico-e-riconoscimento-pubblico/
LOCATION:Auditorium della Cultura Friulana\, Via Roma 5\, Gorizia\, Italy
CATEGORIES:Altri organizzatori: eventi esterni di interesse degli Enti locali
ATTACH;FMTTYPE=image/png:https://anci.fvg.it/wp-content/uploads/2025/10/goriziacomunita.png
END:VEVENT
END:VCALENDAR