BEGIN:VCALENDAR
VERSION:2.0
PRODID:-//Anci FVG - ECPv6.15.12.2//NONSGML v1.0//EN
CALSCALE:GREGORIAN
METHOD:PUBLISH
X-WR-CALNAME:Anci FVG
X-ORIGINAL-URL:https://anci.fvg.it
X-WR-CALDESC:Eventi per Anci FVG
REFRESH-INTERVAL;VALUE=DURATION:PT1H
X-Robots-Tag:noindex
X-PUBLISHED-TTL:PT1H
BEGIN:VTIMEZONE
TZID:Europe/Rome
BEGIN:DAYLIGHT
TZOFFSETFROM:+0100
TZOFFSETTO:+0200
TZNAME:CEST
DTSTART:20240331T010000
END:DAYLIGHT
BEGIN:STANDARD
TZOFFSETFROM:+0200
TZOFFSETTO:+0100
TZNAME:CET
DTSTART:20241027T010000
END:STANDARD
BEGIN:DAYLIGHT
TZOFFSETFROM:+0100
TZOFFSETTO:+0200
TZNAME:CEST
DTSTART:20250330T010000
END:DAYLIGHT
BEGIN:STANDARD
TZOFFSETFROM:+0200
TZOFFSETTO:+0100
TZNAME:CET
DTSTART:20251026T010000
END:STANDARD
BEGIN:DAYLIGHT
TZOFFSETFROM:+0100
TZOFFSETTO:+0200
TZNAME:CEST
DTSTART:20260329T010000
END:DAYLIGHT
BEGIN:STANDARD
TZOFFSETFROM:+0200
TZOFFSETTO:+0100
TZNAME:CET
DTSTART:20261025T010000
END:STANDARD
END:VTIMEZONE
BEGIN:VEVENT
DTSTART;TZID=Europe/Rome:20250604T120000
DTEND;TZID=Europe/Rome:20250604T130000
DTSTAMP:20260421T145511
CREATED:20250529T060239Z
LAST-MODIFIED:20250604T091118Z
UID:55915-1749038400-1749042000@anci.fvg.it
SUMMARY:Avviso Pubblico ANCI su Fondo Politiche Giovanili – Assegnazione Spazi/Immobili a Giovani Under 35 per Progetti Innovativi (II Edizione)
DESCRIPTION:Venerdì 17 Aprile l'intervento di Matteo Bassi\, Assessore del Comune di Manzano e vice Coordinatore ANCI Giovani FVG				\n				\n				\n				\n									Sarà Napoli ad ospitare\, il 17 e 18 aprile\, la XV Assemblea annuale dei giovani amministratori italiani che segna anche il ventesimo anniversario di Anci Giovani. L’importante appuntamento annuale\, promosso dalla Consulta Anci Giovani che riunisce amministratori provenienti dai Comuni di tutta Italia\, si terrà presso l’Aula Magna del complesso universitario di San Giovanni a Teduccio. Regione Campania\, Comune di Napoli e la stessa Università “Federico II” sono partner territoriali dell’evento\, che vede la collaborazione dei partner istituzionali Ministero per lo Sport e i Giovani\, Sport&Salute\, Dipartimento per lo Sport\, Dipartimento per le Politiche giovanili e il Servizio civile universale\, Istituto per il Credito Sportivo e Culturale. La mattinata di venerdì 17 aprile sarà dedicata al ‘Primo incontro nazionale dei Sindaci under 35’ che si terrà dalle 9.30 alle 13\, per promuovere un confronto aperto fra gli amministratori locali più giovani e raccogliere le loro proposte su fenomeni\, criticità\, opportunità e tendenze dell’universo giovanile. A fornire lo spunto per il dibattito saranno un’indagine realizzata da Ipsos per Anci sul disagio giovanile\, i dati dell’ultimo rapporto SVIMEZ sulla migrazione giovanile e quelli di IFEL sui bilanci comunali ed il futuro delle amministrazioni locali. I lavori dell’assemblea\, dopo i saluti istituzionali di Matteo Lorito\, rettore dell’Università degli Studi di Napoli “Federico II”\, Francesco Morra\, presidente Anci Campania e sindaco di Pellezzano\, Stefano Lombardi coordinatore Anci Giovani Campania e sindaco di Piana di Monte Verna e Roberto Fico\, presidente Regione Campania\, avranno invece inizio nel pomeriggio con la relazione introduttiva di Domenico Carbone\, coordinatore nazionale Consulta Anci Giovani e sindaco di San Costanzo. Seguiranno gli interventi dei ministri Paolo Zangrillo (Pubblica amministrazione) e Francesco Lollobrigida (Agricoltura Sovranità Alimentare e Foreste). Dopo di loro sarà la volta del presidente nazionale di Anci e sindaco di Napoli Gaetano Manfredi e del ministro per lo Sport e i Giovani Andrea Abodi (PROGRAMMA). All’Assemblea interverranno tra gli altri: Marco Fioravanti presidente del Consiglio nazionale Anci\, sindaco di Ascoli Piceno e presidente di Anci Marche e i due vicepresidenti Anci Roberto Pella\, sindaco di Valdengo e Vito Parisi\, sindaco di Ginosa. Con loro anche i sindaci: Chiara Frontini (Viterbo)\, Vito Leccese (Bari)\, Vittoria Ferdinandi (Perugia)\, Daniele Sinibaldi (Rieti – presidente Anci Lazio) e Antonio Angelino (Caivano). Interverranno anche: Giuseppe Pierro\, capo dipartimento per le Politiche Giovanili e il Servizio Civile Universale presidenza del Consiglio dei Ministri e Leonardo Samà\, segretario generale del consiglio nazionale giovani. Nel corso della due giorni\, moderati dai giornalisti Manuela Moreno ed Emilio Casalini\, gli amministratori si confronteranno sui principali temi che riguardano i giovani eletti e i territori\, con un focus su: costruire comunità sicure; radici e futuro: ripensare gli spazi urbani\, valorizzare il patrimonio materiale ed immateriale\, promuovere i territori; abitare il cambiamento: politiche innovative per città più vivibili e sostenibili. Ad arricchire il dibattito saranno gli amministratori delegati e rappresentanti delle aziende: Edison\, GSE\, Gruppo Maggioli\, Iliad e Open Fiber\, in qualità di main partner dell’evento. “Ospitare a Napoli la XV Assemblea di Anci Giovani\, proprio nell’anno del suo ventesimo anniversario\, è per noi motivo di grande orgoglio”\, evidenzia il presidente dell’Anci Gaetano Manfredi. “I giovani amministratori non sono solo il futuro\, ma il motore presente di un’innovazione necessaria per rispondere alle sfide della transizione energetica\, della sostenibilità e della coesione sociale. In un momento in cui i Comuni sono chiamati a gestire trasformazioni epocali\, il contributo di chi governa con sguardo nuovo e coraggio è fondamentale. Da Napoli vogliamo lanciare un messaggio chiaro: investire sulle competenze e sulla passione dei giovani amministratori significa rendere le nostre città più moderne\, inclusive e capaci di guardare lontano. Il confronto di questi giorni sarà la base per costruire politiche abitative e urbane che mettano finalmente al centro le nuove generazioni”. “Durante l’assemblea\, avremo modo di confrontare esperienze\, strumenti e buone pratiche per sostenere l’innovazione amministrativa e rafforzare il ruolo delle nuove generazioni nella vita pubblica locale”\, sottolinea Domenico Carbone\, coordinatore nazionale Consulta Anci Giovani. “I dati ci dicono che qui la presenza dei giovani rappresenta ancora una minoranza\, che si riduce ancora di più per le donne nei ruoli di vertice. Vogliamo invertire questa tendenza\, puntando sul valore aggiunto che i giovani possono portare: ripartiamo – è il suo auspicio – da quella sorta di incoscienza che li spinge a prendere decisioni anche coraggiose\, talvolta non immediatamente popolari\, ma importanti per costruire prospettive di lungo periodo per i territori”. Accrediti stampa – Le testate e i colleghi interessati possono inviare una mail con richiesta di accredito a bombardi@anci.it entro le ore 18.00 di giovedì 16 aprile TUTTE LE INFO E IL PROGRAMMA								\n				\n					\n		\n					\n		\n				\n						\n					\n			\n							\n		\n					\n		\n				\n						\n					\n			\n						\n				\n									 SOCIAL MEDIA								\n				\n				\n				\n							\n							\n					\n						Facebook\n											\n				\n							\n					\n						Twitter\n											\n				\n							\n					\n						Instagram
URL:https://anci.fvg.it/evento/avviso-pubblico-anci-su-fondo-politiche-giovanili-assegnazione-spazi-immobili-a-giovani-under-35-per-progetti-innovativi-ii-edizione/
LOCATION:online
CATEGORIES:Eventi nazionali
ATTACH;FMTTYPE=image/png:https://anci.fvg.it/wp-content/uploads/2025/05/Locandina-evento.png
END:VEVENT
END:VCALENDAR