BEGIN:VCALENDAR
VERSION:2.0
PRODID:-//Anci FVG - ECPv6.15.12.2//NONSGML v1.0//EN
CALSCALE:GREGORIAN
METHOD:PUBLISH
X-ORIGINAL-URL:https://anci.fvg.it
X-WR-CALDESC:Eventi per Anci FVG
REFRESH-INTERVAL;VALUE=DURATION:PT1H
X-Robots-Tag:noindex
X-PUBLISHED-TTL:PT1H
BEGIN:VTIMEZONE
TZID:Europe/Rome
BEGIN:DAYLIGHT
TZOFFSETFROM:+0100
TZOFFSETTO:+0200
TZNAME:CEST
DTSTART:20240331T010000
END:DAYLIGHT
BEGIN:STANDARD
TZOFFSETFROM:+0200
TZOFFSETTO:+0100
TZNAME:CET
DTSTART:20241027T010000
END:STANDARD
BEGIN:DAYLIGHT
TZOFFSETFROM:+0100
TZOFFSETTO:+0200
TZNAME:CEST
DTSTART:20250330T010000
END:DAYLIGHT
BEGIN:STANDARD
TZOFFSETFROM:+0200
TZOFFSETTO:+0100
TZNAME:CET
DTSTART:20251026T010000
END:STANDARD
BEGIN:DAYLIGHT
TZOFFSETFROM:+0100
TZOFFSETTO:+0200
TZNAME:CEST
DTSTART:20260329T010000
END:DAYLIGHT
BEGIN:STANDARD
TZOFFSETFROM:+0200
TZOFFSETTO:+0100
TZNAME:CET
DTSTART:20261025T010000
END:STANDARD
END:VTIMEZONE
BEGIN:VEVENT
DTSTART;TZID=Europe/Rome:20250521T103000
DTEND;TZID=Europe/Rome:20250521T130000
DTSTAMP:20260420T230836
CREATED:20250512T071304Z
LAST-MODIFIED:20250512T071936Z
UID:55647-1747823400-1747832400@anci.fvg.it
SUMMARY:IA in campo: L’evoluzione della PA
DESCRIPTION:La Direzione centrale risorse agroalimentari\, forestali e ittiche della Regione Autonoma Friuli Venezia Giulia\, presenta un evento dedicato all’Intelligenza Artificiale. \nIn particolare\, un incontro dedicato all’utilizzo dell’IA nella pubblica amministrazione\, moderato dalla giornalista Luana De Francisco. \nSarà un momento di informazione e formazione per la PA durante il quale si alterneranno riflessioni giuridiche ed esempi pratici di utilizzo.  \nIscrizione al seguente link: Regione Autonoma Friuli Venezia Giulia – L’INTELLIGENZA ARTIFICIALE IN CAMPO: l’evoluzione della PA\nProgramma A4 programma FVG OK 21 maggio mattina
URL:https://anci.fvg.it/evento/ia-in-campo-levoluzione-della-pa/
LOCATION:Centro Congressi Udine Fiere\, Via della Vecchia Filatura 10/1\, Udine
CATEGORIES:Altri organizzatori: eventi esterni di interesse degli Enti locali
ATTACH;FMTTYPE=image/jpeg:https://anci.fvg.it/wp-content/uploads/2025/05/21.jpg
END:VEVENT
BEGIN:VEVENT
DTSTART;TZID=Europe/Rome:20250522T100000
DTEND;TZID=Europe/Rome:20250522T130000
DTSTAMP:20260420T230836
CREATED:20250512T072015Z
LAST-MODIFIED:20250512T072401Z
UID:55652-1747908000-1747918800@anci.fvg.it
SUMMARY:IA in campo: il futuro della comunicazione
DESCRIPTION:Corso di formazione per giornalisti e comunicatori organizzato con l’Ordine dei Giornalisti e ARGA. \nIl corso\, in presenza (in streaming solo per iscritti all’OdG)\, offre approfondimenti su tematiche professionali e aggiornamenti normativi ed è rivolto anche ai comunicatori della PA. \nIscrizione tramite il portale di formazione per giornalisti per ricevere i crediti\, oppure inviando una mail a svilupporurale@regione.fvg.it.\nProgramma A4 programma FVG OK 22 maggio
URL:https://anci.fvg.it/evento/ia-in-campo-levoluzione-della-pa-copy/
LOCATION:Centro Congressi Udine Fiere\, Via della Vecchia Filatura 10/1\, Udine
CATEGORIES:Altri organizzatori: eventi esterni di interesse degli Enti locali
ATTACH;FMTTYPE=image/jpeg:https://anci.fvg.it/wp-content/uploads/2025/05/22.jpg
END:VEVENT
END:VCALENDAR