BEGIN:VCALENDAR
VERSION:2.0
PRODID:-//Anci FVG - ECPv6.15.12.2//NONSGML v1.0//EN
CALSCALE:GREGORIAN
METHOD:PUBLISH
X-ORIGINAL-URL:https://anci.fvg.it
X-WR-CALDESC:Eventi per Anci FVG
REFRESH-INTERVAL;VALUE=DURATION:PT1H
X-Robots-Tag:noindex
X-PUBLISHED-TTL:PT1H
BEGIN:VTIMEZONE
TZID:Europe/Rome
BEGIN:DAYLIGHT
TZOFFSETFROM:+0100
TZOFFSETTO:+0200
TZNAME:CEST
DTSTART:20220327T010000
END:DAYLIGHT
BEGIN:STANDARD
TZOFFSETFROM:+0200
TZOFFSETTO:+0100
TZNAME:CET
DTSTART:20221030T010000
END:STANDARD
BEGIN:DAYLIGHT
TZOFFSETFROM:+0100
TZOFFSETTO:+0200
TZNAME:CEST
DTSTART:20230326T010000
END:DAYLIGHT
BEGIN:STANDARD
TZOFFSETFROM:+0200
TZOFFSETTO:+0100
TZNAME:CET
DTSTART:20231029T010000
END:STANDARD
BEGIN:DAYLIGHT
TZOFFSETFROM:+0100
TZOFFSETTO:+0200
TZNAME:CEST
DTSTART:20240331T010000
END:DAYLIGHT
BEGIN:STANDARD
TZOFFSETFROM:+0200
TZOFFSETTO:+0100
TZNAME:CET
DTSTART:20241027T010000
END:STANDARD
END:VTIMEZONE
BEGIN:VEVENT
DTSTART;TZID=Europe/Rome:20230321T150000
DTEND;TZID=Europe/Rome:20230321T173000
DTSTAMP:20260423T143820
CREATED:20230317T075055Z
LAST-MODIFIED:20230317T075648Z
UID:40750-1679410800-1679419800@anci.fvg.it
SUMMARY:Una democrazia matura
DESCRIPTION:Il 21 marzo si terrà alla Camera dei Deputati una giornata di dibattito per discutere di governabilità e stabilità e della legge 81\, che dal 25 marzo 1993 disciplina l’elezione diretta dei Sindaci. \nL’evento vedrà la partecipazione di sindaci\, deputati e dei primi cittadini che per primi sperimentarono gli effetti della 81/1993. \nScarica il programma completo
URL:https://anci.fvg.it/evento/una-democrazia-matura/
LOCATION:Sala della Regina\, Camera dei Deputati\, Roma
CATEGORIES:Eventi nazionali
ATTACH;FMTTYPE=image/jpeg:https://anci.fvg.it/wp-content/uploads/2023/03/Immagine-2023-03-17-084246.jpg
END:VEVENT
END:VCALENDAR