BEGIN:VCALENDAR
VERSION:2.0
PRODID:-//Anci FVG - ECPv6.15.12.2//NONSGML v1.0//EN
CALSCALE:GREGORIAN
METHOD:PUBLISH
X-ORIGINAL-URL:https://anci.fvg.it
X-WR-CALDESC:Eventi per Anci FVG
REFRESH-INTERVAL;VALUE=DURATION:PT1H
X-Robots-Tag:noindex
X-PUBLISHED-TTL:PT1H
BEGIN:VTIMEZONE
TZID:Europe/Rome
BEGIN:DAYLIGHT
TZOFFSETFROM:+0100
TZOFFSETTO:+0200
TZNAME:CEST
DTSTART:20210328T010000
END:DAYLIGHT
BEGIN:STANDARD
TZOFFSETFROM:+0200
TZOFFSETTO:+0100
TZNAME:CET
DTSTART:20211031T010000
END:STANDARD
BEGIN:DAYLIGHT
TZOFFSETFROM:+0100
TZOFFSETTO:+0200
TZNAME:CEST
DTSTART:20220327T010000
END:DAYLIGHT
BEGIN:STANDARD
TZOFFSETFROM:+0200
TZOFFSETTO:+0100
TZNAME:CET
DTSTART:20221030T010000
END:STANDARD
BEGIN:DAYLIGHT
TZOFFSETFROM:+0100
TZOFFSETTO:+0200
TZNAME:CEST
DTSTART:20230326T010000
END:DAYLIGHT
BEGIN:STANDARD
TZOFFSETFROM:+0200
TZOFFSETTO:+0100
TZNAME:CET
DTSTART:20231029T010000
END:STANDARD
BEGIN:DAYLIGHT
TZOFFSETFROM:+0100
TZOFFSETTO:+0200
TZNAME:CEST
DTSTART:20240331T010000
END:DAYLIGHT
BEGIN:STANDARD
TZOFFSETFROM:+0200
TZOFFSETTO:+0100
TZNAME:CET
DTSTART:20241027T010000
END:STANDARD
END:VTIMEZONE
BEGIN:VEVENT
DTSTART;TZID=Europe/Rome:20230405T180000
DTEND;TZID=Europe/Rome:20230405T193000
DTSTAMP:20260421T213426
CREATED:20230315T105214Z
LAST-MODIFIED:20230317T123323Z
UID:40721-1680717600-1680723000@anci.fvg.it
SUMMARY:L'ABC delle opere pubbliche per amministratori locali
DESCRIPTION:È aperta una nuova finestra temporale per l’accesso al fondo per la prosecuzione delle opere pubbliche				\n				\n				\n				\n									Dal 1° febbraio 2026 al 28 febbraio 2026\, le Stazioni Appaltanti possono presentare le istanze di accesso al Fondo relative alle lavorazioni eseguite\, contabilizzate e annotate dal Direttore dei lavori nel libretto delle misure nel periodo compreso tra il 1° giugno 2025 e il 31 dicembre 2025. Come per la prima finestra temporale\, aperta nel luglio 2025\, le modalità operative e le condizioni di accesso al Fondo sono disciplinate dal decreto n. 106 dell’8 maggio 2025. L’istanza di accesso alle risorse del Fondo deve essere inserita\, a pena di esclusione\, sulla piattaforma dedicata: https://adeguamentoprezzi.mit.gov.it Le richieste compilate sulla piattaforma devono essere scaricate\, firmate digitalmente dal legale rappresentante (o da un delegato) della Stazione Appaltante e trasmesse all’indirizzo PEC adeguamentoprezzi.dgespa@pec.mit.gov.it entro i termini previsti per la finestra temporale di riferimento\, a pena di esclusione. 								\n				\n					\n		\n					\n		\n				\n						\n					\n			\n						\n						\n					\n			\n						\n				\n									 SOCIAL MEDIA								\n				\n				\n				\n							\n							\n					\n						Facebook\n											\n				\n							\n					\n						Twitter\n											\n				\n							\n					\n						Instagram
URL:https://anci.fvg.it/evento/abcoperepubbliche-5aprile/
LOCATION:on line
CATEGORIES:Appuntamenti ANCI FVG,Formazione amministratori locali
ATTACH;FMTTYPE=image/png:https://anci.fvg.it/wp-content/uploads/2023/03/abc-opere-pubbliche-2023sito.png
END:VEVENT
BEGIN:VEVENT
DTSTART;TZID=Europe/Rome:20230330T180000
DTEND;TZID=Europe/Rome:20230330T193000
DTSTAMP:20260421T213426
CREATED:20230315T103901Z
LAST-MODIFIED:20230315T112546Z
UID:40700-1680199200-1680204600@anci.fvg.it
SUMMARY:L'ABC delle opere pubbliche per amministratori locali
DESCRIPTION:È aperta una nuova finestra temporale per l’accesso al fondo per la prosecuzione delle opere pubbliche				\n				\n				\n				\n									Dal 1° febbraio 2026 al 28 febbraio 2026\, le Stazioni Appaltanti possono presentare le istanze di accesso al Fondo relative alle lavorazioni eseguite\, contabilizzate e annotate dal Direttore dei lavori nel libretto delle misure nel periodo compreso tra il 1° giugno 2025 e il 31 dicembre 2025. Come per la prima finestra temporale\, aperta nel luglio 2025\, le modalità operative e le condizioni di accesso al Fondo sono disciplinate dal decreto n. 106 dell’8 maggio 2025. L’istanza di accesso alle risorse del Fondo deve essere inserita\, a pena di esclusione\, sulla piattaforma dedicata: https://adeguamentoprezzi.mit.gov.it Le richieste compilate sulla piattaforma devono essere scaricate\, firmate digitalmente dal legale rappresentante (o da un delegato) della Stazione Appaltante e trasmesse all’indirizzo PEC adeguamentoprezzi.dgespa@pec.mit.gov.it entro i termini previsti per la finestra temporale di riferimento\, a pena di esclusione. 								\n				\n					\n		\n					\n		\n				\n						\n					\n			\n						\n						\n					\n			\n						\n				\n									 SOCIAL MEDIA								\n				\n				\n				\n							\n							\n					\n						Facebook\n											\n				\n							\n					\n						Twitter\n											\n				\n							\n					\n						Instagram
URL:https://anci.fvg.it/evento/abcoperepubbliche/
LOCATION:on line
CATEGORIES:Appuntamenti ANCI FVG,Formazione amministratori locali
ATTACH;FMTTYPE=image/png:https://anci.fvg.it/wp-content/uploads/2023/03/abc-opere-pubbliche-2023sito.png
END:VEVENT
BEGIN:VEVENT
DTSTART;TZID=Europe/Rome:20221006T180000
DTEND;TZID=Europe/Rome:20221013T193000
DTSTAMP:20260421T213426
CREATED:20220921T095217Z
LAST-MODIFIED:20221004T132444Z
UID:36406-1665079200-1665689400@anci.fvg.it
SUMMARY:L'ABC delle opere pubbliche per Amministratori locali
DESCRIPTION:È aperta una nuova finestra temporale per l’accesso al fondo per la prosecuzione delle opere pubbliche				\n				\n				\n				\n									Dal 1° febbraio 2026 al 28 febbraio 2026\, le Stazioni Appaltanti possono presentare le istanze di accesso al Fondo relative alle lavorazioni eseguite\, contabilizzate e annotate dal Direttore dei lavori nel libretto delle misure nel periodo compreso tra il 1° giugno 2025 e il 31 dicembre 2025. Come per la prima finestra temporale\, aperta nel luglio 2025\, le modalità operative e le condizioni di accesso al Fondo sono disciplinate dal decreto n. 106 dell’8 maggio 2025. L’istanza di accesso alle risorse del Fondo deve essere inserita\, a pena di esclusione\, sulla piattaforma dedicata: https://adeguamentoprezzi.mit.gov.it Le richieste compilate sulla piattaforma devono essere scaricate\, firmate digitalmente dal legale rappresentante (o da un delegato) della Stazione Appaltante e trasmesse all’indirizzo PEC adeguamentoprezzi.dgespa@pec.mit.gov.it entro i termini previsti per la finestra temporale di riferimento\, a pena di esclusione. 								\n				\n					\n		\n					\n		\n				\n						\n					\n			\n						\n						\n					\n			\n						\n				\n									 SOCIAL MEDIA								\n				\n				\n				\n							\n							\n					\n						Facebook\n											\n				\n							\n					\n						Twitter\n											\n				\n							\n					\n						Instagram
URL:https://anci.fvg.it/evento/labc-delle-opere-pubbliche-per-amministratori-locali/
LOCATION:on line
CATEGORIES:Appuntamenti ANCI FVG,Formazione amministratori locali
ATTACH;FMTTYPE=image/jpeg:https://anci.fvg.it/wp-content/uploads/2022/09/abc_opere_pubbliche-sito-1.jpg
END:VEVENT
END:VCALENDAR