BEGIN:VCALENDAR
VERSION:2.0
PRODID:-//Anci FVG - ECPv6.15.12.2//NONSGML v1.0//EN
CALSCALE:GREGORIAN
METHOD:PUBLISH
X-ORIGINAL-URL:https://anci.fvg.it
X-WR-CALDESC:Eventi per Anci FVG
REFRESH-INTERVAL;VALUE=DURATION:PT1H
X-Robots-Tag:noindex
X-PUBLISHED-TTL:PT1H
BEGIN:VTIMEZONE
TZID:Europe/Rome
BEGIN:DAYLIGHT
TZOFFSETFROM:+0100
TZOFFSETTO:+0200
TZNAME:CEST
DTSTART:20220327T010000
END:DAYLIGHT
BEGIN:STANDARD
TZOFFSETFROM:+0200
TZOFFSETTO:+0100
TZNAME:CET
DTSTART:20221030T010000
END:STANDARD
BEGIN:DAYLIGHT
TZOFFSETFROM:+0100
TZOFFSETTO:+0200
TZNAME:CEST
DTSTART:20230326T010000
END:DAYLIGHT
BEGIN:STANDARD
TZOFFSETFROM:+0200
TZOFFSETTO:+0100
TZNAME:CET
DTSTART:20231029T010000
END:STANDARD
BEGIN:DAYLIGHT
TZOFFSETFROM:+0100
TZOFFSETTO:+0200
TZNAME:CEST
DTSTART:20240331T010000
END:DAYLIGHT
BEGIN:STANDARD
TZOFFSETFROM:+0200
TZOFFSETTO:+0100
TZNAME:CET
DTSTART:20241027T010000
END:STANDARD
END:VTIMEZONE
BEGIN:VEVENT
DTSTART;TZID=Europe/Rome:20230616T150000
DTEND;TZID=Europe/Rome:20230616T153000
DTSTAMP:20260423T122816
CREATED:20230615T091800Z
LAST-MODIFIED:20230615T092552Z
UID:42799-1686927600-1686929400@anci.fvg.it
SUMMARY:Consiglio direttivo ANCI FVG
DESCRIPTION:Il Consiglio direttivo è convocato in modalità mista (in presenza nella Sala Pasolini presso la sede della Regione a Udine e in videoconferenza) per venerdì 16 giugno 2023 alle ore 15\,00 (prima convocazione ore 14\,00) per gli adempimenti statutari propedeutici alla successiva Assemblea dei comuni delle ore 15\,30: \n\nParere sul bilancio consuntivo (rendiconto 2022) e sul bilancio di previsione 2023 di ANCI FVG. L’illustrazione dei documenti contabili sarà curata dalla dott.ssa Troiani (commercialista di ANCI FVG);\nCooptazioni negli organi associativi a seguito di decadenze.
URL:https://anci.fvg.it/evento/consiglio-direttivo-16-giugno/
LOCATION:on line
CATEGORIES:Appuntamenti ANCI FVG
ATTACH;FMTTYPE=image/png:https://anci.fvg.it/wp-content/uploads/2022/11/ancifvg_logo5.png
ORGANIZER;CN="ANCI FVG":MAILTO:info@anci.fvg.it
END:VEVENT
BEGIN:VEVENT
DTSTART;TZID=Europe/Rome:20230616T153000
DTEND;TZID=Europe/Rome:20230616T170000
DTSTAMP:20260423T122816
CREATED:20230615T092144Z
LAST-MODIFIED:20230615T092632Z
UID:42802-1686929400-1686934800@anci.fvg.it
SUMMARY:Assemblea regionale dei Comuni
DESCRIPTION:L’Assemblea regionale dei Comuni del Friuli Venezia Giulia è convocata in modalità mista (in presenza nella Sala Pasolini presso la sede della Regione a Udine e in videoconferenza) per venerdì 16 giugno alle ore 15\,30 (prima convocazione ore 14\,30) con l’o.d.g. che segue: \n\nEsame e approvazione del bilancio consuntivo (rendiconto 2022) di ANCI FVG e deliberazioni conseguenti;\nEsame e approvazione del bilancio di previsione 2023 di ANCI FVG L’illustrazione dei documenti contabili sarà curata dalla dott.ssa Troiani (commercialista di ANCI FVG);\nComunicazioni del Presidente relativamente alle attività svolte da ANCI FVG;\nComPA FVG: illustrazione risultati 2022 – attività 2023;\nElezione Consigliere nazionale ANCI a seguito decadenza;\nVarie ed eventuali.\n\n​
URL:https://anci.fvg.it/evento/assemblea-16-giugno/
LOCATION:on line
CATEGORIES:Appuntamenti ANCI FVG
ATTACH;FMTTYPE=image/png:https://anci.fvg.it/wp-content/uploads/2022/11/ancifvg_logo5.png
ORGANIZER;CN="ANCI FVG":MAILTO:info@anci.fvg.it
END:VEVENT
END:VCALENDAR