BEGIN:VCALENDAR
VERSION:2.0
PRODID:-//Anci FVG - ECPv6.15.12.2//NONSGML v1.0//EN
CALSCALE:GREGORIAN
METHOD:PUBLISH
X-WR-CALNAME:Anci FVG
X-ORIGINAL-URL:https://anci.fvg.it
X-WR-CALDESC:Eventi per Anci FVG
REFRESH-INTERVAL;VALUE=DURATION:PT1H
X-Robots-Tag:noindex
X-PUBLISHED-TTL:PT1H
BEGIN:VTIMEZONE
TZID:Europe/Rome
BEGIN:DAYLIGHT
TZOFFSETFROM:+0100
TZOFFSETTO:+0200
TZNAME:CEST
DTSTART:20230326T010000
END:DAYLIGHT
BEGIN:STANDARD
TZOFFSETFROM:+0200
TZOFFSETTO:+0100
TZNAME:CET
DTSTART:20231029T010000
END:STANDARD
BEGIN:DAYLIGHT
TZOFFSETFROM:+0100
TZOFFSETTO:+0200
TZNAME:CEST
DTSTART:20240331T010000
END:DAYLIGHT
BEGIN:STANDARD
TZOFFSETFROM:+0200
TZOFFSETTO:+0100
TZNAME:CET
DTSTART:20241027T010000
END:STANDARD
BEGIN:DAYLIGHT
TZOFFSETFROM:+0100
TZOFFSETTO:+0200
TZNAME:CEST
DTSTART:20250330T010000
END:DAYLIGHT
BEGIN:STANDARD
TZOFFSETFROM:+0200
TZOFFSETTO:+0100
TZNAME:CET
DTSTART:20251026T010000
END:STANDARD
END:VTIMEZONE
BEGIN:VEVENT
DTSTART;TZID=Europe/Rome:20240919T160000
DTEND;TZID=Europe/Rome:20240919T170000
DTSTAMP:20260420T221242
CREATED:20240916T063419Z
LAST-MODIFIED:20240916T063619Z
UID:50225-1726761600-1726765200@anci.fvg.it
SUMMARY:Ufficio di Presidenza Anci FVG
DESCRIPTION:L’Ufficio di Presidenza è convocato in modalità videoconferenza per giovedì 19 settembre alle ore 16.00 (prima convocazione ore 15\,00).
URL:https://anci.fvg.it/evento/ufficio-di-presidenza-ancifvg/
LOCATION:on line
CATEGORIES:Appuntamenti ANCI FVG
ATTACH;FMTTYPE=image/png:https://anci.fvg.it/wp-content/uploads/2022/11/ancifvg_logo5.png
ORGANIZER;CN="ANCI FVG":MAILTO:info@anci.fvg.it
END:VEVENT
END:VCALENDAR