BEGIN:VCALENDAR
VERSION:2.0
PRODID:-//Anci FVG - ECPv6.15.12.2//NONSGML v1.0//EN
CALSCALE:GREGORIAN
METHOD:PUBLISH
X-ORIGINAL-URL:https://anci.fvg.it
X-WR-CALDESC:Eventi per Anci FVG
REFRESH-INTERVAL;VALUE=DURATION:PT1H
X-Robots-Tag:noindex
X-PUBLISHED-TTL:PT1H
BEGIN:VTIMEZONE
TZID:Europe/Rome
BEGIN:DAYLIGHT
TZOFFSETFROM:+0100
TZOFFSETTO:+0200
TZNAME:CEST
DTSTART:20230326T010000
END:DAYLIGHT
BEGIN:STANDARD
TZOFFSETFROM:+0200
TZOFFSETTO:+0100
TZNAME:CET
DTSTART:20231029T010000
END:STANDARD
BEGIN:DAYLIGHT
TZOFFSETFROM:+0100
TZOFFSETTO:+0200
TZNAME:CEST
DTSTART:20240331T010000
END:DAYLIGHT
BEGIN:STANDARD
TZOFFSETFROM:+0200
TZOFFSETTO:+0100
TZNAME:CET
DTSTART:20241027T010000
END:STANDARD
BEGIN:DAYLIGHT
TZOFFSETFROM:+0100
TZOFFSETTO:+0200
TZNAME:CEST
DTSTART:20250330T010000
END:DAYLIGHT
BEGIN:STANDARD
TZOFFSETFROM:+0200
TZOFFSETTO:+0100
TZNAME:CET
DTSTART:20251026T010000
END:STANDARD
END:VTIMEZONE
BEGIN:VEVENT
DTSTART;TZID=Europe/Rome:20241211T153000
DTEND;TZID=Europe/Rome:20241211T170000
DTSTAMP:20260420T171906
CREATED:20241206T105228Z
LAST-MODIFIED:20241206T105538Z
UID:52222-1733931000-1733936400@anci.fvg.it
SUMMARY:Ufficio di Presidenza Anci FVG
DESCRIPTION:L’Ufficio di Presidenza è convocato per mercoledì 11 dicembre alle ore 15.30 (prima convocazione ore 14\,30) presso la sede associativa di Udine.
URL:https://anci.fvg.it/evento/ufficio-di-presidenza-ancifvg-11-dicembre/
LOCATION:SEDE ANCI FVG\, Piazza XX Settembre\, 2\, Udine
CATEGORIES:Appuntamenti ANCI FVG
ATTACH;FMTTYPE=image/png:https://anci.fvg.it/wp-content/uploads/2022/11/ancifvg_logo5.png
ORGANIZER;CN="ANCI FVG":MAILTO:info@anci.fvg.it
END:VEVENT
BEGIN:VEVENT
DTSTART;TZID=Europe/Rome:20241218T140000
DTEND;TZID=Europe/Rome:20241218T153000
DTSTAMP:20260420T171906
CREATED:20241213T111851Z
LAST-MODIFIED:20241213T112357Z
UID:52328-1734530400-1734535800@anci.fvg.it
SUMMARY:Consiglio direttivo ANCI FVG
DESCRIPTION:Il Consiglio direttivo è convocato per mercoledì 18 dicembre 2024 nella Sala Pasolini presso la Sede della Regione a Udine. \nL’odg prevede\, fra gli altri\, l’audizione del Difensore civico regionale dott. Arrigo De Pauli\, l’intervento della dott.ssa Cristina Lambiase referente del progetto Italea per il FVG\, l’illustrazione dei temi e la raccolta delle adesioni per i dipartimenti di Anci Fvg\, nonché le comunicazioni del Presidente relative all’attività di supporto ai Comuni della Fondazione ComPA FVG per l’anno 2025. \n 
URL:https://anci.fvg.it/evento/consiglio-direttivo-18-dicembre-2024/
LOCATION:Sala Pasolini\, Via Sabbadini 31\, Udine
CATEGORIES:Appuntamenti ANCI FVG
ATTACH;FMTTYPE=image/jpeg:https://anci.fvg.it/wp-content/uploads/2024/02/ancifvg-1.jpeg
ORGANIZER;CN="ANCI FVG":MAILTO:info@anci.fvg.it
END:VEVENT
END:VCALENDAR