BEGIN:VCALENDAR
VERSION:2.0
PRODID:-//Anci FVG - ECPv6.15.12.2//NONSGML v1.0//EN
CALSCALE:GREGORIAN
METHOD:PUBLISH
X-ORIGINAL-URL:https://anci.fvg.it
X-WR-CALDESC:Eventi per Anci FVG
REFRESH-INTERVAL;VALUE=DURATION:PT1H
X-Robots-Tag:noindex
X-PUBLISHED-TTL:PT1H
BEGIN:VTIMEZONE
TZID:Europe/Rome
BEGIN:DAYLIGHT
TZOFFSETFROM:+0100
TZOFFSETTO:+0200
TZNAME:CEST
DTSTART:20240331T010000
END:DAYLIGHT
BEGIN:STANDARD
TZOFFSETFROM:+0200
TZOFFSETTO:+0100
TZNAME:CET
DTSTART:20241027T010000
END:STANDARD
BEGIN:DAYLIGHT
TZOFFSETFROM:+0100
TZOFFSETTO:+0200
TZNAME:CEST
DTSTART:20250330T010000
END:DAYLIGHT
BEGIN:STANDARD
TZOFFSETFROM:+0200
TZOFFSETTO:+0100
TZNAME:CET
DTSTART:20251026T010000
END:STANDARD
BEGIN:DAYLIGHT
TZOFFSETFROM:+0100
TZOFFSETTO:+0200
TZNAME:CEST
DTSTART:20260329T010000
END:DAYLIGHT
BEGIN:STANDARD
TZOFFSETFROM:+0200
TZOFFSETTO:+0100
TZNAME:CET
DTSTART:20261025T010000
END:STANDARD
END:VTIMEZONE
BEGIN:VEVENT
DTSTART;TZID=Europe/Rome:20250122T153000
DTEND;TZID=Europe/Rome:20250122T170000
DTSTAMP:20260420T153826
CREATED:20250116T125146Z
LAST-MODIFIED:20250128T071855Z
UID:52546-1737559800-1737565200@anci.fvg.it
SUMMARY:Ufficio di Presidenza Anci FVG
DESCRIPTION:L’Ufficio di Presidenza è convocato per mercoledì 22 gennaio 2025 alle ore 15.30 (prima convocazione ore 14\,30) in modalità mista\, presso la sede associativa di Udine e online.
URL:https://anci.fvg.it/evento/ufficio-di-presidenza-ancifvg-22-gennaio/
LOCATION:SEDE ANCI FVG\, Piazza XX Settembre\, 2\, Udine
CATEGORIES:Appuntamenti ANCI FVG
ATTACH;FMTTYPE=image/png:https://anci.fvg.it/wp-content/uploads/2025/01/thumbnail_anci_flavicon1000.png
ORGANIZER;CN="ANCI FVG":MAILTO:info@anci.fvg.it
END:VEVENT
BEGIN:VEVENT
DTSTART;TZID=Europe/Rome:20250129T153000
DTEND;TZID=Europe/Rome:20250129T173000
DTSTAMP:20260420T153826
CREATED:20250128T071920Z
LAST-MODIFIED:20250403T064329Z
UID:52947-1738164600-1738171800@anci.fvg.it
SUMMARY:Consiglio direttivo ANCI FVG
DESCRIPTION:Il Presidente Dorino Favot ha convocato il Consiglio direttivo per mercoledì 29 gennaio 2025 nella sede associativa a Udine. \nL’odg prevede\, fra gli altri\, comunicazioni relative alla cabina di regia Anci-Regione sui criteri di accesso per i servizi di ComPA FVG; la definizione del percorso congressuale regionale di Anci Giovani; gli indirizzi di attività per i piccoli Comuni e l’insediamento dei dipartimenti ANCI FVG.
URL:https://anci.fvg.it/evento/consiglio-direttivo-29-gennaio/
LOCATION:SEDE ANCI FVG\, Piazza XX Settembre\, 2\, Udine
CATEGORIES:Appuntamenti ANCI FVG
ATTACH;FMTTYPE=image/png:https://anci.fvg.it/wp-content/uploads/2025/01/thumbnail_anci_flavicon1000.png
ORGANIZER;CN="ANCI FVG":MAILTO:info@anci.fvg.it
END:VEVENT
END:VCALENDAR