BEGIN:VCALENDAR
VERSION:2.0
PRODID:-//Anci FVG - ECPv6.15.12.2//NONSGML v1.0//EN
CALSCALE:GREGORIAN
METHOD:PUBLISH
X-ORIGINAL-URL:https://anci.fvg.it
X-WR-CALDESC:Eventi per Anci FVG
REFRESH-INTERVAL;VALUE=DURATION:PT1H
X-Robots-Tag:noindex
X-PUBLISHED-TTL:PT1H
BEGIN:VTIMEZONE
TZID:Europe/Rome
BEGIN:DAYLIGHT
TZOFFSETFROM:+0100
TZOFFSETTO:+0200
TZNAME:CEST
DTSTART:20240331T010000
END:DAYLIGHT
BEGIN:STANDARD
TZOFFSETFROM:+0200
TZOFFSETTO:+0100
TZNAME:CET
DTSTART:20241027T010000
END:STANDARD
BEGIN:DAYLIGHT
TZOFFSETFROM:+0100
TZOFFSETTO:+0200
TZNAME:CEST
DTSTART:20250330T010000
END:DAYLIGHT
BEGIN:STANDARD
TZOFFSETFROM:+0200
TZOFFSETTO:+0100
TZNAME:CET
DTSTART:20251026T010000
END:STANDARD
BEGIN:DAYLIGHT
TZOFFSETFROM:+0100
TZOFFSETTO:+0200
TZNAME:CEST
DTSTART:20260329T010000
END:DAYLIGHT
BEGIN:STANDARD
TZOFFSETFROM:+0200
TZOFFSETTO:+0100
TZNAME:CET
DTSTART:20261025T010000
END:STANDARD
END:VTIMEZONE
BEGIN:VEVENT
DTSTART;TZID=Europe/Rome:20250402T143000
DTEND;TZID=Europe/Rome:20250402T170000
DTSTAMP:20260420T105304
CREATED:20250401T063844Z
LAST-MODIFIED:20250403T064157Z
UID:54791-1743604200-1743613200@anci.fvg.it
SUMMARY:Consiglio direttivo ANCI FVG
DESCRIPTION:Il Presidente Dorino Favot ha convocato il Consiglio direttivo per mercoledì 2 aprile 2025 nella sede della Regione a Udine. \nI lavori prevedono\, fra gli altri un incontro con i rappresentanti del Ditedi per la presentazione del progetto “Ai climate change” e del\nBanco alimentare per l’illustrazione dell’attività in Friuli Venezia Giulia.
URL:https://anci.fvg.it/evento/consiglio-direttivo-2aprile/
LOCATION:Sala Pasolini\, Palazzo della Regione Friuli Venezia Giulia\, Via Sabbadini n. 31\, Udine
CATEGORIES:Appuntamenti ANCI FVG
ATTACH;FMTTYPE=image/png:https://anci.fvg.it/wp-content/uploads/2025/01/thumbnail_anci_flavicon1000.png
ORGANIZER;CN="ANCI FVG":MAILTO:info@anci.fvg.it
END:VEVENT
BEGIN:VEVENT
DTSTART;TZID=Europe/Rome:20250416T150000
DTEND;TZID=Europe/Rome:20250416T163000
DTSTAMP:20260420T105304
CREATED:20250414T142725Z
LAST-MODIFIED:20250414T142832Z
UID:55153-1744815600-1744821000@anci.fvg.it
SUMMARY:Ufficio di Presidenza Anci FVG
DESCRIPTION:L’Ufficio di Presidenza è convocato per mercoledì 16 aprile 2025 alle ore 15.00 (prima convocazione ore 14\,00) in modalità mista\, presso la sede associativa di Udine e online.
URL:https://anci.fvg.it/evento/ufficio-di-presidenza-ancifvg-16aprile/
LOCATION:SEDE ANCI FVG\, Piazza XX Settembre\, 2\, Udine
CATEGORIES:Appuntamenti ANCI FVG
ATTACH;FMTTYPE=image/png:https://anci.fvg.it/wp-content/uploads/2025/01/thumbnail_anci_flavicon1000.png
ORGANIZER;CN="ANCI FVG":MAILTO:info@anci.fvg.it
END:VEVENT
BEGIN:VEVENT
DTSTART;TZID=Europe/Rome:20250423T153000
DTEND;TZID=Europe/Rome:20250423T170000
DTSTAMP:20260420T105304
CREATED:20250516T121507Z
LAST-MODIFIED:20250516T122020Z
UID:55746-1745422200-1745427600@anci.fvg.it
SUMMARY:Consiglio direttivo ANCI FVG straordinario
DESCRIPTION:La vicenda di Preone sta suscitando comprensibile preoccupazione e disagio tra le comunità del Friuli Venezia Giulia. \nRitenendo opportuno e doveroso un confronto sul delicato tema della responsabilità del Sindaco\, nonché sull’urgente necessità di trovare regole nuove e condivise per garantire serenità all’azione degli Amministratori\, è convocata una riunione straordinaria del Consiglio direttivo di ANCI FVG (aperta a tutti i Sindaci) per MERCOLEDì 23 APRILE 2025 ALLE ORE 15.30 PRESSO LA SEDE DELLA REGIONE FVG DI UDINE (SALA PASOLINI). \nPer garantire la partecipazione del maggior numero possibile di Sindaci\, visto il numero limitato di posti\, sarà possibile anche la partecipazione da remoto.
URL:https://anci.fvg.it/evento/consiglio-direttivo-anci-fvg-straordinario/
LOCATION:Sala Pasolini\, Palazzo della Regione Friuli Venezia Giulia\, Via Sabbadini n. 31\, Udine
CATEGORIES:Appuntamenti ANCI FVG
ATTACH;FMTTYPE=image/png:https://anci.fvg.it/wp-content/uploads/2025/01/thumbnail_anci_flavicon1000.png
ORGANIZER;CN="ANCI FVG":MAILTO:info@anci.fvg.it
END:VEVENT
END:VCALENDAR