BEGIN:VCALENDAR
VERSION:2.0
PRODID:-//Anci FVG - ECPv6.15.12.2//NONSGML v1.0//EN
CALSCALE:GREGORIAN
METHOD:PUBLISH
X-ORIGINAL-URL:https://anci.fvg.it
X-WR-CALDESC:Eventi per Anci FVG
REFRESH-INTERVAL;VALUE=DURATION:PT1H
X-Robots-Tag:noindex
X-PUBLISHED-TTL:PT1H
BEGIN:VTIMEZONE
TZID:Europe/Rome
BEGIN:DAYLIGHT
TZOFFSETFROM:+0100
TZOFFSETTO:+0200
TZNAME:CEST
DTSTART:20240331T010000
END:DAYLIGHT
BEGIN:STANDARD
TZOFFSETFROM:+0200
TZOFFSETTO:+0100
TZNAME:CET
DTSTART:20241027T010000
END:STANDARD
BEGIN:DAYLIGHT
TZOFFSETFROM:+0100
TZOFFSETTO:+0200
TZNAME:CEST
DTSTART:20250330T010000
END:DAYLIGHT
BEGIN:STANDARD
TZOFFSETFROM:+0200
TZOFFSETTO:+0100
TZNAME:CET
DTSTART:20251026T010000
END:STANDARD
BEGIN:DAYLIGHT
TZOFFSETFROM:+0100
TZOFFSETTO:+0200
TZNAME:CEST
DTSTART:20260329T010000
END:DAYLIGHT
BEGIN:STANDARD
TZOFFSETFROM:+0200
TZOFFSETTO:+0100
TZNAME:CET
DTSTART:20261025T010000
END:STANDARD
END:VTIMEZONE
BEGIN:VEVENT
DTSTART;TZID=Europe/Rome:20250514T143000
DTEND;TZID=Europe/Rome:20250514T163000
DTSTAMP:20260420T091156
CREATED:20250423T133012Z
LAST-MODIFIED:20250516T121758Z
UID:55744-1747233000-1747240200@anci.fvg.it
SUMMARY:Consiglio direttivo ANCI FVG con Assessore regionale Scoccimarro
DESCRIPTION:Il Consiglio direttivo è convocato in modalità mista (presso la Sala Pasolini nella sede di rappresentanza della Regione a Udine e da remoto) per mercoledì 14 maggio 2025 alle ore 14\,30 (prima convocazione ore 13\,30) per un incontro con l’Assessore regionale Fabio Scoccimarro sui temi della nuova legge regionale n. 2 del 4 marzo 2025 “Norme per l’installazione di impianti a fonti rinnovabili sul territorio regionale”. \n 
URL:https://anci.fvg.it/evento/consiglio-direttivo-anci-fvg-con-assessore-regionale-scoccimarro/
LOCATION:Sala Pasolini\, Palazzo della Regione Friuli Venezia Giulia\, Via Sabbadini n. 31\, Udine
CATEGORIES:Appuntamenti ANCI FVG
ATTACH;FMTTYPE=image/png:https://anci.fvg.it/wp-content/uploads/2025/01/thumbnail_anci_flavicon1000.png
ORGANIZER;CN="ANCI FVG":MAILTO:info@anci.fvg.it
END:VEVENT
BEGIN:VEVENT
DTSTART;TZID=Europe/Rome:20250527T143000
DTEND;TZID=Europe/Rome:20250527T160000
DTSTAMP:20260420T091156
CREATED:20250529T060435Z
LAST-MODIFIED:20250529T060619Z
UID:55918-1748356200-1748361600@anci.fvg.it
SUMMARY:Ufficio di Presidenza Anci FVG
DESCRIPTION:L’Ufficio di Presidenza è convocato per martedì 27 maggio 2025 alle ore 14.30 (prima convocazione ore 13\,30) in modalità mista\, presso la sede associativa di Udine e online.
URL:https://anci.fvg.it/evento/ufficio-di-presidenza-ancifvg-27maggio/
LOCATION:SEDE ANCI FVG\, Piazza XX Settembre\, 2\, Udine
CATEGORIES:Appuntamenti ANCI FVG
ATTACH;FMTTYPE=image/png:https://anci.fvg.it/wp-content/uploads/2025/01/thumbnail_anci_flavicon1000.png
ORGANIZER;CN="ANCI FVG":MAILTO:info@anci.fvg.it
END:VEVENT
END:VCALENDAR